BEGIN:VCALENDAR
VERSION:2.0
PRODID:-//TalkDeath - ECPv6.15.19//NONSGML v1.0//EN
CALSCALE:GREGORIAN
METHOD:PUBLISH
X-ORIGINAL-URL:https://www.talkdeath.com
X-WR-CALDESC:Events for TalkDeath
REFRESH-INTERVAL;VALUE=DURATION:PT1H
X-Robots-Tag:noindex
X-PUBLISHED-TTL:PT1H
BEGIN:VTIMEZONE
TZID:America/Toronto
BEGIN:DAYLIGHT
TZOFFSETFROM:-0500
TZOFFSETTO:-0400
TZNAME:EDT
DTSTART:20240310T070000
END:DAYLIGHT
BEGIN:STANDARD
TZOFFSETFROM:-0400
TZOFFSETTO:-0500
TZNAME:EST
DTSTART:20241103T060000
END:STANDARD
BEGIN:DAYLIGHT
TZOFFSETFROM:-0500
TZOFFSETTO:-0400
TZNAME:EDT
DTSTART:20250309T070000
END:DAYLIGHT
BEGIN:STANDARD
TZOFFSETFROM:-0400
TZOFFSETTO:-0500
TZNAME:EST
DTSTART:20251102T060000
END:STANDARD
BEGIN:DAYLIGHT
TZOFFSETFROM:-0500
TZOFFSETTO:-0400
TZNAME:EDT
DTSTART:20260308T070000
END:DAYLIGHT
BEGIN:STANDARD
TZOFFSETFROM:-0400
TZOFFSETTO:-0500
TZNAME:EST
DTSTART:20261101T060000
END:STANDARD
END:VTIMEZONE
BEGIN:VTIMEZONE
TZID:Europe/Madrid
BEGIN:DAYLIGHT
TZOFFSETFROM:+0100
TZOFFSETTO:+0200
TZNAME:CEST
DTSTART:20240331T010000
END:DAYLIGHT
BEGIN:STANDARD
TZOFFSETFROM:+0200
TZOFFSETTO:+0100
TZNAME:CET
DTSTART:20241027T010000
END:STANDARD
BEGIN:DAYLIGHT
TZOFFSETFROM:+0100
TZOFFSETTO:+0200
TZNAME:CEST
DTSTART:20250330T010000
END:DAYLIGHT
BEGIN:STANDARD
TZOFFSETFROM:+0200
TZOFFSETTO:+0100
TZNAME:CET
DTSTART:20251026T010000
END:STANDARD
BEGIN:DAYLIGHT
TZOFFSETFROM:+0100
TZOFFSETTO:+0200
TZNAME:CEST
DTSTART:20260329T010000
END:DAYLIGHT
BEGIN:STANDARD
TZOFFSETFROM:+0200
TZOFFSETTO:+0100
TZNAME:CET
DTSTART:20261025T010000
END:STANDARD
END:VTIMEZONE
BEGIN:VEVENT
DTSTART;TZID=America/Toronto:20250418T233000
DTEND;TZID=America/Toronto:20250525T233000
DTSTAMP:20260422T133302
CREATED:20250418T201405Z
LAST-MODIFIED:20250418T201405Z
UID:10000212-1745019000-1748215800@www.talkdeath.com
SUMMARY:Mortem: Death School for Artists
DESCRIPTION:Mortem is an intensive online research residency for artists to pursue our curiosity of death\, mortality and mourning practices over ten days in November. \nWhile on residency with the Biophilium artists interact with a range of death experts. Mortem offers a forum to learn about human and non-human death practices directly from international end of life and death care professionals\, historians\, funeral industry workers\, biologists\, green burial advocates and artists on a range of death related topics and several short one on one meetings with artists who make work about death around the world. \nThis research fellowship supports artists while they explore and develop their identities as death-curious artists\, address extinction and environmental grief\, and develop new creative ways to acknowledge mortality and to renegotiate our relationships with the dead.\nAccepting applications until May 25th
URL:https://www.talkdeath.com/event/mortem-death-school-for-artists/
LOCATION:The Biophilium\, The\, Ottawa\, Ontario\, Canada
CATEGORIES:Arts and Culture
ATTACH;FMTTYPE=image/jpeg:https://www.talkdeath.com/wp-content/uploads/2025/04/DEATH-STONE-copy.jpg
ORGANIZER;CN="The Biophilium":MAILTO:artlovesscience@gmail.com
END:VEVENT
BEGIN:VEVENT
DTSTART;TZID=Europe/Madrid:20250525T113000
DTEND;TZID=Europe/Madrid:20250525T140000
DTSTAMP:20260422T133302
CREATED:20250507T144026Z
LAST-MODIFIED:20250507T144026Z
UID:10000410-1748172600-1748181600@www.talkdeath.com
SUMMARY:Tour Almudena Cemetery (East Cemetery of Madrid)
DESCRIPTION:From @entretumbas (IG)\, in collaboration with Experimenta Madrid\, we organize these guided tours of the Almudena Cemetery\, whose real name is the Necropolis of the East of Madrid. It is the largest cemetery in Western Europe (120 hectares\, 120 times the size of the Santiago Bernabeu stadium!) During our tours\, we learn about the history of the cemetery\, so closely linked to that of our city. We visit the tombs of historical figures and other anonymous but highly interesting graves. We also learn funerary symbolism to understand the language of the cemetery. All with a gender perspective\, positive death\, and historical memory.
URL:https://www.talkdeath.com/event/tour-almudena-cemetery-east-cemetery-of-madrid/
LOCATION:Almudena Cemetery of Madrid\, Avenida Daroca nº90º\, Madrid\, Madrid\, 28017\, Spain
CATEGORIES:Cemetery,Tour
ATTACH;FMTTYPE=image/jpeg:https://www.talkdeath.com/wp-content/uploads/2025/05/Copia-de-tour-2024-2.jpg
ORGANIZER;CN="Entretumbas":MAILTO:soyentretumbas@gmail.com
END:VEVENT
END:VCALENDAR