BEGIN:VCALENDAR
VERSION:2.0
PRODID:-//TalkDeath - ECPv6.15.19//NONSGML v1.0//EN
CALSCALE:GREGORIAN
METHOD:PUBLISH
X-ORIGINAL-URL:https://www.talkdeath.com
X-WR-CALDESC:Events for TalkDeath
REFRESH-INTERVAL;VALUE=DURATION:PT1H
X-Robots-Tag:noindex
X-PUBLISHED-TTL:PT1H
BEGIN:VTIMEZONE
TZID:America/Toronto
BEGIN:DAYLIGHT
TZOFFSETFROM:-0500
TZOFFSETTO:-0400
TZNAME:EDT
DTSTART:20240310T070000
END:DAYLIGHT
BEGIN:STANDARD
TZOFFSETFROM:-0400
TZOFFSETTO:-0500
TZNAME:EST
DTSTART:20241103T060000
END:STANDARD
BEGIN:DAYLIGHT
TZOFFSETFROM:-0500
TZOFFSETTO:-0400
TZNAME:EDT
DTSTART:20250309T070000
END:DAYLIGHT
BEGIN:STANDARD
TZOFFSETFROM:-0400
TZOFFSETTO:-0500
TZNAME:EST
DTSTART:20251102T060000
END:STANDARD
BEGIN:DAYLIGHT
TZOFFSETFROM:-0500
TZOFFSETTO:-0400
TZNAME:EDT
DTSTART:20260308T070000
END:DAYLIGHT
BEGIN:STANDARD
TZOFFSETFROM:-0400
TZOFFSETTO:-0500
TZNAME:EST
DTSTART:20261101T060000
END:STANDARD
END:VTIMEZONE
BEGIN:VTIMEZONE
TZID:America/Denver
BEGIN:DAYLIGHT
TZOFFSETFROM:-0700
TZOFFSETTO:-0600
TZNAME:MDT
DTSTART:20240310T090000
END:DAYLIGHT
BEGIN:STANDARD
TZOFFSETFROM:-0600
TZOFFSETTO:-0700
TZNAME:MST
DTSTART:20241103T080000
END:STANDARD
BEGIN:DAYLIGHT
TZOFFSETFROM:-0700
TZOFFSETTO:-0600
TZNAME:MDT
DTSTART:20250309T090000
END:DAYLIGHT
BEGIN:STANDARD
TZOFFSETFROM:-0600
TZOFFSETTO:-0700
TZNAME:MST
DTSTART:20251102T080000
END:STANDARD
BEGIN:DAYLIGHT
TZOFFSETFROM:-0700
TZOFFSETTO:-0600
TZNAME:MDT
DTSTART:20260308T090000
END:DAYLIGHT
BEGIN:STANDARD
TZOFFSETFROM:-0600
TZOFFSETTO:-0700
TZNAME:MST
DTSTART:20261101T080000
END:STANDARD
END:VTIMEZONE
BEGIN:VEVENT
DTSTART;TZID=America/Toronto:20250528T130000
DTEND;TZID=America/Toronto:20250528T160000
DTSTAMP:20260422T023533
CREATED:20250510T140240Z
LAST-MODIFIED:20250510T140240Z
UID:10000414-1748437200-1748448000@www.talkdeath.com
SUMMARY:Pushing Up Daisies Death Fair
DESCRIPTION:Open to the community to come and talk with area agencies and individual about death\, dying\, and bereavement and which supports may help. There will be booths of information\, prize draws\, and snacks/drinks will be provided.\nThere will be two speakers well versed in death topics\, being a Death Doula\, and Advanced Care Planning.
URL:https://www.talkdeath.com/event/pushing-up-daisies-death-fair/
LOCATION:Rainycrest LTC\, 550 Osborne St\, Fort Frances\, ON\, P9A3V7\, Canada
CATEGORIES:Community Meet Up
END:VEVENT
BEGIN:VEVENT
DTSTART;TZID=America/Denver:20250528T180000
DTEND;TZID=America/Denver:20250528T200000
DTSTAMP:20260422T023533
CREATED:20250515T132749Z
LAST-MODIFIED:20250515T132749Z
UID:10000415-1748455200-1748462400@www.talkdeath.com
SUMMARY:Death Cafe
DESCRIPTION:The Lotus Center Death Cafe is open to the public and typically consists of an agenda-free discussion of death . Our objective will be to increase awareness of death with a view to helping people make the most of their (finite) lives. Dinner will be served. \nAll ages welcome. This is a safe\, judgement-free\, no-fixing zone. Every belief is welcome.
URL:https://www.talkdeath.com/event/death-cafe-4/2025-05-28/
LOCATION:The Lotus Center\, 4376 South 700 East #200\, Millcreek\, UT\, 84124\, United States
CATEGORIES:Death Cafe
END:VEVENT
END:VCALENDAR