BEGIN:VCALENDAR
VERSION:2.0
PRODID:-//TalkDeath - ECPv6.15.19//NONSGML v1.0//EN
CALSCALE:GREGORIAN
METHOD:PUBLISH
X-ORIGINAL-URL:https://www.talkdeath.com
X-WR-CALDESC:Events for TalkDeath
REFRESH-INTERVAL;VALUE=DURATION:PT1H
X-Robots-Tag:noindex
X-PUBLISHED-TTL:PT1H
BEGIN:VTIMEZONE
TZID:America/Toronto
BEGIN:DAYLIGHT
TZOFFSETFROM:-0500
TZOFFSETTO:-0400
TZNAME:EDT
DTSTART:20240310T070000
END:DAYLIGHT
BEGIN:STANDARD
TZOFFSETFROM:-0400
TZOFFSETTO:-0500
TZNAME:EST
DTSTART:20241103T060000
END:STANDARD
BEGIN:DAYLIGHT
TZOFFSETFROM:-0500
TZOFFSETTO:-0400
TZNAME:EDT
DTSTART:20250309T070000
END:DAYLIGHT
BEGIN:STANDARD
TZOFFSETFROM:-0400
TZOFFSETTO:-0500
TZNAME:EST
DTSTART:20251102T060000
END:STANDARD
BEGIN:DAYLIGHT
TZOFFSETFROM:-0500
TZOFFSETTO:-0400
TZNAME:EDT
DTSTART:20260308T070000
END:DAYLIGHT
BEGIN:STANDARD
TZOFFSETFROM:-0400
TZOFFSETTO:-0500
TZNAME:EST
DTSTART:20261101T060000
END:STANDARD
END:VTIMEZONE
BEGIN:VEVENT
DTSTART;TZID=America/Toronto:20250604T180000
DTEND;TZID=America/Toronto:20250604T200000
DTSTAMP:20260422T192412
CREATED:20250507T143927Z
LAST-MODIFIED:20250507T143927Z
UID:10000408-1749060000-1749067200@www.talkdeath.com
SUMMARY:Sand Bay Death Cafe
DESCRIPTION:Excited to announce the Sand Bay Death Cafe Summer Series\, the first Wednesday of the month in June\, July and August\, 6-8pm at the Cosy Cafe on Beach Road. Join us for drinks\, cake and an exploration of what it means to live in the light of our mortality. \nYes\, the topic of death can feel heavy\, even a little taboo. But opening up and talking about the things that scare us can often bring us peace and direction in ways we may never have expected. Many find that talking about death eases the fear and mystery of it. \nDeath Cafes happen in towns and cities around the world\, creating space for genuine\, unhurried discussion about our mortality…a topic that touches all our lives\, yet rarely finds its way into everyday conversation. \nThis isn’t a grief support group or educational seminar. Instead\, we offer a comfortable space where people from all walks of life can share their thoughts about death and dying\, ask questions\, gain new perspectives and reflect on what makes life meaningful. \nHow it works: Conversation prompts will be available\, but there will be no formal direction. Discussions take place with strangers in small groups over a drink and cake…it’s very relaxed and you can add to the conversation or just listen. \nBe brave and join us! Come to one\, or all three sessions. The venue is accessible\, all welcome.
URL:https://www.talkdeath.com/event/sand-bay-death-cafe-2/
LOCATION:Sand Bay Cosy Cafe\, Crookes Lane\, Kewstoke\, North Somerset\, BS22 9XB\, United Kingdom
CATEGORIES:Death Cafe
ATTACH;FMTTYPE=image/png:https://www.talkdeath.com/wp-content/uploads/2025/05/Sand-Bay-Death-Cafe-Summer-Series-2025-Instagram-Post-45_20250505_182535_0000.png
END:VEVENT
END:VCALENDAR