BEGIN:VCALENDAR
VERSION:2.0
PRODID:-//TalkDeath - ECPv6.15.19//NONSGML v1.0//EN
CALSCALE:GREGORIAN
METHOD:PUBLISH
X-ORIGINAL-URL:https://www.talkdeath.com
X-WR-CALDESC:Events for TalkDeath
REFRESH-INTERVAL;VALUE=DURATION:PT1H
X-Robots-Tag:noindex
X-PUBLISHED-TTL:PT1H
BEGIN:VTIMEZONE
TZID:America/Toronto
BEGIN:DAYLIGHT
TZOFFSETFROM:-0500
TZOFFSETTO:-0400
TZNAME:EDT
DTSTART:20240310T070000
END:DAYLIGHT
BEGIN:STANDARD
TZOFFSETFROM:-0400
TZOFFSETTO:-0500
TZNAME:EST
DTSTART:20241103T060000
END:STANDARD
BEGIN:DAYLIGHT
TZOFFSETFROM:-0500
TZOFFSETTO:-0400
TZNAME:EDT
DTSTART:20250309T070000
END:DAYLIGHT
BEGIN:STANDARD
TZOFFSETFROM:-0400
TZOFFSETTO:-0500
TZNAME:EST
DTSTART:20251102T060000
END:STANDARD
BEGIN:DAYLIGHT
TZOFFSETFROM:-0500
TZOFFSETTO:-0400
TZNAME:EDT
DTSTART:20260308T070000
END:DAYLIGHT
BEGIN:STANDARD
TZOFFSETFROM:-0400
TZOFFSETTO:-0500
TZNAME:EST
DTSTART:20261101T060000
END:STANDARD
END:VTIMEZONE
BEGIN:VEVENT
DTSTART;TZID=America/Toronto:20250608T140000
DTEND;TZID=America/Toronto:20250608T153000
DTSTAMP:20260422T072003
CREATED:20250521T134845Z
LAST-MODIFIED:20250528T181518Z
UID:10000543-1749391200-1749396600@www.talkdeath.com
SUMMARY:Mount Moriah Death Cafe
DESCRIPTION:A Death Cafe is an agenda free discussion about death. This is not a grief or “how to” group. It is event where people drink tea\, eat cake and talk about death.
URL:https://www.talkdeath.com/event/mount-moriah-death-cafe-2/
LOCATION:Mount Moriah Cemetery & Arboretum\, 6201 Kingsessing Ave\, Philadelphia\, PA\, 19142\, United States
CATEGORIES:Death Cafe
ORGANIZER;CN="Friends of Mount Moriah Cemetery":MAILTO:Info@fommci.org
END:VEVENT
END:VCALENDAR