BEGIN:VCALENDAR
VERSION:2.0
PRODID:-//TalkDeath - ECPv6.15.19//NONSGML v1.0//EN
CALSCALE:GREGORIAN
METHOD:PUBLISH
X-ORIGINAL-URL:https://www.talkdeath.com
X-WR-CALDESC:Events for TalkDeath
REFRESH-INTERVAL;VALUE=DURATION:PT1H
X-Robots-Tag:noindex
X-PUBLISHED-TTL:PT1H
BEGIN:VTIMEZONE
TZID:America/New_York
BEGIN:DAYLIGHT
TZOFFSETFROM:-0500
TZOFFSETTO:-0400
TZNAME:EDT
DTSTART:20240310T070000
END:DAYLIGHT
BEGIN:STANDARD
TZOFFSETFROM:-0400
TZOFFSETTO:-0500
TZNAME:EST
DTSTART:20241103T060000
END:STANDARD
BEGIN:DAYLIGHT
TZOFFSETFROM:-0500
TZOFFSETTO:-0400
TZNAME:EDT
DTSTART:20250309T070000
END:DAYLIGHT
BEGIN:STANDARD
TZOFFSETFROM:-0400
TZOFFSETTO:-0500
TZNAME:EST
DTSTART:20251102T060000
END:STANDARD
BEGIN:DAYLIGHT
TZOFFSETFROM:-0500
TZOFFSETTO:-0400
TZNAME:EDT
DTSTART:20260308T070000
END:DAYLIGHT
BEGIN:STANDARD
TZOFFSETFROM:-0400
TZOFFSETTO:-0500
TZNAME:EST
DTSTART:20261101T060000
END:STANDARD
END:VTIMEZONE
BEGIN:VTIMEZONE
TZID:America/Toronto
BEGIN:DAYLIGHT
TZOFFSETFROM:-0500
TZOFFSETTO:-0400
TZNAME:EDT
DTSTART:20240310T070000
END:DAYLIGHT
BEGIN:STANDARD
TZOFFSETFROM:-0400
TZOFFSETTO:-0500
TZNAME:EST
DTSTART:20241103T060000
END:STANDARD
BEGIN:DAYLIGHT
TZOFFSETFROM:-0500
TZOFFSETTO:-0400
TZNAME:EDT
DTSTART:20250309T070000
END:DAYLIGHT
BEGIN:STANDARD
TZOFFSETFROM:-0400
TZOFFSETTO:-0500
TZNAME:EST
DTSTART:20251102T060000
END:STANDARD
BEGIN:DAYLIGHT
TZOFFSETFROM:-0500
TZOFFSETTO:-0400
TZNAME:EDT
DTSTART:20260308T070000
END:DAYLIGHT
BEGIN:STANDARD
TZOFFSETFROM:-0400
TZOFFSETTO:-0500
TZNAME:EST
DTSTART:20261101T060000
END:STANDARD
END:VTIMEZONE
BEGIN:VEVENT
DTSTART;VALUE=DATE:20250626
DTEND;VALUE=DATE:20250630
DTSTAMP:20260422T192702
CREATED:20250401T150506Z
LAST-MODIFIED:20250401T150506Z
UID:10000014-1750896000-1751241599@www.talkdeath.com
SUMMARY:2025 FCA Biennial Conference - The Cost of Goodbye: Confronting Funeral Poverty in Our Communities
DESCRIPTION:The Funeral Consumers Alliance (FCA) invites you to join us for our 2025 Biennial Conference: “The Cost of Goodbye: Confronting Funeral Poverty in Our Communities\,” a gathering that addresses the urgent challenges of funeral poverty and indigent burial. Taking place from June 26–29\, 2025\, this event brings together experts\, advocates\, and community leaders committed to ensuring equitable access to end-of-life care and services. \nKeynote & Featured Speakers\nWe are honored to welcome Pamela Prickett\, co-author of The Unclaimed: Abandonment and Hope in the City of Angels\, as our keynote speaker. Her work delves into the lives of those left behind by traditional systems of support\, offering insights that resonate deeply with our mission. \nOther confirmed speakers include:\nJoyal Mulheron (Evermore)\nVictoria Haneman (University of Georgia School of Law)\nMel Bennett (Life Forest Cemetery)\nSarah Chavez (The Order of the Good Death)\nLiz Dunnebacke (WAKE)\nIsabel Knight (National Home Funeral Alliance)\nSara Williams (FCA)\nMiranda Panther (NAGPRA Officer\, Eastern Band of Cherokee Indians)\nDianna Repp (FCA)\nCharlotte Seto (Handled Milestones) \nThe event will also include a tour of Tour of Endswell Funeral Home’s alkaline hydrolysis facility and a tour of\nBluestem Conservation Cemetery. Please see our website for more details.
URL:https://www.talkdeath.com/event/2025-fca-biennial-conference-the-cost-of-goodbye-confronting-funeral-poverty-in-our-communities/
LOCATION:Embassy Suites by Hilton – Raleigh Durham Research Triangle\, 201 Harrison Oaks Boulevard\, Cary\, NC\, 27513\, United States
CATEGORIES:Cemetery,Conference,Education,Funeral,Green Burial,Tour
ATTACH;FMTTYPE=image/png:https://www.talkdeath.com/wp-content/uploads/2025/04/Final-Register-Today-Conference-promo-_20250317_144116_0000.png
ORGANIZER;CN="Funeral Consumers Alliance":MAILTO:fca@funerals.org
END:VEVENT
BEGIN:VEVENT
DTSTART;VALUE=DATE:20250627
DTEND;VALUE=DATE:20250630
DTSTAMP:20260422T192702
CREATED:20250502T141313Z
LAST-MODIFIED:20250502T141313Z
UID:10000283-1750982400-1751241599@www.talkdeath.com
SUMMARY:Death Midwife Training Iowa City\, Iowa
DESCRIPTION:A 3-day intensive certification covering the function of Death Midwives\, death planning\, grief\, death with dignity\, ceremony & sacred space\, home funerals\, body disposition\, and self care. Training since 2011. We are authorized to issue 23 CEU’s for nurses\, clergy and massage therapists.
URL:https://www.talkdeath.com/event/death-midwife-training-iowa-city-iowa/
LOCATION:KY
CATEGORIES:Education
ATTACH;FMTTYPE=image/jpeg:https://www.talkdeath.com/wp-content/uploads/2025/05/IMG_3552.jpeg
END:VEVENT
BEGIN:VEVENT
DTSTART;TZID=America/New_York:20250628T133000
DTEND;TZID=America/New_York:20250628T150000
DTSTAMP:20260422T192702
CREATED:20250605T144942Z
LAST-MODIFIED:20250605T144942Z
UID:10000548-1751117400-1751122800@www.talkdeath.com
SUMMARY:Ready To Die? – A Comedy Show About End-of-Life Planning
DESCRIPTION:Writer & comedian Alison Zeidman is only in her 30s\, but already she has one Emmy nomination\, one Writer’s Guild Award\, and not just one but TWO dead parents. Impressive! \nAlison’s dad died due to complications stemming from Multiple Myeloma in 2014 when he was just 55\, and her mom was diagnosed with early-onset Alzheimer’s at age 58. Frankly\, looking at that family history\, she does not like her odds for longevity — she needs to start getting her affairs in order\, and so do you. In READY TO DIE?\, Alison will walk you through all the basics of end-of-life planning that you can (and should!) do in advance for yourself and your loved ones\, from pre-planning a funeral to choosing who gets the power to pull the plug. By the end of this show\, you’ll go from “Ready to die?”\, question mark to “Ready to die!!!”\, enthusiastic triple exclamation point! \nAlison Zeidman (writer/performer) is an Emmy-nominated and WGA Award winning writer and comedian who got her start doing stand-up in Philadelphia and NYC. Her comedy is frequently described as “smart\,” but maybe it’s just the glasses. Alison has written for Archer\, Full Frontal with Samantha Bee (Supervising Writer) and Adam Ruins Everything (Head Writer & Co-Executive Producer)\, and her humor writing and essays have appeared in the New York Times and The Daily Beast. \nRyan Cunningham (director) is a queer writer/director and Emmy & Peabody award-winning producer in film\, television\, and theater. Directing credits: Samantha Bee presents Wits End (NYCF\, SXSW)\, Alan Cumming’s Club Cumming Presents a Queer Comedy Extravaganza! (Showtime)\, Ilana Glazer: The Planet is Burning (Amazon)\, Expecting Amy (HBO Max) TV producing credits: Broad City (Comedy Central)\, Search Party (TBS/HBO Max)\, Inside Amy Schumer (Comedy Central)\, The Last O.G. (TBS)\, and Ziwe (Showtime).
URL:https://www.talkdeath.com/event/ready-to-die-a-comedy-show-about-end-of-life-planning/
LOCATION:Caveat NYC\, 21A Clinton Street\, New York\, NY\, 10002\, United States
CATEGORIES:Arts and Culture
ORGANIZER;CN="Alison Zeidman":MAILTO:alison.zeidman@gmail.com
END:VEVENT
END:VCALENDAR