BEGIN:VCALENDAR
VERSION:2.0
PRODID:-//TalkDeath - ECPv6.15.19//NONSGML v1.0//EN
CALSCALE:GREGORIAN
METHOD:PUBLISH
X-ORIGINAL-URL:https://www.talkdeath.com
X-WR-CALDESC:Events for TalkDeath
REFRESH-INTERVAL;VALUE=DURATION:PT1H
X-Robots-Tag:noindex
X-PUBLISHED-TTL:PT1H
BEGIN:VTIMEZONE
TZID:America/Toronto
BEGIN:DAYLIGHT
TZOFFSETFROM:-0500
TZOFFSETTO:-0400
TZNAME:EDT
DTSTART:20240310T070000
END:DAYLIGHT
BEGIN:STANDARD
TZOFFSETFROM:-0400
TZOFFSETTO:-0500
TZNAME:EST
DTSTART:20241103T060000
END:STANDARD
BEGIN:DAYLIGHT
TZOFFSETFROM:-0500
TZOFFSETTO:-0400
TZNAME:EDT
DTSTART:20250309T070000
END:DAYLIGHT
BEGIN:STANDARD
TZOFFSETFROM:-0400
TZOFFSETTO:-0500
TZNAME:EST
DTSTART:20251102T060000
END:STANDARD
BEGIN:DAYLIGHT
TZOFFSETFROM:-0500
TZOFFSETTO:-0400
TZNAME:EDT
DTSTART:20260308T070000
END:DAYLIGHT
BEGIN:STANDARD
TZOFFSETFROM:-0400
TZOFFSETTO:-0500
TZNAME:EST
DTSTART:20261101T060000
END:STANDARD
END:VTIMEZONE
BEGIN:VEVENT
DTSTART;TZID=America/Toronto:20250722T200000
DTEND;TZID=America/Toronto:20250722T213000
DTSTAMP:20260421T231011
CREATED:20250722T152720Z
LAST-MODIFIED:20250722T152720Z
UID:10001423-1753214400-1753219800@www.talkdeath.com
SUMMARY:Online Grief Salon - Body Grief
DESCRIPTION:Online Grief Salons are a safe\, welcoming space to explore your grief among peers. Lead by grief doula\, That Good Night\, these grief salons run 90 minutes and are intended to be a space for peer support and understanding. Tickets are PWYC with a suggested donation of $30.\nThis month’s topic is body grief – this is a specific kind of grief that can occur when you experience changes in your body whether it’s due to illness\, injury\, or ageing. This will be an opportunity to get real about the grief we feel in our changing bodies as we continue to learn to adapt to our new levels of ability.
URL:https://www.talkdeath.com/event/online-grief-salon-body-grief/
LOCATION:KY
CATEGORIES:Death Cafe,Grief Group
ATTACH;FMTTYPE=image/png:https://www.talkdeath.com/wp-content/uploads/2025/07/Body-Grief.png
ORGANIZER;CN="That Good Night":MAILTO:thatgoodnightdoula@gmail.com
END:VEVENT
END:VCALENDAR