BEGIN:VCALENDAR
VERSION:2.0
PRODID:-//TalkDeath - ECPv6.15.19//NONSGML v1.0//EN
CALSCALE:GREGORIAN
METHOD:PUBLISH
X-WR-CALNAME:TalkDeath
X-ORIGINAL-URL:https://www.talkdeath.com
X-WR-CALDESC:Events for TalkDeath
REFRESH-INTERVAL;VALUE=DURATION:PT1H
X-Robots-Tag:noindex
X-PUBLISHED-TTL:PT1H
BEGIN:VTIMEZONE
TZID:Europe/London
BEGIN:DAYLIGHT
TZOFFSETFROM:+0000
TZOFFSETTO:+0100
TZNAME:BST
DTSTART:20240331T010000
END:DAYLIGHT
BEGIN:STANDARD
TZOFFSETFROM:+0100
TZOFFSETTO:+0000
TZNAME:GMT
DTSTART:20241027T010000
END:STANDARD
BEGIN:DAYLIGHT
TZOFFSETFROM:+0000
TZOFFSETTO:+0100
TZNAME:BST
DTSTART:20250330T010000
END:DAYLIGHT
BEGIN:STANDARD
TZOFFSETFROM:+0100
TZOFFSETTO:+0000
TZNAME:GMT
DTSTART:20251026T010000
END:STANDARD
BEGIN:DAYLIGHT
TZOFFSETFROM:+0000
TZOFFSETTO:+0100
TZNAME:BST
DTSTART:20260329T010000
END:DAYLIGHT
BEGIN:STANDARD
TZOFFSETFROM:+0100
TZOFFSETTO:+0000
TZNAME:GMT
DTSTART:20261025T010000
END:STANDARD
END:VTIMEZONE
BEGIN:VEVENT
DTSTART;VALUE=DATE:20250908
DTEND;VALUE=DATE:20250913
DTSTAMP:20260421T200511
CREATED:20250809T152959Z
LAST-MODIFIED:20250809T153008Z
UID:10001436-1757289600-1757721599@www.talkdeath.com
SUMMARY:Willow coffin course
DESCRIPTION:A 5 day immersive course with a small student size\, this course is taught by an experienced professional coffin maker. \nNestled in the stunning Devon hills\, learn willow coffin weaving from award winning Woven Farewell Coffins founder Sophia Campbell-Shaw. \nThis course is perfect for anyone interested in end of life practices or preparation\, no weaving experience is necessary. \nThe course cost includes the finished coffin product.
URL:https://www.talkdeath.com/event/willow-coffin-course/
LOCATION:Woven Farewell Coffins workshop\, Higher Moorlands Farm\, Honiton\, Ex144sy\, United Kingdom
ATTACH;FMTTYPE=image/png:https://www.talkdeath.com/wp-content/uploads/2025/08/inbound7599208659854267617.png
ORGANIZER;CN="Woven Farewell Coffins":MAILTO:Sophia@wovenfarewell.co.uk
END:VEVENT
END:VCALENDAR