BEGIN:VCALENDAR
VERSION:2.0
PRODID:-//TalkDeath - ECPv6.15.19//NONSGML v1.0//EN
CALSCALE:GREGORIAN
METHOD:PUBLISH
X-ORIGINAL-URL:https://www.talkdeath.com
X-WR-CALDESC:Events for TalkDeath
REFRESH-INTERVAL;VALUE=DURATION:PT1H
X-Robots-Tag:noindex
X-PUBLISHED-TTL:PT1H
BEGIN:VTIMEZONE
TZID:America/Toronto
BEGIN:DAYLIGHT
TZOFFSETFROM:-0500
TZOFFSETTO:-0400
TZNAME:EDT
DTSTART:20240310T070000
END:DAYLIGHT
BEGIN:STANDARD
TZOFFSETFROM:-0400
TZOFFSETTO:-0500
TZNAME:EST
DTSTART:20241103T060000
END:STANDARD
BEGIN:DAYLIGHT
TZOFFSETFROM:-0500
TZOFFSETTO:-0400
TZNAME:EDT
DTSTART:20250309T070000
END:DAYLIGHT
BEGIN:STANDARD
TZOFFSETFROM:-0400
TZOFFSETTO:-0500
TZNAME:EST
DTSTART:20251102T060000
END:STANDARD
BEGIN:DAYLIGHT
TZOFFSETFROM:-0500
TZOFFSETTO:-0400
TZNAME:EDT
DTSTART:20260308T070000
END:DAYLIGHT
BEGIN:STANDARD
TZOFFSETFROM:-0400
TZOFFSETTO:-0500
TZNAME:EST
DTSTART:20261101T060000
END:STANDARD
BEGIN:DAYLIGHT
TZOFFSETFROM:-0500
TZOFFSETTO:-0400
TZNAME:EDT
DTSTART:20270314T070000
END:DAYLIGHT
BEGIN:STANDARD
TZOFFSETFROM:-0400
TZOFFSETTO:-0500
TZNAME:EST
DTSTART:20271107T060000
END:STANDARD
END:VTIMEZONE
BEGIN:VTIMEZONE
TZID:America/Los_Angeles
BEGIN:DAYLIGHT
TZOFFSETFROM:-0800
TZOFFSETTO:-0700
TZNAME:PDT
DTSTART:20240310T100000
END:DAYLIGHT
BEGIN:STANDARD
TZOFFSETFROM:-0700
TZOFFSETTO:-0800
TZNAME:PST
DTSTART:20241103T090000
END:STANDARD
BEGIN:DAYLIGHT
TZOFFSETFROM:-0800
TZOFFSETTO:-0700
TZNAME:PDT
DTSTART:20250309T100000
END:DAYLIGHT
BEGIN:STANDARD
TZOFFSETFROM:-0700
TZOFFSETTO:-0800
TZNAME:PST
DTSTART:20251102T090000
END:STANDARD
BEGIN:DAYLIGHT
TZOFFSETFROM:-0800
TZOFFSETTO:-0700
TZNAME:PDT
DTSTART:20260308T100000
END:DAYLIGHT
BEGIN:STANDARD
TZOFFSETFROM:-0700
TZOFFSETTO:-0800
TZNAME:PST
DTSTART:20261101T090000
END:STANDARD
END:VTIMEZONE
BEGIN:VEVENT
DTSTART;TZID=America/Toronto:20250914T183000
DTEND;TZID=America/Toronto:20260125T200000
DTSTAMP:20260421T200750
CREATED:20250828T135042Z
LAST-MODIFIED:20250828T135049Z
UID:10001448-1757874600-1769371200@www.talkdeath.com
SUMMARY:Radical Mindfulness: Why Transforming Fear of Death is Politically Vital book club
DESCRIPTION:Are you interested in how the existential fear of death shapes society? Do you wonder how we can address injustice? Join our weekly online reading group\, Radical Mindfulness\, to explore how mindfulness can serve as a powerful tool for political transformation. Together\, we’ll build a supportive community of care and reflection. Whether you’re seeking connection\, inspiration\, or fresh perspectives\, this space offers an opportunity to learn and grow in solidarity. We meet via Zoom on Sundays. Recordings will be shared after each gathering. \n-Sundays 6:30 to 8pm ET beginning September 14th\n-Free to attend\n-Free PDF of the book from author\, James Rowe\n-Physical copy offered with a 30% discount from Routledge \nThis weekly reading and discussion of Radical Mindfulness will explore the causes of injustice and how to achieve social transformation. Drawing from scholarly literature\, the author suggests the existential fear of death is at the root of oppression\, and that meditation and ritual can be pathways to structural change. \nThis will be different from most book clubs. There is no homework; each week we pick up where we left off and read together. We will pause for questions\, reflections\, clarifications\, as ways to engage the material. We look forward to creating a community of both practice and curiosity. (We estimate 6 months of reading together!)
URL:https://www.talkdeath.com/event/radical-mindfulness-why-transforming-fear-of-death-is-politically-vital-book-club/
LOCATION:KY
CATEGORIES:Virtual
ATTACH;FMTTYPE=image/jpeg:https://www.talkdeath.com/wp-content/uploads/2025/08/810EeSjcWuL._SL1500_.jpg
END:VEVENT
BEGIN:VEVENT
DTSTART;TZID=America/Los_Angeles:20250930T160000
DTEND;TZID=America/Los_Angeles:20250930T170000
DTSTAMP:20260421T200750
CREATED:20250812T122546Z
LAST-MODIFIED:20250812T122614Z
UID:10001440-1759248000-1759251600@www.talkdeath.com
SUMMARY:Author Conversation: Too Poor to Die
DESCRIPTION:Please join us on Tuesday\, Sep 30th\, 2025 at 4:00pm PDT for a conversation between author\, Amy Shea and death doula and educator\, Lauren Seeley to discuss of Amy’s new book\, Too Poor to Die: The Hidden Realities of Dying in the Margins. \nToo Poor to Die bears witness to the disparities in death and dying faced by some of society’s most vulnerable and marginalized and asks the reader to consider their own end-of-life and disposition plans within the larger context of how privilege and access plays a role in what we want versus what we get in death.
URL:https://www.talkdeath.com/event/author-conversation-too-poor-to-die/
LOCATION:Online
CATEGORIES:Arts and Culture,Education
ATTACH;FMTTYPE=image/jpeg:https://www.talkdeath.com/wp-content/uploads/2025/08/Seeley_Amy-Online-Event-Vsn-2.jpg
END:VEVENT
BEGIN:VEVENT
DTSTART;TZID=America/Los_Angeles:20250930T170000
DTEND;TZID=America/Los_Angeles:20250930T180000
DTSTAMP:20260421T200750
CREATED:20250923T183251Z
LAST-MODIFIED:20250923T183251Z
UID:10001467-1759251600-1759255200@www.talkdeath.com
SUMMARY:NHFA September 2025 Webinar: Creating Meaningful Rituals for Families After Cremation
DESCRIPTION:Join us on September 30th at 8 pm ET for an informative webinar that explores how end-of-life professionals can guide families in creating meaningful post-cremation rituals that honor both memory and place. We’ll discuss cultural and historical approaches to scattering\, practical considerations for helping families choose the right setting\, and creative ways to weave ritual into everyday landscapes. \nAs a case study\, we’ll look at Farmstead Scattering Garden—a fourth-generation working farm that has become a sacred space for scattering cremains by mail. Amy Bridger co-founded Farmstead Scattering Garden with her husband\, John\, on his family’s fourth-generation working cattle farm in northwestern Pennsylvania\, where they live with their two teenage children. \nParticipants will leave with practical tools\, inspiring examples\, and resources to help families move beyond cremation toward meaningful acts of remembrance.
URL:https://www.talkdeath.com/event/nhfa-september-2025-webinar-creating-meaningful-rituals-for-families-after-cremation/
LOCATION:KY
CATEGORIES:Webinar
ATTACH;FMTTYPE=image/png:https://www.talkdeath.com/wp-content/uploads/2025/09/Webinar-posts-2.png
ORGANIZER;CN="National Home Funeral Alliance":MAILTO:​info@homefuneralalliance.org
END:VEVENT
BEGIN:VEVENT
DTSTART;TZID=America/Toronto:20250930T190000
DTEND;TZID=America/Toronto:20250930T210000
DTSTAMP:20260421T200750
CREATED:20250924T164654Z
LAST-MODIFIED:20250924T164654Z
UID:10001468-1759258800-1759266000@www.talkdeath.com
SUMMARY:A Living Funeral Ceremony
DESCRIPTION:A community offering at the close of eclipse season. Join us for a Living Funeral Ceremony: a ritual space to release what no longer serves and step into what’s next. \nA Living Funeral Ceremony is an immersive meditative experience that encourages participants to face their own mortality. Through engaging in ritual and guidance through a death visualization–contemplating your own memorial as you imagine letting go of your earthly self–participants are invited to “die before you die\, to live while you’re alive.”
URL:https://www.talkdeath.com/event/a-living-funeral-ceremony-2/
LOCATION:Scribble\, 5541 York Blvd\, Los Angeles\, CA\, 90042\, United States
CATEGORIES:Arts and Culture,Cemetery,Grief Release
ATTACH;FMTTYPE=image/png:https://www.talkdeath.com/wp-content/uploads/2025/09/2.png
ORGANIZER;CN="(a)Wake":MAILTO:kaitlyn@a-wake.studio
END:VEVENT
END:VCALENDAR