BEGIN:VCALENDAR
VERSION:2.0
PRODID:-//TalkDeath - ECPv6.15.19//NONSGML v1.0//EN
CALSCALE:GREGORIAN
METHOD:PUBLISH
X-WR-CALNAME:TalkDeath
X-ORIGINAL-URL:https://www.talkdeath.com
X-WR-CALDESC:Events for TalkDeath
REFRESH-INTERVAL;VALUE=DURATION:PT1H
X-Robots-Tag:noindex
X-PUBLISHED-TTL:PT1H
BEGIN:VTIMEZONE
TZID:America/Toronto
BEGIN:DAYLIGHT
TZOFFSETFROM:-0500
TZOFFSETTO:-0400
TZNAME:EDT
DTSTART:20240310T070000
END:DAYLIGHT
BEGIN:STANDARD
TZOFFSETFROM:-0400
TZOFFSETTO:-0500
TZNAME:EST
DTSTART:20241103T060000
END:STANDARD
BEGIN:DAYLIGHT
TZOFFSETFROM:-0500
TZOFFSETTO:-0400
TZNAME:EDT
DTSTART:20250309T070000
END:DAYLIGHT
BEGIN:STANDARD
TZOFFSETFROM:-0400
TZOFFSETTO:-0500
TZNAME:EST
DTSTART:20251102T060000
END:STANDARD
BEGIN:DAYLIGHT
TZOFFSETFROM:-0500
TZOFFSETTO:-0400
TZNAME:EDT
DTSTART:20260308T070000
END:DAYLIGHT
BEGIN:STANDARD
TZOFFSETFROM:-0400
TZOFFSETTO:-0500
TZNAME:EST
DTSTART:20261101T060000
END:STANDARD
BEGIN:DAYLIGHT
TZOFFSETFROM:-0500
TZOFFSETTO:-0400
TZNAME:EDT
DTSTART:20270314T070000
END:DAYLIGHT
BEGIN:STANDARD
TZOFFSETFROM:-0400
TZOFFSETTO:-0500
TZNAME:EST
DTSTART:20271107T060000
END:STANDARD
END:VTIMEZONE
BEGIN:VEVENT
DTSTART;TZID=America/Toronto:20250914T183000
DTEND;TZID=America/Toronto:20260125T200000
DTSTAMP:20260423T024442
CREATED:20250828T135042Z
LAST-MODIFIED:20250828T135049Z
UID:10001448-1757874600-1769371200@www.talkdeath.com
SUMMARY:Radical Mindfulness: Why Transforming Fear of Death is Politically Vital book club
DESCRIPTION:Are you interested in how the existential fear of death shapes society? Do you wonder how we can address injustice? Join our weekly online reading group\, Radical Mindfulness\, to explore how mindfulness can serve as a powerful tool for political transformation. Together\, we’ll build a supportive community of care and reflection. Whether you’re seeking connection\, inspiration\, or fresh perspectives\, this space offers an opportunity to learn and grow in solidarity. We meet via Zoom on Sundays. Recordings will be shared after each gathering. \n-Sundays 6:30 to 8pm ET beginning September 14th\n-Free to attend\n-Free PDF of the book from author\, James Rowe\n-Physical copy offered with a 30% discount from Routledge \nThis weekly reading and discussion of Radical Mindfulness will explore the causes of injustice and how to achieve social transformation. Drawing from scholarly literature\, the author suggests the existential fear of death is at the root of oppression\, and that meditation and ritual can be pathways to structural change. \nThis will be different from most book clubs. There is no homework; each week we pick up where we left off and read together. We will pause for questions\, reflections\, clarifications\, as ways to engage the material. We look forward to creating a community of both practice and curiosity. (We estimate 6 months of reading together!)
URL:https://www.talkdeath.com/event/radical-mindfulness-why-transforming-fear-of-death-is-politically-vital-book-club/
LOCATION:KY
CATEGORIES:Virtual
ATTACH;FMTTYPE=image/jpeg:https://www.talkdeath.com/wp-content/uploads/2025/08/810EeSjcWuL._SL1500_.jpg
END:VEVENT
BEGIN:VEVENT
DTSTART;TZID=America/Toronto:20251204T170000
DTEND;TZID=America/Toronto:20251204T190000
DTSTAMP:20260423T024442
CREATED:20251119T150253Z
LAST-MODIFIED:20251119T150253Z
UID:10001502-1764867600-1764874800@www.talkdeath.com
SUMMARY:Cruel Yule Happy Hour!
DESCRIPTION:Grieving during the holidays sucks. Join us at Awry Brewing to grab a beer and talk about your dead loved ones where nobody will judge you. 🍻
URL:https://www.talkdeath.com/event/cruel-yule-happy-hour/
LOCATION:Awry Brewing\, 1025 Barret Ave.\, Louisville\, KY\, 40204\, United States
CATEGORIES:Community Meet Up
ATTACH;FMTTYPE=image/png:https://www.talkdeath.com/wp-content/uploads/2025/11/Cruel-Yule-Happy-hour-1500-x-1000-px.png
ORGANIZER;CN="My Parents Are Dead%3A What Now&gt%3B?":MAILTO:hello@deadparentswhatnow.com
END:VEVENT
BEGIN:VEVENT
DTSTART;TZID=America/Toronto:20251204T180000
DTEND;TZID=America/Toronto:20251204T193000
DTSTAMP:20260423T024442
CREATED:20251105T171309Z
LAST-MODIFIED:20251105T171321Z
UID:10001495-1764871200-1764876600@www.talkdeath.com
SUMMARY:TOO POOR TO DIE: A book reading with author Amy Shea
DESCRIPTION:Join Amy Shea author of Too Poor to Die: The Hidden Realities of Dying in the Margins and community death educator Anne Jungerman for December’s Death Positive Event ~ an evening exploring what it means to die unseen\, unclaimed\, or without means and the vital role of community\, compassion\, and witness in after-death care. \nThe evening opens with a brief memorial for Napa County’s unclaimed dead of 2025\, with words from Rev. Susan Panttaja and song from the Napa Valley Threshold Choir\, followed by Amy’s reading\, discussion and Q&A. The program concludes with Too Poor to Die sales by Napa Bookmine\, and Amy signing books along with light refreshments. \nIn partnership with Napa Abode\, an emergency shelter\, we will be collecting donations to support community members in crisis. Please consider bringing: New\, packaged toiletries (razors\, soap\, shampoo) and/or men’s and women’s t-shirts (all sizes).
URL:https://www.talkdeath.com/event/too-poor-to-die-a-book-reading-with-author-amy-shea/
LOCATION:Napa Valley Unitarian Universalists\, 1625 Salvador Ave\, Napa\, CA\, 94558\, United States
CATEGORIES:Arts and Culture,Cemetery,Community Meet Up,Death Cafe
ATTACH;FMTTYPE=image/jpeg:https://www.talkdeath.com/wp-content/uploads/2025/11/FrontCover_TooPoortoDie-scaled.jpeg
END:VEVENT
END:VCALENDAR