BEGIN:VCALENDAR
VERSION:2.0
PRODID:-//TalkDeath - ECPv6.15.19//NONSGML v1.0//EN
CALSCALE:GREGORIAN
METHOD:PUBLISH
X-ORIGINAL-URL:https://www.talkdeath.com
X-WR-CALDESC:Events for TalkDeath
REFRESH-INTERVAL;VALUE=DURATION:PT1H
X-Robots-Tag:noindex
X-PUBLISHED-TTL:PT1H
BEGIN:VTIMEZONE
TZID:America/Toronto
BEGIN:DAYLIGHT
TZOFFSETFROM:-0500
TZOFFSETTO:-0400
TZNAME:EDT
DTSTART:20240310T070000
END:DAYLIGHT
BEGIN:STANDARD
TZOFFSETFROM:-0400
TZOFFSETTO:-0500
TZNAME:EST
DTSTART:20241103T060000
END:STANDARD
BEGIN:DAYLIGHT
TZOFFSETFROM:-0500
TZOFFSETTO:-0400
TZNAME:EDT
DTSTART:20250309T070000
END:DAYLIGHT
BEGIN:STANDARD
TZOFFSETFROM:-0400
TZOFFSETTO:-0500
TZNAME:EST
DTSTART:20251102T060000
END:STANDARD
BEGIN:DAYLIGHT
TZOFFSETFROM:-0500
TZOFFSETTO:-0400
TZNAME:EDT
DTSTART:20260308T070000
END:DAYLIGHT
BEGIN:STANDARD
TZOFFSETFROM:-0400
TZOFFSETTO:-0500
TZNAME:EST
DTSTART:20261101T060000
END:STANDARD
BEGIN:DAYLIGHT
TZOFFSETFROM:-0500
TZOFFSETTO:-0400
TZNAME:EDT
DTSTART:20270314T070000
END:DAYLIGHT
BEGIN:STANDARD
TZOFFSETFROM:-0400
TZOFFSETTO:-0500
TZNAME:EST
DTSTART:20271107T060000
END:STANDARD
END:VTIMEZONE
BEGIN:VTIMEZONE
TZID:America/Chicago
BEGIN:DAYLIGHT
TZOFFSETFROM:-0600
TZOFFSETTO:-0500
TZNAME:CDT
DTSTART:20250309T080000
END:DAYLIGHT
BEGIN:STANDARD
TZOFFSETFROM:-0500
TZOFFSETTO:-0600
TZNAME:CST
DTSTART:20251102T070000
END:STANDARD
BEGIN:DAYLIGHT
TZOFFSETFROM:-0600
TZOFFSETTO:-0500
TZNAME:CDT
DTSTART:20260308T080000
END:DAYLIGHT
BEGIN:STANDARD
TZOFFSETFROM:-0500
TZOFFSETTO:-0600
TZNAME:CST
DTSTART:20261101T070000
END:STANDARD
BEGIN:DAYLIGHT
TZOFFSETFROM:-0600
TZOFFSETTO:-0500
TZNAME:CDT
DTSTART:20270314T080000
END:DAYLIGHT
BEGIN:STANDARD
TZOFFSETFROM:-0500
TZOFFSETTO:-0600
TZNAME:CST
DTSTART:20271107T070000
END:STANDARD
END:VTIMEZONE
BEGIN:VTIMEZONE
TZID:America/New_York
BEGIN:DAYLIGHT
TZOFFSETFROM:-0500
TZOFFSETTO:-0400
TZNAME:EDT
DTSTART:20250309T070000
END:DAYLIGHT
BEGIN:STANDARD
TZOFFSETFROM:-0400
TZOFFSETTO:-0500
TZNAME:EST
DTSTART:20251102T060000
END:STANDARD
BEGIN:DAYLIGHT
TZOFFSETFROM:-0500
TZOFFSETTO:-0400
TZNAME:EDT
DTSTART:20260308T070000
END:DAYLIGHT
BEGIN:STANDARD
TZOFFSETFROM:-0400
TZOFFSETTO:-0500
TZNAME:EST
DTSTART:20261101T060000
END:STANDARD
BEGIN:DAYLIGHT
TZOFFSETFROM:-0500
TZOFFSETTO:-0400
TZNAME:EDT
DTSTART:20270314T070000
END:DAYLIGHT
BEGIN:STANDARD
TZOFFSETFROM:-0400
TZOFFSETTO:-0500
TZNAME:EST
DTSTART:20271107T060000
END:STANDARD
END:VTIMEZONE
BEGIN:VTIMEZONE
TZID:America/Kentucky/Louisville
BEGIN:DAYLIGHT
TZOFFSETFROM:-0500
TZOFFSETTO:-0400
TZNAME:EDT
DTSTART:20250309T070000
END:DAYLIGHT
BEGIN:STANDARD
TZOFFSETFROM:-0400
TZOFFSETTO:-0500
TZNAME:EST
DTSTART:20251102T060000
END:STANDARD
BEGIN:DAYLIGHT
TZOFFSETFROM:-0500
TZOFFSETTO:-0400
TZNAME:EDT
DTSTART:20260308T070000
END:DAYLIGHT
BEGIN:STANDARD
TZOFFSETFROM:-0400
TZOFFSETTO:-0500
TZNAME:EST
DTSTART:20261101T060000
END:STANDARD
BEGIN:DAYLIGHT
TZOFFSETFROM:-0500
TZOFFSETTO:-0400
TZNAME:EDT
DTSTART:20270314T070000
END:DAYLIGHT
BEGIN:STANDARD
TZOFFSETFROM:-0400
TZOFFSETTO:-0500
TZNAME:EST
DTSTART:20271107T060000
END:STANDARD
END:VTIMEZONE
BEGIN:VEVENT
DTSTART;TZID=America/Toronto:20250914T183000
DTEND;TZID=America/Toronto:20260125T200000
DTSTAMP:20260422T220043
CREATED:20250828T135042Z
LAST-MODIFIED:20250828T135049Z
UID:10001448-1757874600-1769371200@www.talkdeath.com
SUMMARY:Radical Mindfulness: Why Transforming Fear of Death is Politically Vital book club
DESCRIPTION:Are you interested in how the existential fear of death shapes society? Do you wonder how we can address injustice? Join our weekly online reading group\, Radical Mindfulness\, to explore how mindfulness can serve as a powerful tool for political transformation. Together\, we’ll build a supportive community of care and reflection. Whether you’re seeking connection\, inspiration\, or fresh perspectives\, this space offers an opportunity to learn and grow in solidarity. We meet via Zoom on Sundays. Recordings will be shared after each gathering. \n-Sundays 6:30 to 8pm ET beginning September 14th\n-Free to attend\n-Free PDF of the book from author\, James Rowe\n-Physical copy offered with a 30% discount from Routledge \nThis weekly reading and discussion of Radical Mindfulness will explore the causes of injustice and how to achieve social transformation. Drawing from scholarly literature\, the author suggests the existential fear of death is at the root of oppression\, and that meditation and ritual can be pathways to structural change. \nThis will be different from most book clubs. There is no homework; each week we pick up where we left off and read together. We will pause for questions\, reflections\, clarifications\, as ways to engage the material. We look forward to creating a community of both practice and curiosity. (We estimate 6 months of reading together!)
URL:https://www.talkdeath.com/event/radical-mindfulness-why-transforming-fear-of-death-is-politically-vital-book-club/
LOCATION:KY
CATEGORIES:Virtual
ATTACH;FMTTYPE=image/jpeg:https://www.talkdeath.com/wp-content/uploads/2025/08/810EeSjcWuL._SL1500_.jpg
END:VEVENT
BEGIN:VEVENT
DTSTART;TZID=America/Chicago:20260114T183000
DTEND;TZID=America/Chicago:20260114T193000
DTSTAMP:20260422T220043
CREATED:20260106T201111Z
LAST-MODIFIED:20260106T201111Z
UID:10001580-1768415400-1768419000@www.talkdeath.com
SUMMARY:Untangling The Tinsel: A Gathering for Grievers
DESCRIPTION:The holidays can leave a lot behind-feelings we didn’t expect\, words we couldn’t find\, emotions that live more in our bodies than our heads.\nThis gathering is an invitation to gently look back at what the season stirred up and sit with whatever is tangled. We’re holding space for relief\, acceptance\, community\, and grace-no fixing\, no pressure. Let’s gently untangle\, one strand at a time.
URL:https://www.talkdeath.com/event/untangling-the-tinsel-a-gathering-for-grievers-4/
LOCATION:KY
CATEGORIES:Grief Group,Grief Release
ATTACH;FMTTYPE=image/png:https://www.talkdeath.com/wp-content/uploads/2026/01/Untangling-the-Tinsel-a-gathering-for-grievers-2.png
END:VEVENT
BEGIN:VEVENT
DTSTART;TZID=America/New_York:20260114T183000
DTEND;TZID=America/New_York:20260114T200000
DTSTAMP:20260422T220043
CREATED:20260105T184202Z
LAST-MODIFIED:20260105T184202Z
UID:10001508-1768415400-1768420800@www.talkdeath.com
SUMMARY:Dead Parents Club
DESCRIPTION:Losing a parent changes you. It’s weird\, it’s heavy\, it’s lonely. And a lot of people don’t know how to talk about it. \nDead Parents Club is a grief circle for anyone navigating life after the loss of a parent (or parents). This is a space where you don’t have to sugarcoat it. No one’s going to rush you\, try to fix you\, or flinch when you talk about the hard stuff. \nWe’ll begin with a short grounding to connect with your body and breath\, and then we’ll open the circle. The rest of the 90 minutes are yours: to share\, to listen\, to cry\, to sit in silence. Whatever you need. There’s no pressure to speak\, and no need to perform your grief in any particular way. \nThis space is about showing up as you are. Whether your loss is new or decades old\, whether you’re feeling raw\, numb\, angry\, relieved\, or all of it at once\, you’re welcome here. Though if your grief is still very fresh and raw\, know that this isn’t a support group in the clinical sense. \n🖤 Bring:\n– A water bottle\, a snack\, a notebook\, a memento\, or just yourself – Your grief\, however it shows up that day – A willingness to be in the room \nWe don’t have answers. We’re not here to fix anything. Grief needs space to breathe without judgment or rush. That’s what we’re offering. \nVirtual for the colder/flu-ier months. \nSliding scale $10-30. No-one will be turned away for lack of funds.
URL:https://www.talkdeath.com/event/dead-parents-club/
LOCATION:Virtual Event
CATEGORIES:Grief Group
ORGANIZER;CN="Robin Silver":MAILTO:silvermindfulness@gmail.com
END:VEVENT
BEGIN:VEVENT
DTSTART;TZID=America/Kentucky/Louisville:20260114T190000
DTEND;TZID=America/Kentucky/Louisville:20260114T200000
DTSTAMP:20260422T220043
CREATED:20251216T193704Z
LAST-MODIFIED:20251216T193704Z
UID:10001505-1768417200-1768420800@www.talkdeath.com
SUMMARY:Becky Robison in conversation with Kaira Tucker
DESCRIPTION:Louisville! To celebrate the launch of my new book\, My Parents Are Dead: What Now? A Panic-Free Guide to the Practicalities of Death\, join me at Carmichael’s on Frankfort for a discussion and book signing with everyone’s favorite local librarian\, cemetery enthusiast\, and certified goth\, Kaira Tucker.
URL:https://www.talkdeath.com/event/becky-robison-in-conversation-with-kaira-tucker/
LOCATION:Carmichael’s Bookstore\, 2720 Frankfort Avenue\, Louisville\, KY\, 40206\, United States
CATEGORIES:Arts and Culture,Community Meet Up,Virtual
ATTACH;FMTTYPE=image/png:https://www.talkdeath.com/wp-content/uploads/2025/12/2.png
ORGANIZER;CN="My Parents Are Dead%3A What Now&gt%3B?":MAILTO:hello@deadparentswhatnow.com
END:VEVENT
END:VCALENDAR