BEGIN:VCALENDAR
VERSION:2.0
PRODID:-//TalkDeath - ECPv6.15.19//NONSGML v1.0//EN
CALSCALE:GREGORIAN
METHOD:PUBLISH
X-WR-CALNAME:TalkDeath
X-ORIGINAL-URL:https://www.talkdeath.com
X-WR-CALDESC:Events for TalkDeath
REFRESH-INTERVAL;VALUE=DURATION:PT1H
X-Robots-Tag:noindex
X-PUBLISHED-TTL:PT1H
BEGIN:VTIMEZONE
TZID:America/Toronto
BEGIN:DAYLIGHT
TZOFFSETFROM:-0500
TZOFFSETTO:-0400
TZNAME:EDT
DTSTART:20240310T070000
END:DAYLIGHT
BEGIN:STANDARD
TZOFFSETFROM:-0400
TZOFFSETTO:-0500
TZNAME:EST
DTSTART:20241103T060000
END:STANDARD
BEGIN:DAYLIGHT
TZOFFSETFROM:-0500
TZOFFSETTO:-0400
TZNAME:EDT
DTSTART:20250309T070000
END:DAYLIGHT
BEGIN:STANDARD
TZOFFSETFROM:-0400
TZOFFSETTO:-0500
TZNAME:EST
DTSTART:20251102T060000
END:STANDARD
BEGIN:DAYLIGHT
TZOFFSETFROM:-0500
TZOFFSETTO:-0400
TZNAME:EDT
DTSTART:20260308T070000
END:DAYLIGHT
BEGIN:STANDARD
TZOFFSETFROM:-0400
TZOFFSETTO:-0500
TZNAME:EST
DTSTART:20261101T060000
END:STANDARD
BEGIN:DAYLIGHT
TZOFFSETFROM:-0500
TZOFFSETTO:-0400
TZNAME:EDT
DTSTART:20270314T070000
END:DAYLIGHT
BEGIN:STANDARD
TZOFFSETFROM:-0400
TZOFFSETTO:-0500
TZNAME:EST
DTSTART:20271107T060000
END:STANDARD
END:VTIMEZONE
BEGIN:VTIMEZONE
TZID:America/New_York
BEGIN:DAYLIGHT
TZOFFSETFROM:-0500
TZOFFSETTO:-0400
TZNAME:EDT
DTSTART:20250309T070000
END:DAYLIGHT
BEGIN:STANDARD
TZOFFSETFROM:-0400
TZOFFSETTO:-0500
TZNAME:EST
DTSTART:20251102T060000
END:STANDARD
BEGIN:DAYLIGHT
TZOFFSETFROM:-0500
TZOFFSETTO:-0400
TZNAME:EDT
DTSTART:20260308T070000
END:DAYLIGHT
BEGIN:STANDARD
TZOFFSETFROM:-0400
TZOFFSETTO:-0500
TZNAME:EST
DTSTART:20261101T060000
END:STANDARD
BEGIN:DAYLIGHT
TZOFFSETFROM:-0500
TZOFFSETTO:-0400
TZNAME:EDT
DTSTART:20270314T070000
END:DAYLIGHT
BEGIN:STANDARD
TZOFFSETFROM:-0400
TZOFFSETTO:-0500
TZNAME:EST
DTSTART:20271107T060000
END:STANDARD
END:VTIMEZONE
BEGIN:VEVENT
DTSTART;TZID=America/Toronto:20250914T183000
DTEND;TZID=America/Toronto:20260125T200000
DTSTAMP:20260422T220000
CREATED:20250828T135042Z
LAST-MODIFIED:20250828T135049Z
UID:10001448-1757874600-1769371200@www.talkdeath.com
SUMMARY:Radical Mindfulness: Why Transforming Fear of Death is Politically Vital book club
DESCRIPTION:Are you interested in how the existential fear of death shapes society? Do you wonder how we can address injustice? Join our weekly online reading group\, Radical Mindfulness\, to explore how mindfulness can serve as a powerful tool for political transformation. Together\, we’ll build a supportive community of care and reflection. Whether you’re seeking connection\, inspiration\, or fresh perspectives\, this space offers an opportunity to learn and grow in solidarity. We meet via Zoom on Sundays. Recordings will be shared after each gathering. \n-Sundays 6:30 to 8pm ET beginning September 14th\n-Free to attend\n-Free PDF of the book from author\, James Rowe\n-Physical copy offered with a 30% discount from Routledge \nThis weekly reading and discussion of Radical Mindfulness will explore the causes of injustice and how to achieve social transformation. Drawing from scholarly literature\, the author suggests the existential fear of death is at the root of oppression\, and that meditation and ritual can be pathways to structural change. \nThis will be different from most book clubs. There is no homework; each week we pick up where we left off and read together. We will pause for questions\, reflections\, clarifications\, as ways to engage the material. We look forward to creating a community of both practice and curiosity. (We estimate 6 months of reading together!)
URL:https://www.talkdeath.com/event/radical-mindfulness-why-transforming-fear-of-death-is-politically-vital-book-club/
LOCATION:KY
CATEGORIES:Virtual
ATTACH;FMTTYPE=image/jpeg:https://www.talkdeath.com/wp-content/uploads/2025/08/810EeSjcWuL._SL1500_.jpg
END:VEVENT
BEGIN:VEVENT
DTSTART;TZID=America/New_York:20260116T120000
DTEND;TZID=America/New_York:20260116T170000
DTSTAMP:20260422T220000
CREATED:20260107T150346Z
LAST-MODIFIED:20260107T150346Z
UID:10001585-1768564800-1768582800@www.talkdeath.com
SUMMARY:Intro to the Gates of Grief
DESCRIPTION:Grab your lunch or favorite tea and join us for a session with Rebecca Churt\, Founder of The Grievery. \n​This 50-minute introductory session offers a guided walk through a framework that expands grief far beyond death — into the realms of identity\, longing\, lost opportunities\, and the quiet heartache we carry for a fractured world. \n​We’ll take a concise tour of Francis Weller’s Gates of Grief (from The Wild Edge of Sorrow) and explore how grief — when acknowledged rather than avoided — becomes a vital life skill: helping us stay connected to ourselves and what matters most. \n​This session is an invitation to explore grief with curiosity — not to fix anything or relive pain\, but to make room for what has long wanted to be named\, opening the door to greater clarity\, resilience\, and meaning.
URL:https://www.talkdeath.com/event/intro-to-the-gates-of-grief/
LOCATION:KY
CATEGORIES:Class,Education,Grief Group,Training,Virtual,Webinar,Workshop
ATTACH;FMTTYPE=image/png:https://www.talkdeath.com/wp-content/uploads/2026/01/Screenshot-2026-01-07-at-9.03.58 AM.png
END:VEVENT
BEGIN:VEVENT
DTSTART;TZID=America/Toronto:20260116T190000
DTEND;TZID=America/Toronto:20260116T220000
DTSTAMP:20260422T220000
CREATED:20260105T211834Z
LAST-MODIFIED:20260105T212933Z
UID:10001513-1768590000-1768600800@www.talkdeath.com
SUMMARY:Death Medicine: An Open Mic Community Exploration of Death & Grief
DESCRIPTION:A monthly open mic event with a theme of death and grief is happening in both Sonoma and Marin counties of California. Occurring in San Rafael and Sebastopol\, these events have been beautifully received. \nBring your songs\, poetry\, stories\, dance or any other expression your heart feels called to offer around the topics of death and grief. \nThe event will be an open mic format where people can sing\, dance\, recite poetry\, or speak extemporaneously about their experiences of death and grief and be witnessed and heard by a radically present and loving audience in a well-held container. \nThere are no rules other than a share cannot last longer than five minutes. You need not perform to attend. The witnessing is at least as important as the sharing. \nWe imagine it as a community grief ritual. Sometimes a couple hours of cathartic release and tender listening and holding can do more to heal than years on a therapist’s couch.
URL:https://www.talkdeath.com/event/death-medicine-an-open-mic-community-exploration-of-death-grief/
LOCATION:KY
CATEGORIES:Arts and Culture,Community Meet Up
ATTACH;FMTTYPE=image/jpeg:https://www.talkdeath.com/wp-content/uploads/2026/01/IMG_4209.jpeg
ORGANIZER;CN="Luminous Threshold Collective":MAILTO:Luminousthresholdcollective@gmail.com
END:VEVENT
END:VCALENDAR