BEGIN:VCALENDAR
VERSION:2.0
PRODID:-//TalkDeath - ECPv6.15.19//NONSGML v1.0//EN
CALSCALE:GREGORIAN
METHOD:PUBLISH
X-ORIGINAL-URL:https://www.talkdeath.com
X-WR-CALDESC:Events for TalkDeath
REFRESH-INTERVAL;VALUE=DURATION:PT1H
X-Robots-Tag:noindex
X-PUBLISHED-TTL:PT1H
BEGIN:VTIMEZONE
TZID:America/Denver
BEGIN:DAYLIGHT
TZOFFSETFROM:-0700
TZOFFSETTO:-0600
TZNAME:MDT
DTSTART:20240310T090000
END:DAYLIGHT
BEGIN:STANDARD
TZOFFSETFROM:-0600
TZOFFSETTO:-0700
TZNAME:MST
DTSTART:20241103T080000
END:STANDARD
BEGIN:DAYLIGHT
TZOFFSETFROM:-0700
TZOFFSETTO:-0600
TZNAME:MDT
DTSTART:20250309T090000
END:DAYLIGHT
BEGIN:STANDARD
TZOFFSETFROM:-0600
TZOFFSETTO:-0700
TZNAME:MST
DTSTART:20251102T080000
END:STANDARD
BEGIN:DAYLIGHT
TZOFFSETFROM:-0700
TZOFFSETTO:-0600
TZNAME:MDT
DTSTART:20260308T090000
END:DAYLIGHT
BEGIN:STANDARD
TZOFFSETFROM:-0600
TZOFFSETTO:-0700
TZNAME:MST
DTSTART:20261101T080000
END:STANDARD
END:VTIMEZONE
BEGIN:VTIMEZONE
TZID:America/Los_Angeles
BEGIN:DAYLIGHT
TZOFFSETFROM:-0800
TZOFFSETTO:-0700
TZNAME:PDT
DTSTART:20240310T100000
END:DAYLIGHT
BEGIN:STANDARD
TZOFFSETFROM:-0700
TZOFFSETTO:-0800
TZNAME:PST
DTSTART:20241103T090000
END:STANDARD
BEGIN:DAYLIGHT
TZOFFSETFROM:-0800
TZOFFSETTO:-0700
TZNAME:PDT
DTSTART:20250309T100000
END:DAYLIGHT
BEGIN:STANDARD
TZOFFSETFROM:-0700
TZOFFSETTO:-0800
TZNAME:PST
DTSTART:20251102T090000
END:STANDARD
BEGIN:DAYLIGHT
TZOFFSETFROM:-0800
TZOFFSETTO:-0700
TZNAME:PDT
DTSTART:20260308T100000
END:DAYLIGHT
BEGIN:STANDARD
TZOFFSETFROM:-0700
TZOFFSETTO:-0800
TZNAME:PST
DTSTART:20261101T090000
END:STANDARD
END:VTIMEZONE
BEGIN:VTIMEZONE
TZID:America/Toronto
BEGIN:DAYLIGHT
TZOFFSETFROM:-0500
TZOFFSETTO:-0400
TZNAME:EDT
DTSTART:20240310T070000
END:DAYLIGHT
BEGIN:STANDARD
TZOFFSETFROM:-0400
TZOFFSETTO:-0500
TZNAME:EST
DTSTART:20241103T060000
END:STANDARD
BEGIN:DAYLIGHT
TZOFFSETFROM:-0500
TZOFFSETTO:-0400
TZNAME:EDT
DTSTART:20250309T070000
END:DAYLIGHT
BEGIN:STANDARD
TZOFFSETFROM:-0400
TZOFFSETTO:-0500
TZNAME:EST
DTSTART:20251102T060000
END:STANDARD
BEGIN:DAYLIGHT
TZOFFSETFROM:-0500
TZOFFSETTO:-0400
TZNAME:EDT
DTSTART:20260308T070000
END:DAYLIGHT
BEGIN:STANDARD
TZOFFSETFROM:-0400
TZOFFSETTO:-0500
TZNAME:EST
DTSTART:20261101T060000
END:STANDARD
END:VTIMEZONE
BEGIN:VEVENT
DTSTART;TZID=America/Denver:20250910T180000
DTEND;TZID=America/Denver:20250910T210000
DTSTAMP:20260422T032456
CREATED:20250911T132317Z
LAST-MODIFIED:20250911T132317Z
UID:10001458-1757527200-1757538000@www.talkdeath.com
SUMMARY:Crying with Clay
DESCRIPTION:Whether you are a long-time griever or new to the experience\, join us for an evening of creative clay work. You will have the chance to connect with others who are navigating their own grief as well. In this workshop we will create ceramic grief jars\, or grief urns. Colleen from “Death Doula Does\,” will guide grievers in building a personal grief self-care ritual\, and teach them how to hold space for their journey with grief. \nTwo evenings are available: September 24th\, 6-9pm and October 22nd\, 6-9pm \nAll clay materials and firing are included\, and all participants will receive a grief care zine from Death Doula Does. \nCompleted grief jars will be ready for pick up approximately 2 weeks after completion. \nMasks are required for this class and will be provided. No cloth masks please.
URL:https://www.talkdeath.com/event/crying-with-clay-2/
LOCATION:Carter & Rose\, 3601 SE Division Street\, Portland\, OR\, 97202\, United States
CATEGORIES:Arts and Crafts,Peer-Led Grief Support
ATTACH;FMTTYPE=image/png:https://www.talkdeath.com/wp-content/uploads/2025/09/Crying-w-Clay_SQ-2.png
ORGANIZER;CN="Death Doula Does":MAILTO:DeathDoulaDoes@pm.me
END:VEVENT
BEGIN:VEVENT
DTSTART;TZID=America/Los_Angeles:20250903T180000
DTEND;TZID=America/Los_Angeles:20250903T193000
DTSTAMP:20260422T032456
CREATED:20250828T135110Z
LAST-MODIFIED:20250828T135110Z
UID:10001449-1756922400-1756927800@www.talkdeath.com
SUMMARY:Cozy Collage
DESCRIPTION:Cozy Collage – An online realm to explore grief with the art collage.\nWednesday\, September 3rd\, 6 pm to 7:30 pm Pacific \nTogether\, we will be exploring disenfranchised grief. Disenfranchised grief arises when an individual’s grieving process clashes with societal norms surrounding death and loss. This lack of social support while grieving can feel isolating. Let this peer-to-peer space be your support \nVirtual Event\, Registration Required\, Linktree/deathdouladoes\n$5 to $15 NOTAFLOF
URL:https://www.talkdeath.com/event/cozy-collage/
LOCATION:Virtual Event
CATEGORIES:Arts and Crafts,Peer-Led Grief Support
ATTACH;FMTTYPE=image/png:https://www.talkdeath.com/wp-content/uploads/2025/08/1.png
ORGANIZER;CN="Death Doula Does":MAILTO:DeathDoulaDoes@pm.me
END:VEVENT
BEGIN:VEVENT
DTSTART;TZID=America/Los_Angeles:20250820T190000
DTEND;TZID=America/Los_Angeles:20250820T210000
DTSTAMP:20260422T032456
CREATED:20250805T132035Z
LAST-MODIFIED:20250805T132035Z
UID:10001430-1755716400-1755723600@www.talkdeath.com
SUMMARY:Death Craft
DESCRIPTION:Working with your hands while talking about death\, dying\, and grief can help take some of the pressure off. Come to this virtual space prepared with your handicraft project\, your stories or questions about death\, dying\, grief\, end-of-life planning\, and life after loss. This space is free to join\, but tips are appreciated. \nThe link to the meeting space will be sent in a reminder email prior to the event.
URL:https://www.talkdeath.com/event/death-craft/
CATEGORIES:Arts and Crafts
ATTACH;FMTTYPE=image/jpeg:https://www.talkdeath.com/wp-content/uploads/2025/08/IMG_20220219_115306-scaled.jpg
ORGANIZER;CN="Prism Deathcare":MAILTO:info@prismdeathcare.com
END:VEVENT
BEGIN:VEVENT
DTSTART;TZID=America/Toronto:20250504T080000
DTEND;TZID=America/Toronto:20250504T170000
DTSTAMP:20260422T032456
CREATED:20250410T213528Z
LAST-MODIFIED:20250410T213528Z
UID:10000025-1746345600-1746378000@www.talkdeath.com
SUMMARY:Sunday in the Cemetery
DESCRIPTION:Sunday in the Cemetery is a day-long exploration of mortality at Green-Wood. We invite you to candidly engage with grief and death through a compassionate\, supportive lens. This free\, open-house style event brings together leading experts for engaging talks\, workshops\, and guided tours that illuminate end-of-life care\, funeral traditions\, and memorial arts. Through personal stories and interactive experiences\, discover community through shared human experiences and gain insights into how we can each live well and remember meaningfully.
URL:https://www.talkdeath.com/event/sunday-in-the-cemetery/
LOCATION:The Green-Wood Cemetery\, 500 25th St.\, Brooklyn\, NY\, 11232\, United States
CATEGORIES:Arts and Crafts,Arts and Culture,Cemetery,Class,Community Meet Up,Education,Tour,Workshop
ATTACH;FMTTYPE=image/jpeg:https://www.talkdeath.com/wp-content/uploads/2025/04/GW_SitC_List-View-scaled.jpg
ORGANIZER;CN="The Green-Wood Cemetery":MAILTO:events@green-wood.com
END:VEVENT
BEGIN:VEVENT
DTSTART;TZID=America/Toronto:20250412T120000
DTEND;TZID=America/Toronto:20250412T140000
DTSTAMP:20260422T032456
CREATED:20250401T141132Z
LAST-MODIFIED:20250403T150815Z
UID:10000012-1744459200-1744466400@www.talkdeath.com
SUMMARY:The Pet Griever’s Club April Meetup
DESCRIPTION:Come hangout with a community of folks who are grieving the loss of their beloved pets. We get together bimonthly and honor them through arts and crafts. We’ll provide the art supplies\, but feel free to bring your own! \nWater and light snacks provided! \nPlease bring an item that reminds you of your beloved pet to share with the group. We will be making keychains as we discuss of pet grief. \nArts supplies\, water and light snacks will be provided. \nFollow @MourningPug on Instagram for updates! \nWe’re asking for donations ($5-10) for the event (for venue rental\, art supplies and any extra goes to a local animal shelter.) But no one will be turned away for lack of funds. \n***Disclaimer: The Pet Griever’s Club is not a therapy group\, and we’re not therapist. You are responsible for your well-being when attending a meetup. If you’re feeling unwell\, please seek professional help***
URL:https://www.talkdeath.com/event/the-pet-grievers-club-april-meetup/
CATEGORIES:Arts and Crafts,Grief Release
ATTACH;FMTTYPE=image/png:https://www.talkdeath.com/wp-content/uploads/2025/03/IMG_9027.png
ORGANIZER;CN="Mourning Pug":MAILTO:Hellomelinda23@gmail.com
END:VEVENT
END:VCALENDAR