BEGIN:VCALENDAR
VERSION:2.0
PRODID:-//TalkDeath - ECPv6.15.19//NONSGML v1.0//EN
CALSCALE:GREGORIAN
METHOD:PUBLISH
X-WR-CALNAME:TalkDeath
X-ORIGINAL-URL:https://www.talkdeath.com
X-WR-CALDESC:Events for TalkDeath
REFRESH-INTERVAL;VALUE=DURATION:PT1H
X-Robots-Tag:noindex
X-PUBLISHED-TTL:PT1H
BEGIN:VTIMEZONE
TZID:America/Toronto
BEGIN:DAYLIGHT
TZOFFSETFROM:-0500
TZOFFSETTO:-0400
TZNAME:EDT
DTSTART:20240310T070000
END:DAYLIGHT
BEGIN:STANDARD
TZOFFSETFROM:-0400
TZOFFSETTO:-0500
TZNAME:EST
DTSTART:20241103T060000
END:STANDARD
BEGIN:DAYLIGHT
TZOFFSETFROM:-0500
TZOFFSETTO:-0400
TZNAME:EDT
DTSTART:20250309T070000
END:DAYLIGHT
BEGIN:STANDARD
TZOFFSETFROM:-0400
TZOFFSETTO:-0500
TZNAME:EST
DTSTART:20251102T060000
END:STANDARD
BEGIN:DAYLIGHT
TZOFFSETFROM:-0500
TZOFFSETTO:-0400
TZNAME:EDT
DTSTART:20260308T070000
END:DAYLIGHT
BEGIN:STANDARD
TZOFFSETFROM:-0400
TZOFFSETTO:-0500
TZNAME:EST
DTSTART:20261101T060000
END:STANDARD
BEGIN:DAYLIGHT
TZOFFSETFROM:-0500
TZOFFSETTO:-0400
TZNAME:EDT
DTSTART:20270314T070000
END:DAYLIGHT
BEGIN:STANDARD
TZOFFSETFROM:-0400
TZOFFSETTO:-0500
TZNAME:EST
DTSTART:20271107T060000
END:STANDARD
END:VTIMEZONE
BEGIN:VTIMEZONE
TZID:America/New_York
BEGIN:DAYLIGHT
TZOFFSETFROM:-0500
TZOFFSETTO:-0400
TZNAME:EDT
DTSTART:20240310T070000
END:DAYLIGHT
BEGIN:STANDARD
TZOFFSETFROM:-0400
TZOFFSETTO:-0500
TZNAME:EST
DTSTART:20241103T060000
END:STANDARD
BEGIN:DAYLIGHT
TZOFFSETFROM:-0500
TZOFFSETTO:-0400
TZNAME:EDT
DTSTART:20250309T070000
END:DAYLIGHT
BEGIN:STANDARD
TZOFFSETFROM:-0400
TZOFFSETTO:-0500
TZNAME:EST
DTSTART:20251102T060000
END:STANDARD
BEGIN:DAYLIGHT
TZOFFSETFROM:-0500
TZOFFSETTO:-0400
TZNAME:EDT
DTSTART:20260308T070000
END:DAYLIGHT
BEGIN:STANDARD
TZOFFSETFROM:-0400
TZOFFSETTO:-0500
TZNAME:EST
DTSTART:20261101T060000
END:STANDARD
BEGIN:DAYLIGHT
TZOFFSETFROM:-0500
TZOFFSETTO:-0400
TZNAME:EDT
DTSTART:20270314T070000
END:DAYLIGHT
BEGIN:STANDARD
TZOFFSETFROM:-0400
TZOFFSETTO:-0500
TZNAME:EST
DTSTART:20271107T060000
END:STANDARD
END:VTIMEZONE
BEGIN:VTIMEZONE
TZID:America/Phoenix
BEGIN:STANDARD
TZOFFSETFROM:-0700
TZOFFSETTO:-0700
TZNAME:MST
DTSTART:20250101T000000
END:STANDARD
END:VTIMEZONE
BEGIN:VTIMEZONE
TZID:America/Denver
BEGIN:DAYLIGHT
TZOFFSETFROM:-0700
TZOFFSETTO:-0600
TZNAME:MDT
DTSTART:20240310T090000
END:DAYLIGHT
BEGIN:STANDARD
TZOFFSETFROM:-0600
TZOFFSETTO:-0700
TZNAME:MST
DTSTART:20241103T080000
END:STANDARD
BEGIN:DAYLIGHT
TZOFFSETFROM:-0700
TZOFFSETTO:-0600
TZNAME:MDT
DTSTART:20250309T090000
END:DAYLIGHT
BEGIN:STANDARD
TZOFFSETFROM:-0600
TZOFFSETTO:-0700
TZNAME:MST
DTSTART:20251102T080000
END:STANDARD
BEGIN:DAYLIGHT
TZOFFSETFROM:-0700
TZOFFSETTO:-0600
TZNAME:MDT
DTSTART:20260308T090000
END:DAYLIGHT
BEGIN:STANDARD
TZOFFSETFROM:-0600
TZOFFSETTO:-0700
TZNAME:MST
DTSTART:20261101T080000
END:STANDARD
END:VTIMEZONE
BEGIN:VTIMEZONE
TZID:America/Los_Angeles
BEGIN:DAYLIGHT
TZOFFSETFROM:-0800
TZOFFSETTO:-0700
TZNAME:PDT
DTSTART:20240310T100000
END:DAYLIGHT
BEGIN:STANDARD
TZOFFSETFROM:-0700
TZOFFSETTO:-0800
TZNAME:PST
DTSTART:20241103T090000
END:STANDARD
BEGIN:DAYLIGHT
TZOFFSETFROM:-0800
TZOFFSETTO:-0700
TZNAME:PDT
DTSTART:20250309T100000
END:DAYLIGHT
BEGIN:STANDARD
TZOFFSETFROM:-0700
TZOFFSETTO:-0800
TZNAME:PST
DTSTART:20251102T090000
END:STANDARD
BEGIN:DAYLIGHT
TZOFFSETFROM:-0800
TZOFFSETTO:-0700
TZNAME:PDT
DTSTART:20260308T100000
END:DAYLIGHT
BEGIN:STANDARD
TZOFFSETFROM:-0700
TZOFFSETTO:-0800
TZNAME:PST
DTSTART:20261101T090000
END:STANDARD
END:VTIMEZONE
BEGIN:VEVENT
DTSTART;TZID=America/Toronto:20260401T200000
DTEND;TZID=America/Toronto:20260401T210000
DTSTAMP:20260424T034435
CREATED:20260107T211042Z
LAST-MODIFIED:20260108T145652Z
UID:10001587-1775073600-1775077200@www.talkdeath.com
SUMMARY:Book Club: What The Dead Know by Barbara Butcher
DESCRIPTION:What The Dead Know by Barbara Butcher Wednesday April 1st 5:00 – 6:00 PM (PT) 8-9 PM (ET) \nAbout the book:\nA “remarkably candid and sensitive” (The Wall Street Journal) true crime memoir from Barbara Butcher\, a trailblazing New York City death investigator\, who reveals the untold stories behind more than 5\,500 death scenes\, including the nation’s most horrific tragedy: the 9/11 attacks. \nWhen Barbara Butcher was early in her recovery from alcoholism\, she found an unexpected lifeline in a job at the Office of the Chief Medical Examiner in NYC. As only the second woman ever hired for the role—and the first to last more than three months—she became a vital force in the world of forensic science and criminal investigations. \nOver the next two decades\, Butcher worked thousands of cases: gruesome homicides\, suspicious suicides\, heartbreaking scenes involving underage victims\, and complex mass casualty investigations. In her unforgettable account\, she invites readers into the gritty\, high-stakes world of crime-scene investigation\, from the autopsy room and morgue to tense moments at active crime scenes. Along the way\, she uncovered how confronting death every day gave her a new perspective on life—and ultimately saved her from becoming a statistic herself. \nIn vivid\, darkly humorous prose\, Butcher recounts how she narrowly avoided a boobytrapped suicide scene\, and how\, during 9/11\, she and her colleagues worked tirelessly to identify victims using scraps of clothing\, DNA\, and the memories of grieving loved ones. Her honesty\, resilience\, and sharp wit make this a standout in the genre of first responder memoirs and women in law enforcement.
URL:https://www.talkdeath.com/event/book-club-what-the-dead-know-by-barbara-butcher/
LOCATION:Online
CATEGORIES:Arts and Culture,Class,Community Meet Up,Education,Virtual
ATTACH;FMTTYPE=image/jpeg:https://www.talkdeath.com/wp-content/uploads/2026/01/what-the-dead-know-scaled.jpg
END:VEVENT
BEGIN:VEVENT
DTSTART;TZID=America/Toronto:20260225T200000
DTEND;TZID=America/Toronto:20260225T213000
DTSTAMP:20260424T034435
CREATED:20260108T145330Z
LAST-MODIFIED:20260108T145627Z
UID:10001586-1772049600-1772055000@www.talkdeath.com
SUMMARY:Book Club Author Kelly Cervantes discusses her book The Luckiest with Befriending Death
DESCRIPTION:The Luckiest by Kelly Cervantes (with the author) on Wednesday February 25th 5:00 – 6:30 PM (PT) 8-9:30 (ET)\nWe are so looking forward to the return of Kelly who spoke to our book club last year with Normal Broken\, describing her journey raising and losing her daughter to a neurodegenerative disorder and epilepsy. \nHere’s a description of The Luckiest:\nWhen moving from a conservative Midwestern suburb to New York City to pursue an acting career\, Kelly Cervantes never could have imagined what life had in store for her—or how much she would fundamentally change along the way. The Luckiest is her emotional journey through the pain of unrealized dreams\, navigating her husband’s Broadway spotlight\, fighting for her child’s life\, finding purpose after loss\, and rebuilding her life and marriage. \nInspired by author and poet Maggie Smith’s quote\, “We are all nesting dolls\, carrying the earlier iterations of ourselves inside\,” Kelly shares the many layers that have shaped who she is today. But how many of those layers were shaped through the control she desperately sought versus the luck she struggled to accept? Are we lucky if we escape life with soft skin and minimal layers? Or are we lucky to have the battle scars that show a life of survival—of fullness and meaning? \nThe Luckiest is a tale of motherhood in all its heartbreak\, joy\, fits\, and false starts. It follows Kelly’s wildly unpredictable journey and the role luck has played in her life\, both good and bad. It is one woman’s beautiful\, complicated\, and ongoing quest for self-discovery.
URL:https://www.talkdeath.com/event/book-club-author-kelly-cervantes-discusses-her-book-the-luckiest-with-befriending-death/
LOCATION:Online
CATEGORIES:Arts and Culture,Class,Community Meet Up,Education,Virtual
ATTACH;FMTTYPE=image/jpeg:https://www.talkdeath.com/wp-content/uploads/2026/01/The-Luckiest-scaled.jpg
END:VEVENT
BEGIN:VEVENT
DTSTART;TZID=America/New_York:20260116T120000
DTEND;TZID=America/New_York:20260116T170000
DTSTAMP:20260424T034435
CREATED:20260107T150346Z
LAST-MODIFIED:20260107T150346Z
UID:10001585-1768564800-1768582800@www.talkdeath.com
SUMMARY:Intro to the Gates of Grief
DESCRIPTION:Grab your lunch or favorite tea and join us for a session with Rebecca Churt\, Founder of The Grievery. \n​This 50-minute introductory session offers a guided walk through a framework that expands grief far beyond death — into the realms of identity\, longing\, lost opportunities\, and the quiet heartache we carry for a fractured world. \n​We’ll take a concise tour of Francis Weller’s Gates of Grief (from The Wild Edge of Sorrow) and explore how grief — when acknowledged rather than avoided — becomes a vital life skill: helping us stay connected to ourselves and what matters most. \n​This session is an invitation to explore grief with curiosity — not to fix anything or relive pain\, but to make room for what has long wanted to be named\, opening the door to greater clarity\, resilience\, and meaning.
URL:https://www.talkdeath.com/event/intro-to-the-gates-of-grief/
CATEGORIES:Class,Education,Grief Group,Training,Virtual,Webinar,Workshop
ATTACH;FMTTYPE=image/png:https://www.talkdeath.com/wp-content/uploads/2026/01/Screenshot-2026-01-07-at-9.03.58 AM.png
END:VEVENT
BEGIN:VEVENT
DTSTART;TZID=America/Phoenix:20260112T160000
DTEND;TZID=America/Phoenix:20260112T180000
DTSTAMP:20260424T034435
CREATED:20260106T133412Z
LAST-MODIFIED:20260106T133412Z
UID:10001577-1768233600-1768240800@www.talkdeath.com
SUMMARY:Community Death Care Zine Workshop & Exchange
DESCRIPTION:A two hour workshop on creating resources for death-positive artists & EOL doulas in the form of Risograph printed zines.\nIs there a community death care or grief resource you really wish existed\, but doesn’t yet? Do you have specialized knowledge\, experiences\, or ideas that would help others move through loss and grief? \nZines\, accessible pocket-sized DIY publications\, are a great way to share ideas\, stories\, and information; whether you’re a practicing death doula\, grief tender\, or just starting to learn about death\, grief\, and loss this workshop will benefit you. \nThere will be a brief intro to zines and the Risograph printing process\, we’ll use generative prompts to refine zine ideas and go over basic file set up. Each participant will create their own one or two-color\, one-page zine design (11×17 or 8.5×11)\, which will be printed by me in my home studio. You will receive 25-50 copies of your own zine\, as well as 1 copy of all of the other zines created in the class. One week after the initial workshop there will be an optional LIVE PRINTING over zoom if you’d like to see more of the process and get a preview of your prints before they are sent to you via USPS. \nIf you’re completely new to Riso and want to know what you’re signing up for\, here are some examples. In short\, Riso printing is very similar to screen printing\, but the machine looks like your average copy machine. It has a really fun\, vibrant aesthetic and it’s environmentally friendly\, as it uses soy based ink\, rice paper for the stencils and no heat in the printing process. \nClass fee covers instruction\, printing time\, supplies\, and shipping costs.
URL:https://www.talkdeath.com/event/community-death-care-zine-workshop-exchange/
LOCATION:Virtual Event
CATEGORIES:Arts and Crafts,Arts and Culture,Class,Education,Workshop
ATTACH;FMTTYPE=image/png:https://www.talkdeath.com/wp-content/uploads/2026/01/Creative-Death-Care-Zine-Worshop.png
ORGANIZER;CN="Ames Meeks":MAILTO:queerlybeloveddoula@gmail.com
END:VEVENT
BEGIN:VEVENT
DTSTART;TZID=America/Denver:20251020T100000
DTEND;TZID=America/Denver:20251020T120000
DTSTAMP:20260424T034435
CREATED:20251014T125453Z
LAST-MODIFIED:20251014T125453Z
UID:10001481-1760954400-1760961600@www.talkdeath.com
SUMMARY:Storytelling Grief
DESCRIPTION:Nurture your inner writer\, creative\, and keeper of stories. Immortalize the experiences that have shaped you. \nA 6-week class to help you preserve the stories you can’t (won’t) lose to time\, and cultivate a writing ritual that transforms memory into lasting legacy. Through dedicated writing practice\, relevant and expansive prompts\, group sharing\, and genuine feedback\, you’ll honor your creativity\, learn to trust your voice on the page\, and build community around the sacred work of story-keeping. \nTaught by Dr. Melissa Delizia\n(Writer\, Doctor of Social Work\, & Certified Professional Coach) \nMondays from October 20 – November 24\n10am – 12pm Mountain
URL:https://www.talkdeath.com/event/storytelling-grief-4/2025-10-20/2/
LOCATION:Zoom\, Cornelius\, NC\, 28031
CATEGORIES:Class,Education,Virtual
ATTACH;FMTTYPE=image/png:https://www.talkdeath.com/wp-content/uploads/2025/10/Storytelling-Grief-2.png
ORGANIZER;CN="La Mort":MAILTO:studio@lamort.org
END:VEVENT
BEGIN:VEVENT
DTSTART;TZID=America/Denver:20251020T080000
DTEND;TZID=America/Denver:20251020T170000
DTSTAMP:20260424T034435
CREATED:20251014T125453Z
LAST-MODIFIED:20251014T125453Z
UID:10001480-1760947200-1760979600@www.talkdeath.com
SUMMARY:Storytelling Grief
DESCRIPTION:Nurture your inner writer\, creative\, and keeper of stories. Immortalize the experiences that have shaped you. \nA 6-week class to help you preserve the stories you can’t (won’t) lose to time\, and cultivate a writing ritual that transforms memory into lasting legacy. Through dedicated writing practice\, relevant and expansive prompts\, group sharing\, and genuine feedback\, you’ll honor your creativity\, learn to trust your voice on the page\, and build community around the sacred work of story-keeping. \nTaught by Dr. Melissa Delizia\n(Writer\, Doctor of Social Work\, & Certified Professional Coach) \nMondays from October 20 – November 24\n10am – 12pm Mountain
URL:https://www.talkdeath.com/event/storytelling-grief-4/2025-10-20/1/
LOCATION:Zoom\, Cornelius\, NC\, 28031
CATEGORIES:Class,Education,Virtual
ATTACH;FMTTYPE=image/png:https://www.talkdeath.com/wp-content/uploads/2025/10/Storytelling-Grief-2.png
ORGANIZER;CN="La Mort":MAILTO:studio@lamort.org
END:VEVENT
BEGIN:VEVENT
DTSTART;TZID=America/Los_Angeles:20250921T120000
DTEND;TZID=America/Los_Angeles:20250921T140000
DTSTAMP:20260424T034435
CREATED:20250818T142552Z
LAST-MODIFIED:20250818T142552Z
UID:10001444-1758456000-1758463200@www.talkdeath.com
SUMMARY:"Mist Me With That" - DIY Energy Cleansing Spray Workshop and Sound Bath
DESCRIPTION:Join us for a hands-on workshop where you’ll create your own custom energy-cleansing mist using essential oils\, herbs\, and intention-setting. Whether you want to refresh your home\, your work desk\, or your own energy field\, you’ll leave with a personalized spray that’s equal parts practical and magical. \nOnce we’ve crafted our blends\, we’ll settle into a restorative sound bath\, a deeply immersive experience with crystal singing bowls\, chimes\, and gentle guidance to help you release\, recharge\, and realign. \nYou’ll get: \nAll supplies + instruction to make your custom cleansing spray \nTips for using scent and ritual in your daily life \nGuided intention-setting practice \nA 30-minute crystal bowl sound bath to seal it all in \nWhat to bring: \nComfortable clothes \nYoga mat or blanket for the sound bath \nA small object to charge with your mist (optional) \nThe vibe: \nSlow + sensory \nPlayful but grounded \nCommunity care meets self-care \nCome for the scent play\, stay for the sound waves\, and leave feeling lighter than you came.
URL:https://www.talkdeath.com/event/mist-me-with-that-diy-energy-cleansing-spray-workshop-and-sound-bath/
LOCATION:Oxygen Tango\, 713 E Hyde Park Blvd\, Inglewood\, CA\, 90302\, United States
CATEGORIES:Arts and Culture,BiPoC,Class,Community Meet Up,Education,Grief Group,Grief Release,Peer-Led Grief Support,Workshop
ATTACH;FMTTYPE=image/png:https://www.talkdeath.com/wp-content/uploads/2025/08/Red-Blue-New-Year-Sound-healing-workshop-Instagram-Post.png
ORGANIZER;CN="Prism Memorial":MAILTO:deathwithlex@gmail.com
END:VEVENT
BEGIN:VEVENT
DTSTART;TZID=America/New_York:20250612T130000
DTEND;TZID=America/New_York:20250612T140000
DTSTAMP:20260424T034435
CREATED:20250605T144858Z
LAST-MODIFIED:20250605T144858Z
UID:10000616-1749733200-1749736800@www.talkdeath.com
SUMMARY:The GOOD DEATH BOOK CLUB Experience 12-Month Death and Dying Course
DESCRIPTION:According to a recent AARP study\, there are over 52 million caregivers in the United States right now—and 70% of them say they are overwhelmed. Every single day\, I receive messages from current and former caregivers who say: \n“I wish I had this knowledge when I was caring for my loved one.”\nOr:\n“The Doulagivers training is helping me more than I can say.” \nThe truth is:\nWe will all have a caregiving story.\nLet’s make sure yours is one filled with support\, empowerment\, and peace. \nThat’s why I created The GOOD DEATH BOOK CLUB Experience—a free\, live\, 12-month educational journey through my bestselling book The Good Death: A Guide for Supporting Your Loved One Through the End of Life. \nWhat It Is:\nEach month\, we explore one chapter of The Good Death together.\nYou’ll receive:\n-A live teaching session with me\, Suzanne B. O’Brien\, RN\n-A guided workbook and downloadable companion guide\n-A group discussion and experiential exercise\n-Access to all 12 recorded sessions when you join \nThis experience is for:\nCurrent and future caregivers\nIndividuals seeking grief healing and emotional support\nAnyone who wants spiritual inspiration and empowerment around death\, aging\, and life itself \nWhy It Matters:\nDeath is 100% guaranteed—and yet\, our modern culture has stripped away the education and sacredness that used to surround it.\nThis lack of awareness is contributing to unnecessary fear\, trauma\, and prolonged grief.\nBut death is not the enemy.\nIt is our greatest teacher about how to truly live.\nWhen we return death to its place as a natural\, sacred transition\, we begin to reclaim peace\, presence\, and purpose in our lives and communities. \nYou’re Invited:\nJoin us for the next GOOD DEATH BOOK CLUB LIVE:\n-June 12th at 1 PM ET\n-Class value: $75 – Now FREE\n-Space is limited – Save your seat here: https://thegooddeathbook.com/book-club/ \n“Change your perspective\, change your life. Death is not the end—it is a profound transition.”\n— Suzanne B. O’Brien\, RN \nLet’s bring death back to the sacred space it was always meant to hold—together.\nYou are loved\,\nSuzanne B. O’Brien\, RN
URL:https://www.talkdeath.com/event/the-good-death-book-club-experience-12-month-death-and-dying-course/
CATEGORIES:Class,Community Meet Up,Education,Grief Release,Virtual,Webinar
ORGANIZER;CN="Doulagivers Institute":MAILTO:support@doulagivers.com
END:VEVENT
BEGIN:VEVENT
DTSTART;VALUE=DATE:20250529
DTEND;VALUE=DATE:20250602
DTSTAMP:20260424T034435
CREATED:20250516T153432Z
LAST-MODIFIED:20250516T153432Z
UID:10000537-1748476800-1748822399@www.talkdeath.com
SUMMARY:Philadelphia Death and Arts Festival
DESCRIPTION:Philadelphia Death and Arts Festival (PDAF) is a collaborative\, artist-led experience\, reimagining the culture of dying. The festival’s three themes– aging\, dying\, and grieving– are explored with performances\, workshops\, panels\, and more. \nThe festival invites attendees into a vision of a culture of dying that is person-centered\, community-oriented\, and care driven. \nPDAF takes place from May 29th – June 1st at the Laurel Hill Cemeteries: \nLaurel Hill EAST: 3822 Ridge Avenue\, Philadelphia\, PA 19132 \nLaurel Hill WEST: 225 Belmont Avenue\, Bala Cynwyd\, PA 19004 \nGPS Directions: 340 Belmont Avenue\, Bala Cynwyd\, PA 19004 \nWe heartily encourage everyone to carpool where possible! \nTickets for performances are $10-40. Please buy tickets in advance. \nTickets for workshops are $0-$40. Please register in advance. \nPanel discussions are free and open to the public.
URL:https://www.talkdeath.com/event/philadelphia-death-and-arts-festival-2/
LOCATION:Laurel Hill Cemetery\, 3822 Ridge Avenue\, Philadelphia\, PA\, 19132\, United States
CATEGORIES:Arts and Culture,Cemetery,Class,Conference,Education,Green Burial,Training,Workshop
ATTACH;FMTTYPE=image/png:https://www.talkdeath.com/wp-content/uploads/2025/05/Untitled-design-14-png.webp
END:VEVENT
BEGIN:VEVENT
DTSTART;TZID=America/Toronto:20250504T080000
DTEND;TZID=America/Toronto:20250504T170000
DTSTAMP:20260424T034435
CREATED:20250410T213528Z
LAST-MODIFIED:20250410T213528Z
UID:10000025-1746345600-1746378000@www.talkdeath.com
SUMMARY:Sunday in the Cemetery
DESCRIPTION:Sunday in the Cemetery is a day-long exploration of mortality at Green-Wood. We invite you to candidly engage with grief and death through a compassionate\, supportive lens. This free\, open-house style event brings together leading experts for engaging talks\, workshops\, and guided tours that illuminate end-of-life care\, funeral traditions\, and memorial arts. Through personal stories and interactive experiences\, discover community through shared human experiences and gain insights into how we can each live well and remember meaningfully.
URL:https://www.talkdeath.com/event/sunday-in-the-cemetery/
LOCATION:The Green-Wood Cemetery\, 500 25th St.\, Brooklyn\, NY\, 11232\, United States
CATEGORIES:Arts and Crafts,Arts and Culture,Cemetery,Class,Community Meet Up,Education,Tour,Workshop
ATTACH;FMTTYPE=image/jpeg:https://www.talkdeath.com/wp-content/uploads/2025/04/GW_SitC_List-View-scaled.jpg
ORGANIZER;CN="The Green-Wood Cemetery":MAILTO:events@green-wood.com
END:VEVENT
END:VCALENDAR