BEGIN:VCALENDAR
VERSION:2.0
PRODID:-//TalkDeath - ECPv6.15.19//NONSGML v1.0//EN
CALSCALE:GREGORIAN
METHOD:PUBLISH
X-WR-CALNAME:TalkDeath
X-ORIGINAL-URL:https://www.talkdeath.com
X-WR-CALDESC:Events for TalkDeath
REFRESH-INTERVAL;VALUE=DURATION:PT1H
X-Robots-Tag:noindex
X-PUBLISHED-TTL:PT1H
BEGIN:VTIMEZONE
TZID:America/Toronto
BEGIN:DAYLIGHT
TZOFFSETFROM:-0500
TZOFFSETTO:-0400
TZNAME:EDT
DTSTART:20250309T070000
END:DAYLIGHT
BEGIN:STANDARD
TZOFFSETFROM:-0400
TZOFFSETTO:-0500
TZNAME:EST
DTSTART:20251102T060000
END:STANDARD
BEGIN:DAYLIGHT
TZOFFSETFROM:-0500
TZOFFSETTO:-0400
TZNAME:EDT
DTSTART:20260308T070000
END:DAYLIGHT
BEGIN:STANDARD
TZOFFSETFROM:-0400
TZOFFSETTO:-0500
TZNAME:EST
DTSTART:20261101T060000
END:STANDARD
BEGIN:DAYLIGHT
TZOFFSETFROM:-0500
TZOFFSETTO:-0400
TZNAME:EDT
DTSTART:20270314T070000
END:DAYLIGHT
BEGIN:STANDARD
TZOFFSETFROM:-0400
TZOFFSETTO:-0500
TZNAME:EST
DTSTART:20271107T060000
END:STANDARD
END:VTIMEZONE
BEGIN:VEVENT
DTSTART;VALUE=DATE:20261106
DTEND;VALUE=DATE:20261108
DTSTAMP:20260422T233233
CREATED:20260216T151443Z
LAST-MODIFIED:20260216T151443Z
UID:10001686-1793923200-1794095999@www.talkdeath.com
SUMMARY:The Threshold; A Conference On Death\, Meaning and Renewal
DESCRIPTION:Explore how death — literal\, symbolic\, and societal — shapes our lives\, beliefs\, and communities.\nThis conference invites scholars\, artists\, healers\, and everyday seekers to reimagine death not as an end\, but as a threshold.
URL:https://www.talkdeath.com/event/the-threshold-a-conference-on-death-meaning-and-renewal/
CATEGORIES:Conference
ATTACH;FMTTYPE=image/jpeg:https://www.talkdeath.com/wp-content/uploads/2026/02/LOGO-2026.jpg
END:VEVENT
END:VCALENDAR