BEGIN:VCALENDAR
VERSION:2.0
PRODID:-//TalkDeath - ECPv6.15.19//NONSGML v1.0//EN
CALSCALE:GREGORIAN
METHOD:PUBLISH
X-WR-CALNAME:TalkDeath
X-ORIGINAL-URL:https://www.talkdeath.com
X-WR-CALDESC:Events for TalkDeath
REFRESH-INTERVAL;VALUE=DURATION:PT1H
X-Robots-Tag:noindex
X-PUBLISHED-TTL:PT1H
BEGIN:VTIMEZONE
TZID:America/Los_Angeles
BEGIN:DAYLIGHT
TZOFFSETFROM:-0800
TZOFFSETTO:-0700
TZNAME:PDT
DTSTART:20250309T100000
END:DAYLIGHT
BEGIN:STANDARD
TZOFFSETFROM:-0700
TZOFFSETTO:-0800
TZNAME:PST
DTSTART:20251102T090000
END:STANDARD
BEGIN:DAYLIGHT
TZOFFSETFROM:-0800
TZOFFSETTO:-0700
TZNAME:PDT
DTSTART:20260308T100000
END:DAYLIGHT
BEGIN:STANDARD
TZOFFSETFROM:-0700
TZOFFSETTO:-0800
TZNAME:PST
DTSTART:20261101T090000
END:STANDARD
BEGIN:DAYLIGHT
TZOFFSETFROM:-0800
TZOFFSETTO:-0700
TZNAME:PDT
DTSTART:20270314T100000
END:DAYLIGHT
BEGIN:STANDARD
TZOFFSETFROM:-0700
TZOFFSETTO:-0800
TZNAME:PST
DTSTART:20271107T090000
END:STANDARD
END:VTIMEZONE
BEGIN:VTIMEZONE
TZID:America/Denver
BEGIN:DAYLIGHT
TZOFFSETFROM:-0700
TZOFFSETTO:-0600
TZNAME:MDT
DTSTART:20250309T090000
END:DAYLIGHT
BEGIN:STANDARD
TZOFFSETFROM:-0600
TZOFFSETTO:-0700
TZNAME:MST
DTSTART:20251102T080000
END:STANDARD
BEGIN:DAYLIGHT
TZOFFSETFROM:-0700
TZOFFSETTO:-0600
TZNAME:MDT
DTSTART:20260308T090000
END:DAYLIGHT
BEGIN:STANDARD
TZOFFSETFROM:-0600
TZOFFSETTO:-0700
TZNAME:MST
DTSTART:20261101T080000
END:STANDARD
BEGIN:DAYLIGHT
TZOFFSETFROM:-0700
TZOFFSETTO:-0600
TZNAME:MDT
DTSTART:20270314T090000
END:DAYLIGHT
BEGIN:STANDARD
TZOFFSETFROM:-0600
TZOFFSETTO:-0700
TZNAME:MST
DTSTART:20271107T080000
END:STANDARD
END:VTIMEZONE
BEGIN:VEVENT
DTSTART;TZID=America/Los_Angeles:20260515T173000
DTEND;TZID=America/Los_Angeles:20260515T190000
DTSTAMP:20260421T183242
CREATED:20260416T133616Z
LAST-MODIFIED:20260416T133616Z
UID:10001854-1778866200-1778871600@www.talkdeath.com
SUMMARY:Laguna Beach Death Café
DESCRIPTION:This community event will offer an informal\, open conversation about end-of-life planning\, death\, and dying\, shared over refreshments. \nFor those curious about the end of life\, Death Cafés offer a safe\, accepting place to ask questions or share experiences. \nThey are held on the third Thursday of each month.
URL:https://www.talkdeath.com/event/laguna-beach-death-cafe/
LOCATION:Neighborhood Congregational Church\, 340 St. Ann's Drive\, Laguna Beach\, CA\, 92651\, United States
CATEGORIES:Community Meet Up,Death Cafe
ATTACH;FMTTYPE=image/jpeg:https://www.talkdeath.com/wp-content/uploads/2026/04/IMG_2279-1-scaled.jpg
ORGANIZER;CN="Orange County Deathworkers Alliance":MAILTO:info@ocdeathworkers.com
END:VEVENT
BEGIN:VEVENT
DTSTART;TZID=America/Denver:20260527T180000
DTEND;TZID=America/Denver:20260527T200000
DTSTAMP:20260421T183242
CREATED:20250515T132749Z
LAST-MODIFIED:20250515T132749Z
UID:10000427-1779904800-1779912000@www.talkdeath.com
SUMMARY:Death Cafe
DESCRIPTION:The Lotus Center Death Cafe is open to the public and typically consists of an agenda-free discussion of death . Our objective will be to increase awareness of death with a view to helping people make the most of their (finite) lives. Dinner will be served. \nAll ages welcome. This is a safe\, judgement-free\, no-fixing zone. Every belief is welcome.
URL:https://www.talkdeath.com/event/death-cafe-4/2026-05-27/
LOCATION:The Lotus Center\, 4376 South 700 East #200\, Millcreek\, UT\, 84124\, United States
CATEGORIES:Death Cafe
END:VEVENT
END:VCALENDAR