BEGIN:VCALENDAR
VERSION:2.0
PRODID:-//TalkDeath - ECPv6.15.19//NONSGML v1.0//EN
CALSCALE:GREGORIAN
METHOD:PUBLISH
X-ORIGINAL-URL:https://www.talkdeath.com
X-WR-CALDESC:Events for TalkDeath
REFRESH-INTERVAL;VALUE=DURATION:PT1H
X-Robots-Tag:noindex
X-PUBLISHED-TTL:PT1H
BEGIN:VTIMEZONE
TZID:America/Los_Angeles
BEGIN:DAYLIGHT
TZOFFSETFROM:-0800
TZOFFSETTO:-0700
TZNAME:PDT
DTSTART:20240310T100000
END:DAYLIGHT
BEGIN:STANDARD
TZOFFSETFROM:-0700
TZOFFSETTO:-0800
TZNAME:PST
DTSTART:20241103T090000
END:STANDARD
BEGIN:DAYLIGHT
TZOFFSETFROM:-0800
TZOFFSETTO:-0700
TZNAME:PDT
DTSTART:20250309T100000
END:DAYLIGHT
BEGIN:STANDARD
TZOFFSETFROM:-0700
TZOFFSETTO:-0800
TZNAME:PST
DTSTART:20251102T090000
END:STANDARD
BEGIN:DAYLIGHT
TZOFFSETFROM:-0800
TZOFFSETTO:-0700
TZNAME:PDT
DTSTART:20260308T100000
END:DAYLIGHT
BEGIN:STANDARD
TZOFFSETFROM:-0700
TZOFFSETTO:-0800
TZNAME:PST
DTSTART:20261101T090000
END:STANDARD
END:VTIMEZONE
BEGIN:VEVENT
DTSTART;TZID=America/Los_Angeles:20250813T170000
DTEND;TZID=America/Los_Angeles:20250813T180000
DTSTAMP:20260424T034932
CREATED:20250806T131222Z
LAST-MODIFIED:20250806T131222Z
UID:10001431-1755104400-1755108000@www.talkdeath.com
SUMMARY:NHFA Webinar - Sacred Connections: Designing Home Funerals as Ritual Acts
DESCRIPTION:What if death wasn’t an ending—but a sacred transition woven with ritual\, love\, and ancestral wisdom? \nJoin us for a transformative community deathcare webinar where we’ll explore how to create meaningful home funerals rooted in ancestral wisdom\, natural magick\, and spiritual direction! This session will explore the importance of including hands-on elements like ritual washing\, altar building\, storytelling circles\, as well as incorporating continuing bonds in memorial rituals. \nA practicing witch and Pagan for over 40 years\, Silent is an end-of-life doula trained through INELDA and a Spiritual Director at Cherry Hill Seminary. He provides deep listening\, reflective questions\, and integrative practices like journaling and meditation\, enabling others to uncover clarity on their spiritual paths without relying on prescribed answers. From vigil planning and psychopomp rituals to ancestor remembrances and legacy creation\, Silent helps others walk the sacred passage with wisdom\, ritual\, and heart.
URL:https://www.talkdeath.com/event/nhfa-webinar-sacred-connections-designing-home-funerals-as-ritual-acts/
LOCATION:Virtual Event
CATEGORIES:Funeral,Virtual,Webinar
ATTACH;FMTTYPE=image/png:https://www.talkdeath.com/wp-content/uploads/2025/08/Webinar-posts-1.png
ORGANIZER;CN="National Home Funeral Alliance":MAILTO:​info@homefuneralalliance.org
END:VEVENT
BEGIN:VEVENT
DTSTART;TZID=America/Los_Angeles:20250823T180000
DTEND;TZID=America/Los_Angeles:20250823T193000
DTSTAMP:20260424T034932
CREATED:20250804T134853Z
LAST-MODIFIED:20250804T134853Z
UID:10001429-1755972000-1755977400@www.talkdeath.com
SUMMARY:Straight Talk About Death: Open Q&A with End-of-Life Pros
DESCRIPTION:Let’s face it – talking about death and dying is still a bit taboo in our culture. But how can you make informed decisions about end-of-life when clear\, honest information is so hard to come by? That’s where we come in. Join our panel of end-of-life professionals for a laid-back Q&A session where no question is too basic\, or too taboo. We’re here to bring transparency to death care – one real conversation at a time. \nOur panel of end-of-life experts\, includes a licensed funeral director\, crematory operator and embalmer\, death doulas\, death educators\, and guides who are passionate about bringing transparency to the funeral profession. \nWe show up with deep respect for our work and the sacredness of death\, and we invite you to show up with your curiosity. \nHave you ever asked yourself?\n💡 Can I be buried in my backyard?\n💡 Can I ask a friend to put snacks in my casket before I’m buried?\n💡 What will I look like a decade after I’ve been embalmed?\n💡 What’s the difference between a green burial and a “traditional” burial?\n💡 What exactly are those ashes in my auntie’s urn?\n💡 Is human composting really a thing and how does it work? \nThis is your chance to get real answers from people who live this work every day. Join us for authentic conversation about the things no one talks about (but should). \nWe will be meeting at South Park Yoga & Wellness and they kindly request that shoes are removed in the meeting space. Thanks so much!
URL:https://www.talkdeath.com/event/straight-talk-about-death-open-qa-with-end-of-life-pros/
LOCATION:South Park Yoga & Wellness\, 2985 Beech St.\, San Diego\, CA\, 92102\, United States
CATEGORIES:Community Meet Up,Education,Funeral,Green Burial,Workshop
ATTACH;FMTTYPE=image/png:https://www.talkdeath.com/wp-content/uploads/2025/08/disposition-5-1.png
ORGANIZER;CN="The Death Network":MAILTO:hello@dodeathdifferent.com
END:VEVENT
END:VCALENDAR