BEGIN:VCALENDAR
VERSION:2.0
PRODID:-//TalkDeath - ECPv6.15.19//NONSGML v1.0//EN
CALSCALE:GREGORIAN
METHOD:PUBLISH
X-ORIGINAL-URL:https://www.talkdeath.com
X-WR-CALDESC:Events for TalkDeath
REFRESH-INTERVAL;VALUE=DURATION:PT1H
X-Robots-Tag:noindex
X-PUBLISHED-TTL:PT1H
BEGIN:VTIMEZONE
TZID:America/Toronto
BEGIN:DAYLIGHT
TZOFFSETFROM:-0500
TZOFFSETTO:-0400
TZNAME:EDT
DTSTART:20250309T070000
END:DAYLIGHT
BEGIN:STANDARD
TZOFFSETFROM:-0400
TZOFFSETTO:-0500
TZNAME:EST
DTSTART:20251102T060000
END:STANDARD
BEGIN:DAYLIGHT
TZOFFSETFROM:-0500
TZOFFSETTO:-0400
TZNAME:EDT
DTSTART:20260308T070000
END:DAYLIGHT
BEGIN:STANDARD
TZOFFSETFROM:-0400
TZOFFSETTO:-0500
TZNAME:EST
DTSTART:20261101T060000
END:STANDARD
BEGIN:DAYLIGHT
TZOFFSETFROM:-0500
TZOFFSETTO:-0400
TZNAME:EDT
DTSTART:20270314T070000
END:DAYLIGHT
BEGIN:STANDARD
TZOFFSETFROM:-0400
TZOFFSETTO:-0500
TZNAME:EST
DTSTART:20271107T060000
END:STANDARD
END:VTIMEZONE
BEGIN:VEVENT
DTSTART;TZID=America/Toronto:20260312T190000
DTEND;TZID=America/Toronto:20260312T203000
DTSTAMP:20260425T072414
CREATED:20260302T132656Z
LAST-MODIFIED:20260302T132656Z
UID:10001819-1773342000-1773347400@www.talkdeath.com
SUMMARY:Natural Burial: A Capital Idea!
DESCRIPTION:Curious about green burial and what’s happening in the Ottawa region? Join this panel discussion to learn more. \nExplore what natural burial is\, how it works\, and how local initiatives are advancing this environmentally responsible option. Discover how natural burial supports land conservation while offering a meaningful\, sustainable way to honour your loved ones. \nJoin us online on March 12 at 7:00 pm ET for Natural Burial: A Capital Idea. We will feature the latest developments in Ottawa\, along with highlights from initiatives in the Outaouais\, Kingston\, and the Ottawa Valley\, and we’ll be joined by a representative from the Bereavement Authority of Ontario! \nPreregister to receive the zoom link and recording.
URL:https://www.talkdeath.com/event/natural-burial-a-capital-idea-2/
LOCATION:Zoom\, Cornelius\, NC\, 28031
CATEGORIES:Green Burial
ATTACH;FMTTYPE=image/png:https://www.talkdeath.com/wp-content/uploads/2026/03/Natural-Burial-A-Capital-Idea.png
ORGANIZER;CN="Community Deathcare Ottawa":MAILTO:deathcareottawa@gmail.com
END:VEVENT
END:VCALENDAR