BEGIN:VCALENDAR
VERSION:2.0
PRODID:-//TalkDeath - ECPv6.15.19//NONSGML v1.0//EN
CALSCALE:GREGORIAN
METHOD:PUBLISH
X-WR-CALNAME:TalkDeath
X-ORIGINAL-URL:https://www.talkdeath.com
X-WR-CALDESC:Events for TalkDeath
REFRESH-INTERVAL;VALUE=DURATION:PT1H
X-Robots-Tag:noindex
X-PUBLISHED-TTL:PT1H
BEGIN:VTIMEZONE
TZID:America/Chicago
BEGIN:DAYLIGHT
TZOFFSETFROM:-0600
TZOFFSETTO:-0500
TZNAME:CDT
DTSTART:20240310T080000
END:DAYLIGHT
BEGIN:STANDARD
TZOFFSETFROM:-0500
TZOFFSETTO:-0600
TZNAME:CST
DTSTART:20241103T070000
END:STANDARD
BEGIN:DAYLIGHT
TZOFFSETFROM:-0600
TZOFFSETTO:-0500
TZNAME:CDT
DTSTART:20250309T080000
END:DAYLIGHT
BEGIN:STANDARD
TZOFFSETFROM:-0500
TZOFFSETTO:-0600
TZNAME:CST
DTSTART:20251102T070000
END:STANDARD
BEGIN:DAYLIGHT
TZOFFSETFROM:-0600
TZOFFSETTO:-0500
TZNAME:CDT
DTSTART:20260308T080000
END:DAYLIGHT
BEGIN:STANDARD
TZOFFSETFROM:-0500
TZOFFSETTO:-0600
TZNAME:CST
DTSTART:20261101T070000
END:STANDARD
END:VTIMEZONE
BEGIN:VTIMEZONE
TZID:America/Denver
BEGIN:DAYLIGHT
TZOFFSETFROM:-0700
TZOFFSETTO:-0600
TZNAME:MDT
DTSTART:20240310T090000
END:DAYLIGHT
BEGIN:STANDARD
TZOFFSETFROM:-0600
TZOFFSETTO:-0700
TZNAME:MST
DTSTART:20241103T080000
END:STANDARD
BEGIN:DAYLIGHT
TZOFFSETFROM:-0700
TZOFFSETTO:-0600
TZNAME:MDT
DTSTART:20250309T090000
END:DAYLIGHT
BEGIN:STANDARD
TZOFFSETFROM:-0600
TZOFFSETTO:-0700
TZNAME:MST
DTSTART:20251102T080000
END:STANDARD
BEGIN:DAYLIGHT
TZOFFSETFROM:-0700
TZOFFSETTO:-0600
TZNAME:MDT
DTSTART:20260308T090000
END:DAYLIGHT
BEGIN:STANDARD
TZOFFSETFROM:-0600
TZOFFSETTO:-0700
TZNAME:MST
DTSTART:20261101T080000
END:STANDARD
END:VTIMEZONE
BEGIN:VTIMEZONE
TZID:America/Vancouver
BEGIN:DAYLIGHT
TZOFFSETFROM:-0800
TZOFFSETTO:-0700
TZNAME:PDT
DTSTART:20240310T100000
END:DAYLIGHT
BEGIN:STANDARD
TZOFFSETFROM:-0700
TZOFFSETTO:-0800
TZNAME:PST
DTSTART:20241103T090000
END:STANDARD
BEGIN:DAYLIGHT
TZOFFSETFROM:-0800
TZOFFSETTO:-0700
TZNAME:PDT
DTSTART:20250309T100000
END:DAYLIGHT
BEGIN:STANDARD
TZOFFSETFROM:-0700
TZOFFSETTO:-0800
TZNAME:PST
DTSTART:20251102T090000
END:STANDARD
BEGIN:DAYLIGHT
TZOFFSETFROM:-0800
TZOFFSETTO:-0700
TZNAME:PDT
DTSTART:20260308T100000
END:DAYLIGHT
BEGIN:STANDARD
TZOFFSETFROM:-0700
TZOFFSETTO:-0800
TZNAME:PST
DTSTART:20261101T090000
END:STANDARD
END:VTIMEZONE
BEGIN:VEVENT
DTSTART;TZID=America/Chicago:20251203T190000
DTEND;TZID=America/Chicago:20251203T200000
DTSTAMP:20260422T064303
CREATED:20251108T152304Z
LAST-MODIFIED:20251108T152304Z
UID:10001496-1764788400-1764792000@www.talkdeath.com
SUMMARY:A Gathering for Friend-loss Grievers
DESCRIPTION:In this online gathering\, we will share stories and have a facilitated discussion about friend-loss grief. \nThe session will be hosted and facilitated by Hannah Rumsey\, the Founder and Director of Friends Missing Friends — a community dedicated to providing support and guidance for people grieving friends. \nFriend-loss grief is widely ignored and dismissed by our society. Harold Ivan Smith\, the author of Grieving the Death of a Friend\, said it best: “The distraught close friend of someone who dies has virtually no legitimate\, public grief and mourning channels.” \nBecause of that\, friend-loss grievers have very few avenues to openly talk about their grief. In this discussion\, we are free to talk about it: the depth of our sadness\, the fears\, the anxieties\, the doubts\, the jealousies. Everything we are normally too scared to say. \nLet’s honor our friends\, make connections\, and have meaningful conversation.
URL:https://www.talkdeath.com/event/a-gathering-for-friend-loss-grievers/
LOCATION:ON
CATEGORIES:Community Meet Up,Grief Group,Peer-Led Grief Support,Virtual
ATTACH;FMTTYPE=image/jpeg:https://www.talkdeath.com/wp-content/uploads/2025/11/Griefgroup-scaled.jpg
END:VEVENT
BEGIN:VEVENT
DTSTART;TZID=America/Denver:20251211T173000
DTEND;TZID=America/Denver:20251211T190000
DTSTAMP:20260422T064303
CREATED:20250605T200631Z
LAST-MODIFIED:20250605T200631Z
UID:10000699-1765474200-1765479600@www.talkdeath.com
SUMMARY:"It's Complicated" Support Group
DESCRIPTION:A monthly peer-led Zoom group for people who had a strained relationship with someone who’s died. It can be tough to be in a group with other folks who were close with their parent\, sibling\, grandparent\, partner\, co-parent\, friend\, etc. As much as I like for there to be a range of experiences represented in grief groups\, so that we can hear diverse perspectives\, sometimes it is nice to be with people who “get it.” When addiction\, mental health challenges\, conflict\, estrangement\, abuse\, etc. were a part of the picture\, it can affect the grief journey in unique ways. This is a space for us.
URL:https://www.talkdeath.com/event/its-complicated-support-group-2/2025-12-11/
LOCATION:Virtual Event
CATEGORIES:Grief Group,Peer-Led Grief Support,Virtual
ORGANIZER;CN="Dear Departures":MAILTO:tawnya@deardepartures.com
END:VEVENT
BEGIN:VEVENT
DTSTART;TZID=America/Denver:20251215T173000
DTEND;TZID=America/Denver:20251215T190000
DTSTAMP:20260422T064303
CREATED:20250507T143945Z
LAST-MODIFIED:20250507T143945Z
UID:10000355-1765819800-1765825200@www.talkdeath.com
SUMMARY:Childfree By Choice & Grieving
DESCRIPTION:It’s not a given that everyone who is childfree by choice is 100%\, unabashedly content with the decision. While we may be set in our choice\, there can still be grief there. I know there is for me. It’s a both-and/two truths situation. Many of us make this choice for a lot of unfortunate\, depressing\, and/or systemic reasons\, and I created this space where we can be with our truths\, and hurts\, around it all. \nOur monthly peer-led Zoom group is intended to be a space for people who have chosen not to have children. It is not intended to be a child-loss support group or infertility support group\, although if you have prior experience with infertility and/or pregnancy loss and have since decided to not have children (meaning you are now childfree by choice) feel free to join and see if it’s a good fit.
URL:https://www.talkdeath.com/event/childfree-by-choice-grieving/2025-12-15/
LOCATION:Virtual Event
CATEGORIES:Grief Group,Peer-Led Grief Support,Virtual
ATTACH;FMTTYPE=image/png:https://www.talkdeath.com/wp-content/uploads/2025/05/2.png
ORGANIZER;CN="Dear Departures":MAILTO:tawnya@deardepartures.com
END:VEVENT
BEGIN:VEVENT
DTSTART;TZID=America/Vancouver:20251231T180000
DTEND;TZID=America/Vancouver:20251231T193000
DTSTAMP:20260422T064303
CREATED:20250605T144707Z
LAST-MODIFIED:20250605T144707Z
UID:10000633-1767204000-1767209400@www.talkdeath.com
SUMMARY:The Grief Well Drop In Virtual Grief Gathering
DESCRIPTION:THE OPPORTUNITY TO EXPLORE AND SHARE GRIEF TOGETHER THROUGH POETRY\, FREE WRITING\, SHARING\, WITNESSING\, AND SILENCE. \nEVERYTHING AS AN INVITATION. \nPARTICIPATE IN WHATEVER WAY FEELS RIGHT FOR YOU. \nAll grief welcome – past\, present\, and future. Death and non-death grief.
URL:https://www.talkdeath.com/event/the-grief-well-drop-in-virtual-grief-gathering/2025-12-31/
LOCATION:Virtual Event
CATEGORIES:Grief Group
ORGANIZER;CN="The Grief Well":MAILTO:tlc@endwell.ca
END:VEVENT
END:VCALENDAR