BEGIN:VCALENDAR
VERSION:2.0
PRODID:-//TalkDeath - ECPv6.15.19//NONSGML v1.0//EN
CALSCALE:GREGORIAN
METHOD:PUBLISH
X-ORIGINAL-URL:https://www.talkdeath.com
X-WR-CALDESC:Events for TalkDeath
REFRESH-INTERVAL;VALUE=DURATION:PT1H
X-Robots-Tag:noindex
X-PUBLISHED-TTL:PT1H
BEGIN:VTIMEZONE
TZID:America/Toronto
BEGIN:DAYLIGHT
TZOFFSETFROM:-0500
TZOFFSETTO:-0400
TZNAME:EDT
DTSTART:20250309T070000
END:DAYLIGHT
BEGIN:STANDARD
TZOFFSETFROM:-0400
TZOFFSETTO:-0500
TZNAME:EST
DTSTART:20251102T060000
END:STANDARD
BEGIN:DAYLIGHT
TZOFFSETFROM:-0500
TZOFFSETTO:-0400
TZNAME:EDT
DTSTART:20260308T070000
END:DAYLIGHT
BEGIN:STANDARD
TZOFFSETFROM:-0400
TZOFFSETTO:-0500
TZNAME:EST
DTSTART:20261101T060000
END:STANDARD
BEGIN:DAYLIGHT
TZOFFSETFROM:-0500
TZOFFSETTO:-0400
TZNAME:EDT
DTSTART:20270314T070000
END:DAYLIGHT
BEGIN:STANDARD
TZOFFSETFROM:-0400
TZOFFSETTO:-0500
TZNAME:EST
DTSTART:20271107T060000
END:STANDARD
END:VTIMEZONE
BEGIN:VEVENT
DTSTART;TZID=America/Toronto:20260411T080000
DTEND;TZID=America/Toronto:20260411T170000
DTSTAMP:20260421T231436
CREATED:20260331T181214Z
LAST-MODIFIED:20260331T181214Z
UID:10001845-1775894400-1775926800@www.talkdeath.com
SUMMARY:Cozy Collage: Bay Area Edition
DESCRIPTION:Cozy collage is a collective space to honor and be with our grief through the collage making process. We will work with collaging while having collective discussions about grief. This is not a grief processing space\, rather a space to engage with grief through the creation process with others. The event will be led by D (they/them)\, a healing practitioner and grief/death worker in Oakland. \nThis offering is originally created by Colleen @deathdouladoes\, we are working in collaboration to launch a Bay Area edition of this event!
URL:https://www.talkdeath.com/event/cozy-collage-bay-area-edition/2026-04-11/1/
LOCATION:Moments Cooperative & Community Space\, 410 13th Street\, Oakland\, CA\, 94612\, United States
CATEGORIES:Arts and Crafts,Community Meet Up,Grief Group,LGBTQ
ATTACH;FMTTYPE=image/png:https://www.talkdeath.com/wp-content/uploads/2026/03/Cozy-Collage-411.png
ORGANIZER;CN="Universal Bridge":MAILTO:universalbridge@proton.me
END:VEVENT
BEGIN:VEVENT
DTSTART;TZID=America/Toronto:20260411T110000
DTEND;TZID=America/Toronto:20260411T130000
DTSTAMP:20260421T231436
CREATED:20260331T181214Z
LAST-MODIFIED:20260331T181214Z
UID:10001846-1775905200-1775912400@www.talkdeath.com
SUMMARY:Cozy Collage: Bay Area Edition
DESCRIPTION:Cozy collage is a collective space to honor and be with our grief through the collage making process. We will work with collaging while having collective discussions about grief. This is not a grief processing space\, rather a space to engage with grief through the creation process with others. The event will be led by D (they/them)\, a healing practitioner and grief/death worker in Oakland. \nThis offering is originally created by Colleen @deathdouladoes\, we are working in collaboration to launch a Bay Area edition of this event!
URL:https://www.talkdeath.com/event/cozy-collage-bay-area-edition/2026-04-11/2/
LOCATION:Moments Cooperative & Community Space\, 410 13th Street\, Oakland\, CA\, 94612\, United States
CATEGORIES:Arts and Crafts,Community Meet Up,Grief Group,LGBTQ
ATTACH;FMTTYPE=image/png:https://www.talkdeath.com/wp-content/uploads/2026/03/Cozy-Collage-411.png
ORGANIZER;CN="Universal Bridge":MAILTO:universalbridge@proton.me
END:VEVENT
END:VCALENDAR