BEGIN:VCALENDAR
VERSION:2.0
PRODID:-//TalkDeath - ECPv6.15.19//NONSGML v1.0//EN
CALSCALE:GREGORIAN
METHOD:PUBLISH
X-WR-CALNAME:TalkDeath
X-ORIGINAL-URL:https://www.talkdeath.com
X-WR-CALDESC:Events for TalkDeath
REFRESH-INTERVAL;VALUE=DURATION:PT1H
X-Robots-Tag:noindex
X-PUBLISHED-TTL:PT1H
BEGIN:VTIMEZONE
TZID:America/Toronto
BEGIN:DAYLIGHT
TZOFFSETFROM:-0500
TZOFFSETTO:-0400
TZNAME:EDT
DTSTART:20250309T070000
END:DAYLIGHT
BEGIN:STANDARD
TZOFFSETFROM:-0400
TZOFFSETTO:-0500
TZNAME:EST
DTSTART:20251102T060000
END:STANDARD
BEGIN:DAYLIGHT
TZOFFSETFROM:-0500
TZOFFSETTO:-0400
TZNAME:EDT
DTSTART:20260308T070000
END:DAYLIGHT
BEGIN:STANDARD
TZOFFSETFROM:-0400
TZOFFSETTO:-0500
TZNAME:EST
DTSTART:20261101T060000
END:STANDARD
BEGIN:DAYLIGHT
TZOFFSETFROM:-0500
TZOFFSETTO:-0400
TZNAME:EDT
DTSTART:20270314T070000
END:DAYLIGHT
BEGIN:STANDARD
TZOFFSETFROM:-0400
TZOFFSETTO:-0500
TZNAME:EST
DTSTART:20271107T060000
END:STANDARD
END:VTIMEZONE
BEGIN:VTIMEZONE
TZID:America/Vancouver
BEGIN:DAYLIGHT
TZOFFSETFROM:-0800
TZOFFSETTO:-0700
TZNAME:PDT
DTSTART:20250309T100000
END:DAYLIGHT
BEGIN:STANDARD
TZOFFSETFROM:-0700
TZOFFSETTO:-0800
TZNAME:PST
DTSTART:20251102T090000
END:STANDARD
BEGIN:DAYLIGHT
TZOFFSETFROM:-0800
TZOFFSETTO:-0700
TZNAME:PDT
DTSTART:20260308T100000
END:DAYLIGHT
BEGIN:STANDARD
TZOFFSETFROM:-0700
TZOFFSETTO:-0800
TZNAME:PST
DTSTART:20261101T090000
END:STANDARD
BEGIN:DAYLIGHT
TZOFFSETFROM:-0800
TZOFFSETTO:-0700
TZNAME:PDT
DTSTART:20270314T100000
END:DAYLIGHT
BEGIN:STANDARD
TZOFFSETFROM:-0700
TZOFFSETTO:-0800
TZNAME:PST
DTSTART:20271107T090000
END:STANDARD
END:VTIMEZONE
BEGIN:VEVENT
DTSTART;TZID=America/Toronto:20260423T160000
DTEND;TZID=America/Toronto:20260423T170000
DTSTAMP:20260421T200005
CREATED:20260305T135530Z
LAST-MODIFIED:20260305T135530Z
UID:10001828-1776960000-1776963600@www.talkdeath.com
SUMMARY:Improving Communication: When No One Understands
DESCRIPTION:Have you ever left a conversation thinking\,\n“They just don’t get it.” \nGrief can make everyday conversations feel exhausting. \nFrom “How are you?” to “You should be over it by now\,” navigating communication after loss can feel overwhelming — especially when people misunderstand your grief. \nIf you’re grieving and struggling with relationships\, boundaries\, or what to say when others say the wrong thing\, this free online grief support event is for you. \nEvent Details\nThursday\, April 23\, 2026\n4:00–5:00 PM EST\nOnline via Zoom\nFree registration required at: https://bit.ly/4tULgoh
URL:https://www.talkdeath.com/event/improving-communication-when-no-one-understands/
LOCATION:Zoom\, Cornelius\, NC\, 28031
CATEGORIES:Grief Group
END:VEVENT
BEGIN:VEVENT
DTSTART;TZID=America/Vancouver:20260429T180000
DTEND;TZID=America/Vancouver:20260429T193000
DTSTAMP:20260421T200005
CREATED:20250605T144707Z
LAST-MODIFIED:20250605T144707Z
UID:10000637-1777485600-1777491000@www.talkdeath.com
SUMMARY:The Grief Well Drop In Virtual Grief Gathering
DESCRIPTION:THE OPPORTUNITY TO EXPLORE AND SHARE GRIEF TOGETHER THROUGH POETRY\, FREE WRITING\, SHARING\, WITNESSING\, AND SILENCE. \nEVERYTHING AS AN INVITATION. \nPARTICIPATE IN WHATEVER WAY FEELS RIGHT FOR YOU. \nAll grief welcome – past\, present\, and future. Death and non-death grief.
URL:https://www.talkdeath.com/event/the-grief-well-drop-in-virtual-grief-gathering/2026-04-29/
LOCATION:Virtual Event
CATEGORIES:Grief Group
ORGANIZER;CN="The Grief Well":MAILTO:tlc@endwell.ca
END:VEVENT
END:VCALENDAR