BEGIN:VCALENDAR
VERSION:2.0
PRODID:-//TalkDeath - ECPv6.15.19//NONSGML v1.0//EN
CALSCALE:GREGORIAN
METHOD:PUBLISH
X-ORIGINAL-URL:https://www.talkdeath.com
X-WR-CALDESC:Events for TalkDeath
REFRESH-INTERVAL;VALUE=DURATION:PT1H
X-Robots-Tag:noindex
X-PUBLISHED-TTL:PT1H
BEGIN:VTIMEZONE
TZID:America/Los_Angeles
BEGIN:DAYLIGHT
TZOFFSETFROM:-0800
TZOFFSETTO:-0700
TZNAME:PDT
DTSTART:20250309T100000
END:DAYLIGHT
BEGIN:STANDARD
TZOFFSETFROM:-0700
TZOFFSETTO:-0800
TZNAME:PST
DTSTART:20251102T090000
END:STANDARD
BEGIN:DAYLIGHT
TZOFFSETFROM:-0800
TZOFFSETTO:-0700
TZNAME:PDT
DTSTART:20260308T100000
END:DAYLIGHT
BEGIN:STANDARD
TZOFFSETFROM:-0700
TZOFFSETTO:-0800
TZNAME:PST
DTSTART:20261101T090000
END:STANDARD
BEGIN:DAYLIGHT
TZOFFSETFROM:-0800
TZOFFSETTO:-0700
TZNAME:PDT
DTSTART:20270314T100000
END:DAYLIGHT
BEGIN:STANDARD
TZOFFSETFROM:-0700
TZOFFSETTO:-0800
TZNAME:PST
DTSTART:20271107T090000
END:STANDARD
END:VTIMEZONE
BEGIN:VTIMEZONE
TZID:America/New_York
BEGIN:DAYLIGHT
TZOFFSETFROM:-0500
TZOFFSETTO:-0400
TZNAME:EDT
DTSTART:20250309T070000
END:DAYLIGHT
BEGIN:STANDARD
TZOFFSETFROM:-0400
TZOFFSETTO:-0500
TZNAME:EST
DTSTART:20251102T060000
END:STANDARD
BEGIN:DAYLIGHT
TZOFFSETFROM:-0500
TZOFFSETTO:-0400
TZNAME:EDT
DTSTART:20260308T070000
END:DAYLIGHT
BEGIN:STANDARD
TZOFFSETFROM:-0400
TZOFFSETTO:-0500
TZNAME:EST
DTSTART:20261101T060000
END:STANDARD
BEGIN:DAYLIGHT
TZOFFSETFROM:-0500
TZOFFSETTO:-0400
TZNAME:EDT
DTSTART:20270314T070000
END:DAYLIGHT
BEGIN:STANDARD
TZOFFSETFROM:-0400
TZOFFSETTO:-0500
TZNAME:EST
DTSTART:20271107T060000
END:STANDARD
END:VTIMEZONE
BEGIN:VTIMEZONE
TZID:America/Toronto
BEGIN:DAYLIGHT
TZOFFSETFROM:-0500
TZOFFSETTO:-0400
TZNAME:EDT
DTSTART:20250309T070000
END:DAYLIGHT
BEGIN:STANDARD
TZOFFSETFROM:-0400
TZOFFSETTO:-0500
TZNAME:EST
DTSTART:20251102T060000
END:STANDARD
BEGIN:DAYLIGHT
TZOFFSETFROM:-0500
TZOFFSETTO:-0400
TZNAME:EDT
DTSTART:20260308T070000
END:DAYLIGHT
BEGIN:STANDARD
TZOFFSETFROM:-0400
TZOFFSETTO:-0500
TZNAME:EST
DTSTART:20261101T060000
END:STANDARD
BEGIN:DAYLIGHT
TZOFFSETFROM:-0500
TZOFFSETTO:-0400
TZNAME:EDT
DTSTART:20270314T070000
END:DAYLIGHT
BEGIN:STANDARD
TZOFFSETFROM:-0400
TZOFFSETTO:-0500
TZNAME:EST
DTSTART:20271107T060000
END:STANDARD
END:VTIMEZONE
BEGIN:VEVENT
DTSTART;TZID=America/Los_Angeles:20260210T183000
DTEND;TZID=America/Los_Angeles:20260210T210000
DTSTAMP:20260421T232509
CREATED:20260109T194953Z
LAST-MODIFIED:20260225T172826Z
UID:10001758-1770748200-1770757200@www.talkdeath.com
SUMMARY:Monthly Wailing Ceremony
DESCRIPTION:This is a monthly offering\, happening on the second Tuesday of every month. This offering is designed to support somatically moving our shared and personal grief.\nWe begin to build our container through brief sharing and connecting and then move into movement\, vocalizing\, wailing\, praying\, and drumming. We are building community through acknowledging and exploring the shared human experience of grief and loss.
URL:https://www.talkdeath.com/event/monthly-wailing-ceremony/2026-02-10/
LOCATION:Awakenings Wellness Center\, 1061 SE 12th Ave\, Portland\, OR\, 97214\, United States
CATEGORIES:Grief Group,Grief Release,Peer-Led Grief Support,Workshop
ATTACH;FMTTYPE=image/jpeg:https://www.talkdeath.com/wp-content/uploads/2026/01/IMG_9745-2-1-copy.jpg
ORGANIZER;CN="Rosecity Grief Tenders":MAILTO:Meganjcoppock@gmail.com
END:VEVENT
BEGIN:VEVENT
DTSTART;TZID=America/New_York:20260212T130000
DTEND;TZID=America/New_York:20260212T140000
DTSTAMP:20260421T232509
CREATED:20250709T145844Z
LAST-MODIFIED:20250709T145844Z
UID:10001356-1770901200-1770904800@www.talkdeath.com
SUMMARY:The Good Death Book Club Experience FREE 12-Month Death and Dying Course
DESCRIPTION:According to a recent AARP study\, there are over 52 million caregivers in the United States right now—and 70% of them say they are overwhelmed. Every single day\, I receive messages from current and former caregivers who say:\n“I wish I had this knowledge when I was caring for my loved one.”\nOr:\n“The Doulagivers training is helping me more than I can say.” \nThe truth is:\nWe will all have a caregiving story. \nLet’s make sure yours is one filled with support\, empowerment\, and peace. \nThat’s why I created The GOOD DEATH BOOK CLUB Experience: Death and Dying Course—a free\, live\, 12-month educational journey through my bestselling book The Good Death: A Guide for Supporting Your Loved One Through the End of Life. \nWhat It Is:\nEach month\, we explore one chapter of The Good Death together. \nYou’ll receive:\n-A live End of life teaching course with me\, Suzanne B. O’Brien\, RN\n-A guided workbook and downloadable companion guide\n-A group discussion and experiential exercise\n-A full 12 month Death and Dying Course for free \nWho It’s For: \n-Current and future caregivers ( all of us )\n-Death Doulas\, aspiring Death Doulas\, medical professionals\n-Individuals seeking grief healing and emotional support\n-Anyone who wants spiritual inspiration and empowerment around death\, aging\, and life itself \nWhy It Matters:\nDeath is 100% guaranteed—and yet\, our modern culture has stripped away the education and sacredness that used to surround it. \nThis lack of awareness is contributing to unnecessary fear\, trauma\, and prolonged suffering and grief. \nBut death is not the enemy. \nIt is our greatest teacher about how to truly live. \nWhen we return death to its place as a natural\, sacred transition\, we begin to reclaim peace\, presence\, and purpose in our lives and communities TODAY! \nWhat You Can Do:\nJoin The Experience and Share with Your Friends!
URL:https://www.talkdeath.com/event/the-good-death-book-club-experience-free-12-month-death-and-dying-course-2-2/2026-02-12/
LOCATION:ON
CATEGORIES:Community Meet Up,Education,Grief Release,Virtual
ORGANIZER;CN="Doulagivers Institute":MAILTO:support@doulagivers.com
END:VEVENT
BEGIN:VEVENT
DTSTART;TZID=America/Toronto:20260228T100000
DTEND;TZID=America/Toronto:20260301T180000
DTSTAMP:20260421T232509
CREATED:20260112T222124Z
LAST-MODIFIED:20260112T222229Z
UID:10001659-1772272800-1772388000@www.talkdeath.com
SUMMARY:Tending The Hearth - Winter Grief Ritual Weekend
DESCRIPTION:A two-day communal grief ritual weekend\, held in the Sóme tradition. \nWe will be cooking the ritual through many opportunities to connect with one another as well as ample time for introspection and quietude. \nWe are building community through tending to our shared and personal human experience of grief and loss. \nThis is not a residential weekend it will run Saturday 10-9 and Sunday 10-6. Afternoon and evening meals will be provided.
URL:https://www.talkdeath.com/event/tending-the-hearth-winter-grief-ritual-weekend/
LOCATION:Pause Meditation Studio\, 133 SW 2nd Ave #300\, Portland\, OR\, 97204\, United States
CATEGORIES:Education,Grief Group,Grief Release,History,Peer-Led Grief Support,Workshop
ATTACH;FMTTYPE=image/png:https://www.talkdeath.com/wp-content/uploads/2026/01/Untitled.png
ORGANIZER;CN="Rosecity Grief Tenders":MAILTO:Meganjcoppock@gmail.com
END:VEVENT
BEGIN:VEVENT
DTSTART;TZID=America/Toronto:20260228T163000
DTEND;TZID=America/Toronto:20260228T180000
DTSTAMP:20260421T232509
CREATED:20260210T152952Z
LAST-MODIFIED:20260210T152952Z
UID:10001680-1772296200-1772301600@www.talkdeath.com
SUMMARY:Support for our Grieving Community - Guided Discussion & Educational Workshop
DESCRIPTION:Grief isn’t only something we experience after a death. We grieve relationships\, careers\, dreams\, and a changing sense of safety\, and many of us are also grieving the state of the world itself. These everyday griefs are often unspoken\, yet they shape how we navigate life and care for one another. Many of us are wondering how to stay engaged with what’s happening in the world while also caring for our own mental and emotional well-being. \nThis 90-minute interactive\, donation-based grief workshop explores grief as a life skill – one that helps us adapt to unwanted change\, understand what we need to cope\, and remain open to compassion for others during times of distress and communal grief. \nThis workshop offers grief education\, guided sharing\, community connection\, and a grounding practice to support living well and caring for others during times of communal grief. The Death Network was founded with community\, curiosity\, and connection at its core\, and this workshop with grief coaches Wendy Kessler and Claudia Faerber reflects that intention — creating space to be honest\, present\, and human together. \nThis workshop is for those seeking helpful\, practical ways to understand and navigate everyday grief as it shows up in daily life. Whether your grief feels clear or hard to name\, you are welcome here — to learn\, reflect\, and be in community with others who are also finding their way. \nCreated for those looking for helpful ways to navigate everyday grief as it weaves through daily life\, this space welcomes both the named and unnamed losses we carry. Come to learn\, reflect\, and sit in community with others walking a similar path. \nThis workshop is offered by donation to keep it accessible to all. Your support helps us continue creating community spaces like this. Venmo: @thedeathnetwork\nThanks so much!
URL:https://www.talkdeath.com/event/support-for-our-grieving-community-guided-discussion-educational-workshop/
LOCATION:South Park Yoga & Wellness\, 2985 Beech St.\, San Diego\, CA\, 92102\, United States
CATEGORIES:Community Meet Up,Education,Grief Group,Grief Release,Workshop
ATTACH;FMTTYPE=image/png:https://www.talkdeath.com/wp-content/uploads/2026/02/community-grief-2-2-1.png
ORGANIZER;CN="The Death Network":MAILTO:hello@dodeathdifferent.com
END:VEVENT
END:VCALENDAR