BEGIN:VCALENDAR
VERSION:2.0
PRODID:-//TalkDeath - ECPv6.15.19//NONSGML v1.0//EN
CALSCALE:GREGORIAN
METHOD:PUBLISH
X-ORIGINAL-URL:https://www.talkdeath.com
X-WR-CALDESC:Events for TalkDeath
REFRESH-INTERVAL;VALUE=DURATION:PT1H
X-Robots-Tag:noindex
X-PUBLISHED-TTL:PT1H
BEGIN:VTIMEZONE
TZID:Europe/Madrid
BEGIN:DAYLIGHT
TZOFFSETFROM:+0100
TZOFFSETTO:+0200
TZNAME:CEST
DTSTART:20240331T010000
END:DAYLIGHT
BEGIN:STANDARD
TZOFFSETFROM:+0200
TZOFFSETTO:+0100
TZNAME:CET
DTSTART:20241027T010000
END:STANDARD
BEGIN:DAYLIGHT
TZOFFSETFROM:+0100
TZOFFSETTO:+0200
TZNAME:CEST
DTSTART:20250330T010000
END:DAYLIGHT
BEGIN:STANDARD
TZOFFSETFROM:+0200
TZOFFSETTO:+0100
TZNAME:CET
DTSTART:20251026T010000
END:STANDARD
BEGIN:DAYLIGHT
TZOFFSETFROM:+0100
TZOFFSETTO:+0200
TZNAME:CEST
DTSTART:20260329T010000
END:DAYLIGHT
BEGIN:STANDARD
TZOFFSETFROM:+0200
TZOFFSETTO:+0100
TZNAME:CET
DTSTART:20261025T010000
END:STANDARD
END:VTIMEZONE
BEGIN:VEVENT
DTSTART;TZID=Europe/Madrid:20250629T113000
DTEND;TZID=Europe/Madrid:20250629T140000
DTSTAMP:20260423T054934
CREATED:20250528T151837Z
LAST-MODIFIED:20250528T151837Z
UID:10000546-1751196600-1751205600@www.talkdeath.com
SUMMARY:Tour Our Lady of Almudena Cemetery (East Cemetery of Madrid)
DESCRIPTION:From @entretumbas (IG)\, in collaboration with Experimenta Madrid\, we organize these guided tours of the Almudena Cemetery\, whose real name is the Necropolis of the East of Madrid. It is the largest cemetery in Western Europe (120 hectares\, 120 times the size of the Santiago Bernabeu stadium!) During our tours\, we learn about the history of the cemetery\, so closely linked to that of our city. We visit the tombs of historical figures and other anonymous but highly interesting graves. We also learn funerary symbolism to understand the language of the cemetery. All with a gender perspective\, positive death\, and historical memory. \nTOUR TICKETS 29 JUNE: https://www.experimenta-madrid.com/tienda/Tour-Cementerio-de-la-Almudena-29-De-Junio-11-00-p643903765\nENTRETUMBAS: https://www.instagram.com/entretumbas/
URL:https://www.talkdeath.com/event/tour-our-lady-of-almudena-cemetery-east-cemetery-of-madrid/
CATEGORIES:Cemetery,History,Tour
ORGANIZER;CN="Entretumbas":MAILTO:soyentretumbas@gmail.com
END:VEVENT
END:VCALENDAR