BEGIN:VCALENDAR
VERSION:2.0
PRODID:-//TalkDeath - ECPv6.15.19//NONSGML v1.0//EN
CALSCALE:GREGORIAN
METHOD:PUBLISH
X-WR-CALNAME:TalkDeath
X-ORIGINAL-URL:https://www.talkdeath.com
X-WR-CALDESC:Events for TalkDeath
REFRESH-INTERVAL;VALUE=DURATION:PT1H
X-Robots-Tag:noindex
X-PUBLISHED-TTL:PT1H
BEGIN:VTIMEZONE
TZID:America/New_York
BEGIN:DAYLIGHT
TZOFFSETFROM:-0500
TZOFFSETTO:-0400
TZNAME:EDT
DTSTART:20250309T070000
END:DAYLIGHT
BEGIN:STANDARD
TZOFFSETFROM:-0400
TZOFFSETTO:-0500
TZNAME:EST
DTSTART:20251102T060000
END:STANDARD
BEGIN:DAYLIGHT
TZOFFSETFROM:-0500
TZOFFSETTO:-0400
TZNAME:EDT
DTSTART:20260308T070000
END:DAYLIGHT
BEGIN:STANDARD
TZOFFSETFROM:-0400
TZOFFSETTO:-0500
TZNAME:EST
DTSTART:20261101T060000
END:STANDARD
BEGIN:DAYLIGHT
TZOFFSETFROM:-0500
TZOFFSETTO:-0400
TZNAME:EDT
DTSTART:20270314T070000
END:DAYLIGHT
BEGIN:STANDARD
TZOFFSETFROM:-0400
TZOFFSETTO:-0500
TZNAME:EST
DTSTART:20271107T060000
END:STANDARD
END:VTIMEZONE
BEGIN:VTIMEZONE
TZID:America/Toronto
BEGIN:DAYLIGHT
TZOFFSETFROM:-0500
TZOFFSETTO:-0400
TZNAME:EDT
DTSTART:20250309T070000
END:DAYLIGHT
BEGIN:STANDARD
TZOFFSETFROM:-0400
TZOFFSETTO:-0500
TZNAME:EST
DTSTART:20251102T060000
END:STANDARD
BEGIN:DAYLIGHT
TZOFFSETFROM:-0500
TZOFFSETTO:-0400
TZNAME:EDT
DTSTART:20260308T070000
END:DAYLIGHT
BEGIN:STANDARD
TZOFFSETFROM:-0400
TZOFFSETTO:-0500
TZNAME:EST
DTSTART:20261101T060000
END:STANDARD
BEGIN:DAYLIGHT
TZOFFSETFROM:-0500
TZOFFSETTO:-0400
TZNAME:EDT
DTSTART:20270314T070000
END:DAYLIGHT
BEGIN:STANDARD
TZOFFSETFROM:-0400
TZOFFSETTO:-0500
TZNAME:EST
DTSTART:20271107T060000
END:STANDARD
END:VTIMEZONE
BEGIN:VEVENT
DTSTART;TZID=America/New_York:20260513T130000
DTEND;TZID=America/New_York:20260513T143000
DTSTAMP:20260421T203224
CREATED:20251113T142009Z
LAST-MODIFIED:20251113T142009Z
UID:10001497-1778677200-1778682600@www.talkdeath.com
SUMMARY:Grief Beyond Graves: Queer Mourning & Collective Healing
DESCRIPTION:Less Fear | More Fierce: Queer End-of-Life Planning\nLGBTQ+ Centric Online Discussion Series\n2nd Wednesdays | 1-2:30 pm ET | | January – June 2026 \nWhat would collective healing look like if we made space for every kind of queer loss—not just the ones with headstones? \nGrief isn’t only about death. Queer and trans people often carry grief from non-death losses—family estrangement\, identity erasure\, loss of community\, housing\, or health. \nThis session explores disenfranchised grief and collective mourning\, offering space to name\, witness\, and begin to heal these often-invisible losses. \nWe’ll also touch on grief in response to social and political violence\, and how we can create rituals for communal mourning and resilience.
URL:https://www.talkdeath.com/event/grief-beyond-graves-queer-mourning-collective-healing/
LOCATION:Zoom\, Cornelius\, NC\, 28031
CATEGORIES:Education,Grief Group,Grief Release,LGBTQ,Virtual,Webinar,Workshop
ATTACH;FMTTYPE=image/png:https://www.talkdeath.com/wp-content/uploads/2025/11/5.png
ORGANIZER;CN="Stonewall Village NYC &amp%3B La Vida Pride":MAILTO:connect@lavidapride.com
END:VEVENT
BEGIN:VEVENT
DTSTART;TZID=America/Toronto:20260610T130000
DTEND;TZID=America/Toronto:20260610T143000
DTSTAMP:20260421T203224
CREATED:20251113T142028Z
LAST-MODIFIED:20260108T144958Z
UID:10001498-1781096400-1781101800@www.talkdeath.com
SUMMARY:Canvas of the Heart: Creating Queer Legacies
DESCRIPTION:Less Fear | More Fierce: Queer End-of-Life Planning\nLGBTQ+ Centric Online Discussion Series\n2nd Wednesdays | 1-2:30 pm ET | | January – June 2026 \nWhat does it mean to leave a legacy that’s as unapologetically queer as the life you lived? \nThis thought-provoking and imaginative session centers on legacy-making and creative expression at the end of life. \nWe’ll discuss art-making\, memory work\, and how grief itself can be a generative process. Participants will be invited to begin their own small legacy projects.
URL:https://www.talkdeath.com/event/canvas-of-the-heart-creating-queer-legacies/
LOCATION:Zoom\, Cornelius\, NC\, 28031
CATEGORIES:Arts and Crafts,Grief Release,LGBTQ,Virtual,Workshop
ATTACH;FMTTYPE=image/png:https://www.talkdeath.com/wp-content/uploads/2025/11/6.png
ORGANIZER;CN="Stonewall Village NYC &amp%3B La Vida Pride":MAILTO:connect@lavidapride.com
END:VEVENT
END:VCALENDAR