BEGIN:VCALENDAR
VERSION:2.0
PRODID:-//TalkDeath - ECPv6.15.19//NONSGML v1.0//EN
CALSCALE:GREGORIAN
METHOD:PUBLISH
X-WR-CALNAME:TalkDeath
X-ORIGINAL-URL:https://www.talkdeath.com
X-WR-CALDESC:Events for TalkDeath
REFRESH-INTERVAL;VALUE=DURATION:PT1H
X-Robots-Tag:noindex
X-PUBLISHED-TTL:PT1H
BEGIN:VTIMEZONE
TZID:America/Los_Angeles
BEGIN:DAYLIGHT
TZOFFSETFROM:-0800
TZOFFSETTO:-0700
TZNAME:PDT
DTSTART:20240310T100000
END:DAYLIGHT
BEGIN:STANDARD
TZOFFSETFROM:-0700
TZOFFSETTO:-0800
TZNAME:PST
DTSTART:20241103T090000
END:STANDARD
BEGIN:DAYLIGHT
TZOFFSETFROM:-0800
TZOFFSETTO:-0700
TZNAME:PDT
DTSTART:20250309T100000
END:DAYLIGHT
BEGIN:STANDARD
TZOFFSETFROM:-0700
TZOFFSETTO:-0800
TZNAME:PST
DTSTART:20251102T090000
END:STANDARD
BEGIN:DAYLIGHT
TZOFFSETFROM:-0800
TZOFFSETTO:-0700
TZNAME:PDT
DTSTART:20260308T100000
END:DAYLIGHT
BEGIN:STANDARD
TZOFFSETFROM:-0700
TZOFFSETTO:-0800
TZNAME:PST
DTSTART:20261101T090000
END:STANDARD
END:VTIMEZONE
BEGIN:VTIMEZONE
TZID:America/Denver
BEGIN:DAYLIGHT
TZOFFSETFROM:-0700
TZOFFSETTO:-0600
TZNAME:MDT
DTSTART:20240310T090000
END:DAYLIGHT
BEGIN:STANDARD
TZOFFSETFROM:-0600
TZOFFSETTO:-0700
TZNAME:MST
DTSTART:20241103T080000
END:STANDARD
BEGIN:DAYLIGHT
TZOFFSETFROM:-0700
TZOFFSETTO:-0600
TZNAME:MDT
DTSTART:20250309T090000
END:DAYLIGHT
BEGIN:STANDARD
TZOFFSETFROM:-0600
TZOFFSETTO:-0700
TZNAME:MST
DTSTART:20251102T080000
END:STANDARD
BEGIN:DAYLIGHT
TZOFFSETFROM:-0700
TZOFFSETTO:-0600
TZNAME:MDT
DTSTART:20260308T090000
END:DAYLIGHT
BEGIN:STANDARD
TZOFFSETFROM:-0600
TZOFFSETTO:-0700
TZNAME:MST
DTSTART:20261101T080000
END:STANDARD
END:VTIMEZONE
BEGIN:VTIMEZONE
TZID:America/Denver
BEGIN:DAYLIGHT
TZOFFSETFROM:-0700
TZOFFSETTO:-0600
TZNAME:MDT
DTSTART:20240310T090000
END:DAYLIGHT
BEGIN:STANDARD
TZOFFSETFROM:-0600
TZOFFSETTO:-0700
TZNAME:MST
DTSTART:20241103T080000
END:STANDARD
BEGIN:DAYLIGHT
TZOFFSETFROM:-0700
TZOFFSETTO:-0600
TZNAME:MDT
DTSTART:20250309T090000
END:DAYLIGHT
BEGIN:STANDARD
TZOFFSETFROM:-0600
TZOFFSETTO:-0700
TZNAME:MST
DTSTART:20251102T080000
END:STANDARD
BEGIN:DAYLIGHT
TZOFFSETFROM:-0700
TZOFFSETTO:-0600
TZNAME:MDT
DTSTART:20260308T090000
END:DAYLIGHT
BEGIN:STANDARD
TZOFFSETFROM:-0600
TZOFFSETTO:-0700
TZNAME:MST
DTSTART:20261101T080000
END:STANDARD
END:VTIMEZONE
BEGIN:VTIMEZONE
TZID:America/Toronto
BEGIN:DAYLIGHT
TZOFFSETFROM:-0500
TZOFFSETTO:-0400
TZNAME:EDT
DTSTART:20240310T070000
END:DAYLIGHT
BEGIN:STANDARD
TZOFFSETFROM:-0400
TZOFFSETTO:-0500
TZNAME:EST
DTSTART:20241103T060000
END:STANDARD
BEGIN:DAYLIGHT
TZOFFSETFROM:-0500
TZOFFSETTO:-0400
TZNAME:EDT
DTSTART:20250309T070000
END:DAYLIGHT
BEGIN:STANDARD
TZOFFSETFROM:-0400
TZOFFSETTO:-0500
TZNAME:EST
DTSTART:20251102T060000
END:STANDARD
BEGIN:DAYLIGHT
TZOFFSETFROM:-0500
TZOFFSETTO:-0400
TZNAME:EDT
DTSTART:20260308T070000
END:DAYLIGHT
BEGIN:STANDARD
TZOFFSETFROM:-0400
TZOFFSETTO:-0500
TZNAME:EST
DTSTART:20261101T060000
END:STANDARD
END:VTIMEZONE
BEGIN:VEVENT
DTSTART;TZID=America/Los_Angeles:20250903T180000
DTEND;TZID=America/Los_Angeles:20250903T193000
DTSTAMP:20260424T083346
CREATED:20250828T135110Z
LAST-MODIFIED:20250828T135110Z
UID:10001449-1756922400-1756927800@www.talkdeath.com
SUMMARY:Cozy Collage
DESCRIPTION:Cozy Collage – An online realm to explore grief with the art collage.\nWednesday\, September 3rd\, 6 pm to 7:30 pm Pacific \nTogether\, we will be exploring disenfranchised grief. Disenfranchised grief arises when an individual’s grieving process clashes with societal norms surrounding death and loss. This lack of social support while grieving can feel isolating. Let this peer-to-peer space be your support \nVirtual Event\, Registration Required\, Linktree/deathdouladoes\n$5 to $15 NOTAFLOF
URL:https://www.talkdeath.com/event/cozy-collage/
LOCATION:Virtual Event
CATEGORIES:Arts and Crafts,Peer-Led Grief Support
ATTACH;FMTTYPE=image/png:https://www.talkdeath.com/wp-content/uploads/2025/08/1.png
ORGANIZER;CN="Death Doula Does":MAILTO:DeathDoulaDoes@pm.me
END:VEVENT
BEGIN:VEVENT
DTSTART;TZID=America/Los_Angeles:20250830T120000
DTEND;TZID=America/Los_Angeles:20250830T140000
DTSTAMP:20260424T083346
CREATED:20250807T125356Z
LAST-MODIFIED:20250807T125356Z
UID:10001434-1756555200-1756562400@www.talkdeath.com
SUMMARY:Rest in the Wreckage: A Virtual Wellness Salon
DESCRIPTION:Grief doesn’t wait for the perfect time. It settles in our bones\, arrives unannounced\, and lingers in the quiet. Rest in the Wreckage is a virtual wellness salon for anyone holding sorrow\, sitting with memory\, or simply seeking a place to pause and breathe. \nHeld in honor of National Grief Awareness Day\, this gathering is an invitation to soften\, whether your grief is fresh and aching\, or old and quietly settled. We welcome you as you are\, in whatever season you’re in. \nJoin us for an afternoon of gentle ritual and communal tenderness. We’ll gather not to fix what hurts\, but to tend to it—with care\, with creativity\, and without apology. \nWhat to expect:\nGrounding Meditation – land in your body\, wherever you are.\nStorytelling Circle & Remembrance – share your story\, tell us what’s on your heart.\nThe Grief Mixtape & Song Collection – bring a track or listen in.\nVirtual Altar & Moodboard – co-create a digital altar of memory\, color\, and feeling. Snail Closing – Our signature soft\, slow send-off to guide you gently back to the world. \nCome as you are. Cameras on or off. Words ready or still forming. All grief is welcome here.
URL:https://www.talkdeath.com/event/rest-in-the-wreckage-a-virtual-wellness-salon/
LOCATION:OR
CATEGORIES:BiPoC,Cemetery,Community Meet Up,Grief Group,Peer-Led Grief Support,Virtual
ATTACH;FMTTYPE=image/jpeg:https://www.talkdeath.com/wp-content/uploads/2025/08/Green-And-Beige-Modern-Minimalist-Wellness-Event-Instagram-Post.jpeg
ORGANIZER;CN="Prism Memorial":MAILTO:deathwithlex@gmail.com
END:VEVENT
BEGIN:VEVENT
DTSTART;TZID=America/Denver:20250818T173000
DTEND;TZID=America/Denver:20250818T190000
DTSTAMP:20260424T083346
CREATED:20250507T143945Z
LAST-MODIFIED:20250507T143945Z
UID:10000351-1755538200-1755543600@www.talkdeath.com
SUMMARY:Childfree By Choice & Grieving
DESCRIPTION:It’s not a given that everyone who is childfree by choice is 100%\, unabashedly content with the decision. While we may be set in our choice\, there can still be grief there. I know there is for me. It’s a both-and/two truths situation. Many of us make this choice for a lot of unfortunate\, depressing\, and/or systemic reasons\, and I created this space where we can be with our truths\, and hurts\, around it all. \nOur monthly peer-led Zoom group is intended to be a space for people who have chosen not to have children. It is not intended to be a child-loss support group or infertility support group\, although if you have prior experience with infertility and/or pregnancy loss and have since decided to not have children (meaning you are now childfree by choice) feel free to join and see if it’s a good fit.
URL:https://www.talkdeath.com/event/childfree-by-choice-grieving/2025-08-18/
LOCATION:Virtual Event
CATEGORIES:Grief Group,Peer-Led Grief Support,Virtual
ATTACH;FMTTYPE=image/png:https://www.talkdeath.com/wp-content/uploads/2025/05/2.png
ORGANIZER;CN="Dear Departures":MAILTO:tawnya@deardepartures.com
END:VEVENT
BEGIN:VEVENT
DTSTART;TZID=America/Denver:20250814T173000
DTEND;TZID=America/Denver:20250814T190000
DTSTAMP:20260424T083346
CREATED:20250605T200631Z
LAST-MODIFIED:20250605T200631Z
UID:10000695-1755192600-1755198000@www.talkdeath.com
SUMMARY:"It's Complicated" Support Group
DESCRIPTION:A monthly peer-led Zoom group for people who had a strained relationship with someone who’s died. It can be tough to be in a group with other folks who were close with their parent\, sibling\, grandparent\, partner\, co-parent\, friend\, etc. As much as I like for there to be a range of experiences represented in grief groups\, so that we can hear diverse perspectives\, sometimes it is nice to be with people who “get it.” When addiction\, mental health challenges\, conflict\, estrangement\, abuse\, etc. were a part of the picture\, it can affect the grief journey in unique ways. This is a space for us.
URL:https://www.talkdeath.com/event/its-complicated-support-group-2/2025-08-14/
LOCATION:Virtual Event
CATEGORIES:Grief Group,Peer-Led Grief Support,Virtual
ORGANIZER;CN="Dear Departures":MAILTO:tawnya@deardepartures.com
END:VEVENT
BEGIN:VEVENT
DTSTART;TZID=America/Denver:20250731T180000
DTEND;TZID=America/Denver:20250731T193000
DTSTAMP:20260424T083346
CREATED:20250721T192905Z
LAST-MODIFIED:20250721T192905Z
UID:10001422-1753984800-1753990200@www.talkdeath.com
SUMMARY:Grief & Tell
DESCRIPTION:Remember the days of Show & Tell in elementary school? That feeling of having the undivided attention of your classmates as you share something that mattered to you? \nWe want to bring that feeling back. \nSo often\, grievers feel like they don’t have the space to continue sharing about the person they’ve lost. It seems like the world has moved on\, and it can feel isolating. We want to be in community with you. \nHere’s how it works: \nThis event is virtual\, free\, and open to everyone. That being said\, you don’t have to share if you don’t want to. You are still welcome to be in community with us. \nIf you DO want to share\, you can sign up on the virtual sign in sheet to reserve your spot. \n((BUT PLEASE DON’T FORGET TO REGISTER )) \nWe invite you to bring something that reminds you of someone you’ve lost. It can be whatever you want. \nShow us what you brought! An object\, an item of clothing\, a poem\, a book- anything! As long as it’s something that brings you comfort\, we would be honored to see it. \nTell us about the significance of the item and the person it reminds you of. \nAt the conclusion of our time together\, we will close out with a gratitude ceremony\, a bit of a Prism tradition. \nWe can’t wait to see what you bring!
URL:https://www.talkdeath.com/event/grief-tell/
LOCATION:OR
CATEGORIES:Community Meet Up,Grief Group,Grief Release,Peer-Led Grief Support,Virtual
ATTACH;FMTTYPE=image/png:https://www.talkdeath.com/wp-content/uploads/2025/07/Blue-White-Playful-About-Me-Personal-Instagram-Post-4.png
ORGANIZER;CN="Prism Memorial":MAILTO:deathwithlex@gmail.com
END:VEVENT
BEGIN:VEVENT
DTSTART;TZID=America/Denver:20250721T173000
DTEND;TZID=America/Denver:20250721T190000
DTSTAMP:20260424T083346
CREATED:20250507T143945Z
LAST-MODIFIED:20250507T143945Z
UID:10000350-1753119000-1753124400@www.talkdeath.com
SUMMARY:Childfree By Choice & Grieving
DESCRIPTION:It’s not a given that everyone who is childfree by choice is 100%\, unabashedly content with the decision. While we may be set in our choice\, there can still be grief there. I know there is for me. It’s a both-and/two truths situation. Many of us make this choice for a lot of unfortunate\, depressing\, and/or systemic reasons\, and I created this space where we can be with our truths\, and hurts\, around it all. \nOur monthly peer-led Zoom group is intended to be a space for people who have chosen not to have children. It is not intended to be a child-loss support group or infertility support group\, although if you have prior experience with infertility and/or pregnancy loss and have since decided to not have children (meaning you are now childfree by choice) feel free to join and see if it’s a good fit.
URL:https://www.talkdeath.com/event/childfree-by-choice-grieving/2025-07-21/
LOCATION:Virtual Event
CATEGORIES:Grief Group,Peer-Led Grief Support,Virtual
ATTACH;FMTTYPE=image/png:https://www.talkdeath.com/wp-content/uploads/2025/05/2.png
ORGANIZER;CN="Dear Departures":MAILTO:tawnya@deardepartures.com
END:VEVENT
BEGIN:VEVENT
DTSTART;TZID=America/Denver:20250710T173000
DTEND;TZID=America/Denver:20250710T190000
DTSTAMP:20260424T083346
CREATED:20250605T200631Z
LAST-MODIFIED:20250605T200631Z
UID:10000694-1752168600-1752174000@www.talkdeath.com
SUMMARY:"It's Complicated" Support Group
DESCRIPTION:A monthly peer-led Zoom group for people who had a strained relationship with someone who’s died. It can be tough to be in a group with other folks who were close with their parent\, sibling\, grandparent\, partner\, co-parent\, friend\, etc. As much as I like for there to be a range of experiences represented in grief groups\, so that we can hear diverse perspectives\, sometimes it is nice to be with people who “get it.” When addiction\, mental health challenges\, conflict\, estrangement\, abuse\, etc. were a part of the picture\, it can affect the grief journey in unique ways. This is a space for us.
URL:https://www.talkdeath.com/event/its-complicated-support-group-2/2025-07-10/
LOCATION:Virtual Event
CATEGORIES:Grief Group,Peer-Led Grief Support,Virtual
ORGANIZER;CN="Dear Departures":MAILTO:tawnya@deardepartures.com
END:VEVENT
BEGIN:VEVENT
DTSTART;TZID=America/Toronto:20250624T200000
DTEND;TZID=America/Toronto:20250624T213000
DTSTAMP:20260424T083346
CREATED:20250616T163258Z
LAST-MODIFIED:20250616T163258Z
UID:10001085-1750795200-1750800600@www.talkdeath.com
SUMMARY:Covid Grief Salon - Pride Edition
DESCRIPTION:Online Grief salons are hosted by grief educator and death doula That Good Night. Participants are led through a meditation exercise and given prompts to discuss their experiences with covid\, long covid\, and practicing covid precautions. These monthly gatherings offer a safe space for people to talk openly about their feelings and experiences with covid grief. For June\, we will be exploring how this grief intersects with our queer identities.
URL:https://www.talkdeath.com/event/covid-grief-salon-pride-edition/
LOCATION:OR
CATEGORIES:Death Cafe,LGBTQ,Peer-Led Grief Support,Virtual
ATTACH;FMTTYPE=image/jpeg:https://www.talkdeath.com/wp-content/uploads/2025/06/June-2025-covid-grief-salon.webp
ORGANIZER;CN="That Good Night":MAILTO:thatgoodnightdoula@gmail.com
END:VEVENT
BEGIN:VEVENT
DTSTART;TZID=America/Los_Angeles:20250618T173000
DTEND;TZID=America/Los_Angeles:20250618T190000
DTSTAMP:20260424T083346
CREATED:20250606T134003Z
LAST-MODIFIED:20250606T134003Z
UID:10001019-1750267800-1750273200@www.talkdeath.com
SUMMARY:Grief & Solidarity
DESCRIPTION:A community gathering to grieve\, to connect\, and to root in collective care ❤️‍🔥 \n“Unresolved grief inside a person is tragic. Unresolved grief inside a nation is catastrophic.” -Valarie Kaur \nThis Grief & Solidarity event is not just about grieving. It’s about weaving our collective sorrows into sustained action. It’s about being true allies for each other—not just in moments of crisis\, but in the long\, tender work of liberation. Together\, we will move through gentle grounding\, collective reflection\, and community connection\, with the intention of using grief as fuel for solidarity and justice. \n🫀 All grief is welcome: personal\, collective\, systemic\, ecological\n🫀 Come to acknowledge your grief and reconnect with your purpose\n🫀 Bring your sorrows\, your tenderness\, your rage\, your hope \n📅 Wednesday\, June 18th\n⏰ 5:30-7:00pm Pacific\n🧑🏻‍💻 on Zoom \n🎟️ $6-$29USD sliding scale\nReach out if cost is a barrier \n👉 Register at solidarity.hafezdeathcare.com \n“We must first be able to feel grief\, our own\, before we can truly become an ally to anyone else.” -Prentis Hemphill \n*Hosted by Misha of Hafez Death Care as part of an ongoing commitment to building anti-racist\, Pro-Palestine spaces for grief tending as both an act of resistance and community care.
URL:https://www.talkdeath.com/event/grief-solidarity/
LOCATION:OR
CATEGORIES:Grief Group,Grief Release,Peer-Led Grief Support,Virtual
ORGANIZER;CN="Misha | Hafez Death Care":MAILTO:misha@hafezdeathcare.com
END:VEVENT
BEGIN:VEVENT
DTSTART;TZID=America/Toronto:20250617T190000
DTEND;TZID=America/Toronto:20250617T203000
DTSTAMP:20260424T083346
CREATED:20250605T162734Z
LAST-MODIFIED:20250605T162734Z
UID:10000687-1750186800-1750192200@www.talkdeath.com
SUMMARY:End of Life and Disability
DESCRIPTION:We will be joined by Carrie Batt\, founder of SEOL CARE for a presentation and discussion about disability at end of life. Carrie trains people with disabilities\, their loves ones\, and service providers on how to develop a disability informed approach to end of life and grief support. She also offers disability competent end of life care and bereavement support services to the disability community.
URL:https://www.talkdeath.com/event/end-of-life-and-disability/
LOCATION:Virtual Event
CATEGORIES:LGBTQ,Peer-Led Grief Support,Virtual
ORGANIZER;CN="Queer Community Deathcare":MAILTO:queercommunitydeathcare@gmail.com
END:VEVENT
BEGIN:VEVENT
DTSTART;TZID=America/Denver:20250616T173000
DTEND;TZID=America/Denver:20250616T190000
DTSTAMP:20260424T083346
CREATED:20250507T143945Z
LAST-MODIFIED:20250507T143945Z
UID:10000349-1750095000-1750100400@www.talkdeath.com
SUMMARY:Childfree By Choice & Grieving
DESCRIPTION:It’s not a given that everyone who is childfree by choice is 100%\, unabashedly content with the decision. While we may be set in our choice\, there can still be grief there. I know there is for me. It’s a both-and/two truths situation. Many of us make this choice for a lot of unfortunate\, depressing\, and/or systemic reasons\, and I created this space where we can be with our truths\, and hurts\, around it all. \nOur monthly peer-led Zoom group is intended to be a space for people who have chosen not to have children. It is not intended to be a child-loss support group or infertility support group\, although if you have prior experience with infertility and/or pregnancy loss and have since decided to not have children (meaning you are now childfree by choice) feel free to join and see if it’s a good fit.
URL:https://www.talkdeath.com/event/childfree-by-choice-grieving/2025-06-16/
LOCATION:Virtual Event
CATEGORIES:Grief Group,Peer-Led Grief Support,Virtual
ATTACH;FMTTYPE=image/png:https://www.talkdeath.com/wp-content/uploads/2025/05/2.png
ORGANIZER;CN="Dear Departures":MAILTO:tawnya@deardepartures.com
END:VEVENT
BEGIN:VEVENT
DTSTART;TZID=America/Denver:20250612T173000
DTEND;TZID=America/Denver:20250612T190000
DTSTAMP:20260424T083346
CREATED:20250605T200631Z
LAST-MODIFIED:20250605T200631Z
UID:10000693-1749749400-1749754800@www.talkdeath.com
SUMMARY:"It's Complicated" Support Group
DESCRIPTION:A monthly peer-led Zoom group for people who had a strained relationship with someone who’s died. It can be tough to be in a group with other folks who were close with their parent\, sibling\, grandparent\, partner\, co-parent\, friend\, etc. As much as I like for there to be a range of experiences represented in grief groups\, so that we can hear diverse perspectives\, sometimes it is nice to be with people who “get it.” When addiction\, mental health challenges\, conflict\, estrangement\, abuse\, etc. were a part of the picture\, it can affect the grief journey in unique ways. This is a space for us.
URL:https://www.talkdeath.com/event/its-complicated-support-group-2/2025-06-12/
LOCATION:Virtual Event
CATEGORIES:Grief Group,Peer-Led Grief Support,Virtual
ORGANIZER;CN="Dear Departures":MAILTO:tawnya@deardepartures.com
END:VEVENT
BEGIN:VEVENT
DTSTART;TZID=America/Toronto:20250524T140000
DTEND;TZID=America/Toronto:20250524T170000
DTSTAMP:20260424T083346
CREATED:20250502T174008Z
LAST-MODIFIED:20250502T174008Z
UID:10000285-1748095200-1748106000@www.talkdeath.com
SUMMARY:Good Mourning
DESCRIPTION:OPPORTUNITY FOR QUEER & TRANS PEOPLE TO PROCESS STRESS & GRIEVE AS A COMMUNITY.
URL:https://www.talkdeath.com/event/good-mourning/
LOCATION:West Edge Factory\, 1040 Vernon St.\, Huntington\, WV\, 24704\, United States
CATEGORIES:Community Meet Up,Grief Group,Grief Release,LGBTQ,Peer-Led Grief Support
ATTACH;FMTTYPE=image/png:https://www.talkdeath.com/wp-content/uploads/2025/05/Good-Mourning_20250502_104809_0000.png
ORGANIZER;CN="Storm Smith":MAILTO:qwyrdo@gmail.com
END:VEVENT
BEGIN:VEVENT
DTSTART;TZID=America/Denver:20250519T173000
DTEND;TZID=America/Denver:20250519T190000
DTSTAMP:20260424T083346
CREATED:20250507T143945Z
LAST-MODIFIED:20250507T143945Z
UID:10000348-1747675800-1747681200@www.talkdeath.com
SUMMARY:Childfree By Choice & Grieving
DESCRIPTION:It’s not a given that everyone who is childfree by choice is 100%\, unabashedly content with the decision. While we may be set in our choice\, there can still be grief there. I know there is for me. It’s a both-and/two truths situation. Many of us make this choice for a lot of unfortunate\, depressing\, and/or systemic reasons\, and I created this space where we can be with our truths\, and hurts\, around it all. \nOur monthly peer-led Zoom group is intended to be a space for people who have chosen not to have children. It is not intended to be a child-loss support group or infertility support group\, although if you have prior experience with infertility and/or pregnancy loss and have since decided to not have children (meaning you are now childfree by choice) feel free to join and see if it’s a good fit.
URL:https://www.talkdeath.com/event/childfree-by-choice-grieving/2025-05-19/
LOCATION:Virtual Event
CATEGORIES:Grief Group,Peer-Led Grief Support,Virtual
ATTACH;FMTTYPE=image/png:https://www.talkdeath.com/wp-content/uploads/2025/05/2.png
ORGANIZER;CN="Dear Departures":MAILTO:tawnya@deardepartures.com
END:VEVENT
BEGIN:VEVENT
DTSTART;TZID=America/Los_Angeles:20250504T183000
DTEND;TZID=America/Los_Angeles:20250504T203000
DTSTAMP:20260424T083346
CREATED:20250423T143639Z
LAST-MODIFIED:20250423T143639Z
UID:10000213-1746383400-1746390600@www.talkdeath.com
SUMMARY:The Last Stitch Society
DESCRIPTION:The Last Stitch Society creates space for the conversations many of us crave but rarely find—about mortality\, grief\, loss\, and how we might live more fully by acknowledging life’s impermanence. \nBring any portable craft project—knitting\, embroidery\, mending\, sketching—and join us as we stitch and share. No experience necessary\, just an openness to authentic connection. Light refreshments provided to nourish both body and conversation. \nIn a culture that often pushes difficult topics into the shadows\, Last Stitch Society offers a warm\, welcoming environment to explore the full spectrum of human experience. Together\, we’ll unravel the threads of meaning that connect us all.
URL:https://www.talkdeath.com/event/the-last-stitch-society/
LOCATION:The Exchange\, 617 Marin St\, Vallejo\, CA\, 94590\, United States
CATEGORIES:Arts and Culture,Community Meet Up,Peer-Led Grief Support
ATTACH;FMTTYPE=image/jpeg:https://www.talkdeath.com/wp-content/uploads/2025/04/Last-Stitch-Society-new-logo.jpg
ORGANIZER;CN="Golden Thread Alchemy":MAILTO:britt@goldenthreadalchemy.com
END:VEVENT
END:VCALENDAR