BEGIN:VCALENDAR
VERSION:2.0
PRODID:-//TalkDeath - ECPv6.15.19//NONSGML v1.0//EN
CALSCALE:GREGORIAN
METHOD:PUBLISH
X-WR-CALNAME:TalkDeath
X-ORIGINAL-URL:https://www.talkdeath.com
X-WR-CALDESC:Events for TalkDeath
REFRESH-INTERVAL;VALUE=DURATION:PT1H
X-Robots-Tag:noindex
X-PUBLISHED-TTL:PT1H
BEGIN:VTIMEZONE
TZID:America/Toronto
BEGIN:DAYLIGHT
TZOFFSETFROM:-0500
TZOFFSETTO:-0400
TZNAME:EDT
DTSTART:20240310T070000
END:DAYLIGHT
BEGIN:STANDARD
TZOFFSETFROM:-0400
TZOFFSETTO:-0500
TZNAME:EST
DTSTART:20241103T060000
END:STANDARD
BEGIN:DAYLIGHT
TZOFFSETFROM:-0500
TZOFFSETTO:-0400
TZNAME:EDT
DTSTART:20250309T070000
END:DAYLIGHT
BEGIN:STANDARD
TZOFFSETFROM:-0400
TZOFFSETTO:-0500
TZNAME:EST
DTSTART:20251102T060000
END:STANDARD
BEGIN:DAYLIGHT
TZOFFSETFROM:-0500
TZOFFSETTO:-0400
TZNAME:EDT
DTSTART:20260308T070000
END:DAYLIGHT
BEGIN:STANDARD
TZOFFSETFROM:-0400
TZOFFSETTO:-0500
TZNAME:EST
DTSTART:20261101T060000
END:STANDARD
END:VTIMEZONE
BEGIN:VTIMEZONE
TZID:America/Denver
BEGIN:DAYLIGHT
TZOFFSETFROM:-0700
TZOFFSETTO:-0600
TZNAME:MDT
DTSTART:20240310T090000
END:DAYLIGHT
BEGIN:STANDARD
TZOFFSETFROM:-0600
TZOFFSETTO:-0700
TZNAME:MST
DTSTART:20241103T080000
END:STANDARD
BEGIN:DAYLIGHT
TZOFFSETFROM:-0700
TZOFFSETTO:-0600
TZNAME:MDT
DTSTART:20250309T090000
END:DAYLIGHT
BEGIN:STANDARD
TZOFFSETFROM:-0600
TZOFFSETTO:-0700
TZNAME:MST
DTSTART:20251102T080000
END:STANDARD
BEGIN:DAYLIGHT
TZOFFSETFROM:-0700
TZOFFSETTO:-0600
TZNAME:MDT
DTSTART:20260308T090000
END:DAYLIGHT
BEGIN:STANDARD
TZOFFSETFROM:-0600
TZOFFSETTO:-0700
TZNAME:MST
DTSTART:20261101T080000
END:STANDARD
END:VTIMEZONE
BEGIN:VTIMEZONE
TZID:America/Los_Angeles
BEGIN:DAYLIGHT
TZOFFSETFROM:-0800
TZOFFSETTO:-0700
TZNAME:PDT
DTSTART:20240310T100000
END:DAYLIGHT
BEGIN:STANDARD
TZOFFSETFROM:-0700
TZOFFSETTO:-0800
TZNAME:PST
DTSTART:20241103T090000
END:STANDARD
BEGIN:DAYLIGHT
TZOFFSETFROM:-0800
TZOFFSETTO:-0700
TZNAME:PDT
DTSTART:20250309T100000
END:DAYLIGHT
BEGIN:STANDARD
TZOFFSETFROM:-0700
TZOFFSETTO:-0800
TZNAME:PST
DTSTART:20251102T090000
END:STANDARD
BEGIN:DAYLIGHT
TZOFFSETFROM:-0800
TZOFFSETTO:-0700
TZNAME:PDT
DTSTART:20260308T100000
END:DAYLIGHT
BEGIN:STANDARD
TZOFFSETFROM:-0700
TZOFFSETTO:-0800
TZNAME:PST
DTSTART:20261101T090000
END:STANDARD
END:VTIMEZONE
BEGIN:VEVENT
DTSTART;TZID=America/Toronto:20250524T140000
DTEND;TZID=America/Toronto:20250524T170000
DTSTAMP:20260424T052303
CREATED:20250502T174008Z
LAST-MODIFIED:20250502T174008Z
UID:10000285-1748095200-1748106000@www.talkdeath.com
SUMMARY:Good Mourning
DESCRIPTION:OPPORTUNITY FOR QUEER & TRANS PEOPLE TO PROCESS STRESS & GRIEVE AS A COMMUNITY.
URL:https://www.talkdeath.com/event/good-mourning/
LOCATION:West Edge Factory\, 1040 Vernon St.\, Huntington\, WV\, 24704\, United States
CATEGORIES:Community Meet Up,Grief Group,Grief Release,LGBTQ,Peer-Led Grief Support
ATTACH;FMTTYPE=image/png:https://www.talkdeath.com/wp-content/uploads/2025/05/Good-Mourning_20250502_104809_0000.png
ORGANIZER;CN="Storm Smith":MAILTO:qwyrdo@gmail.com
END:VEVENT
BEGIN:VEVENT
DTSTART;TZID=America/Denver:20250519T173000
DTEND;TZID=America/Denver:20250519T190000
DTSTAMP:20260424T052303
CREATED:20250507T143945Z
LAST-MODIFIED:20250507T143945Z
UID:10000348-1747675800-1747681200@www.talkdeath.com
SUMMARY:Childfree By Choice & Grieving
DESCRIPTION:It’s not a given that everyone who is childfree by choice is 100%\, unabashedly content with the decision. While we may be set in our choice\, there can still be grief there. I know there is for me. It’s a both-and/two truths situation. Many of us make this choice for a lot of unfortunate\, depressing\, and/or systemic reasons\, and I created this space where we can be with our truths\, and hurts\, around it all. \nOur monthly peer-led Zoom group is intended to be a space for people who have chosen not to have children. It is not intended to be a child-loss support group or infertility support group\, although if you have prior experience with infertility and/or pregnancy loss and have since decided to not have children (meaning you are now childfree by choice) feel free to join and see if it’s a good fit.
URL:https://www.talkdeath.com/event/childfree-by-choice-grieving/2025-05-19/
LOCATION:Virtual Event
CATEGORIES:Grief Group,Peer-Led Grief Support,Virtual
ATTACH;FMTTYPE=image/png:https://www.talkdeath.com/wp-content/uploads/2025/05/2.png
ORGANIZER;CN="Dear Departures":MAILTO:tawnya@deardepartures.com
END:VEVENT
BEGIN:VEVENT
DTSTART;TZID=America/Los_Angeles:20250504T183000
DTEND;TZID=America/Los_Angeles:20250504T203000
DTSTAMP:20260424T052303
CREATED:20250423T143639Z
LAST-MODIFIED:20250423T143639Z
UID:10000213-1746383400-1746390600@www.talkdeath.com
SUMMARY:The Last Stitch Society
DESCRIPTION:The Last Stitch Society creates space for the conversations many of us crave but rarely find—about mortality\, grief\, loss\, and how we might live more fully by acknowledging life’s impermanence. \nBring any portable craft project—knitting\, embroidery\, mending\, sketching—and join us as we stitch and share. No experience necessary\, just an openness to authentic connection. Light refreshments provided to nourish both body and conversation. \nIn a culture that often pushes difficult topics into the shadows\, Last Stitch Society offers a warm\, welcoming environment to explore the full spectrum of human experience. Together\, we’ll unravel the threads of meaning that connect us all.
URL:https://www.talkdeath.com/event/the-last-stitch-society/
LOCATION:The Exchange\, 617 Marin St\, Vallejo\, CA\, 94590\, United States
CATEGORIES:Arts and Culture,Community Meet Up,Peer-Led Grief Support
ATTACH;FMTTYPE=image/jpeg:https://www.talkdeath.com/wp-content/uploads/2025/04/Last-Stitch-Society-new-logo.jpg
ORGANIZER;CN="Golden Thread Alchemy":MAILTO:britt@goldenthreadalchemy.com
END:VEVENT
END:VCALENDAR