BEGIN:VCALENDAR
VERSION:2.0
PRODID:-//TalkDeath - ECPv6.15.19//NONSGML v1.0//EN
CALSCALE:GREGORIAN
METHOD:PUBLISH
X-WR-CALNAME:TalkDeath
X-ORIGINAL-URL:https://www.talkdeath.com
X-WR-CALDESC:Events for TalkDeath
REFRESH-INTERVAL;VALUE=DURATION:PT1H
X-Robots-Tag:noindex
X-PUBLISHED-TTL:PT1H
BEGIN:VTIMEZONE
TZID:America/New_York
BEGIN:DAYLIGHT
TZOFFSETFROM:-0500
TZOFFSETTO:-0400
TZNAME:EDT
DTSTART:20250309T070000
END:DAYLIGHT
BEGIN:STANDARD
TZOFFSETFROM:-0400
TZOFFSETTO:-0500
TZNAME:EST
DTSTART:20251102T060000
END:STANDARD
BEGIN:DAYLIGHT
TZOFFSETFROM:-0500
TZOFFSETTO:-0400
TZNAME:EDT
DTSTART:20260308T070000
END:DAYLIGHT
BEGIN:STANDARD
TZOFFSETFROM:-0400
TZOFFSETTO:-0500
TZNAME:EST
DTSTART:20261101T060000
END:STANDARD
BEGIN:DAYLIGHT
TZOFFSETFROM:-0500
TZOFFSETTO:-0400
TZNAME:EDT
DTSTART:20270314T070000
END:DAYLIGHT
BEGIN:STANDARD
TZOFFSETFROM:-0400
TZOFFSETTO:-0500
TZNAME:EST
DTSTART:20271107T060000
END:STANDARD
END:VTIMEZONE
BEGIN:VEVENT
DTSTART;TZID=America/New_York:20260324T190000
DTEND;TZID=America/New_York:20260324T203000
DTSTAMP:20260424T054317
CREATED:20260123T173239Z
LAST-MODIFIED:20260123T173239Z
UID:10001672-1774378800-1774384200@www.talkdeath.com
SUMMARY:Shiva Guide Essentials Workshop
DESCRIPTION:Have you comforted a friend or family member after a death\, but wished you could do more? Join an online Shiva Guide Essentials Workshop and learn how Jewish tradition is designed to hold us in our grief\, together. \nBy the end of this 90-minute interactive workshop\, participants will be able to:\n– Identify ways to provide practical support for friends and family after a death\n– Understand the rituals of Jewish mourning and why they matter\n– Share with friends and family the importance of showing up for mourners\n– Know how to utilize Shiva Circle’s resources to create supportive shiva experiences \nAt a time when the Jewish world feels fractured\, Shiva Circle equips you with essential resources\, strengthening bonds and creating a framework for grief care. \nThe registration fee for this workshop is $36-$50 (sliding scale). If cost is a barrier\, please contact us at hello@shivacircle.org.
URL:https://www.talkdeath.com/event/shiva-guide-essentials-workshop/
CATEGORIES:Education,Training,Webinar
ATTACH;FMTTYPE=image/png:https://www.talkdeath.com/wp-content/uploads/2026/01/Shiva-Circle-Event-Cards.png
ORGANIZER;CN="Shomer Collective":MAILTO:hello@shomercollective.org
END:VEVENT
END:VCALENDAR