BEGIN:VCALENDAR
VERSION:2.0
PRODID:-//TalkDeath - ECPv6.15.19//NONSGML v1.0//EN
CALSCALE:GREGORIAN
METHOD:PUBLISH
X-WR-CALNAME:TalkDeath
X-ORIGINAL-URL:https://www.talkdeath.com
X-WR-CALDESC:Events for TalkDeath
REFRESH-INTERVAL;VALUE=DURATION:PT1H
X-Robots-Tag:noindex
X-PUBLISHED-TTL:PT1H
BEGIN:VTIMEZONE
TZID:America/Toronto
BEGIN:DAYLIGHT
TZOFFSETFROM:-0500
TZOFFSETTO:-0400
TZNAME:EDT
DTSTART:20250309T070000
END:DAYLIGHT
BEGIN:STANDARD
TZOFFSETFROM:-0400
TZOFFSETTO:-0500
TZNAME:EST
DTSTART:20251102T060000
END:STANDARD
BEGIN:DAYLIGHT
TZOFFSETFROM:-0500
TZOFFSETTO:-0400
TZNAME:EDT
DTSTART:20260308T070000
END:DAYLIGHT
BEGIN:STANDARD
TZOFFSETFROM:-0400
TZOFFSETTO:-0500
TZNAME:EST
DTSTART:20261101T060000
END:STANDARD
BEGIN:DAYLIGHT
TZOFFSETFROM:-0500
TZOFFSETTO:-0400
TZNAME:EDT
DTSTART:20270314T070000
END:DAYLIGHT
BEGIN:STANDARD
TZOFFSETFROM:-0400
TZOFFSETTO:-0500
TZNAME:EST
DTSTART:20271107T060000
END:STANDARD
END:VTIMEZONE
BEGIN:VEVENT
DTSTART;TZID=America/Toronto:20260118T080000
DTEND;TZID=America/Toronto:20260118T170000
DTSTAMP:20260424T021652
CREATED:20260108T145226Z
LAST-MODIFIED:20260108T145226Z
UID:10001589-1768723200-1768755600@www.talkdeath.com
SUMMARY:Grief; Honoring Our Pain and Reclaiming Lifeforce
DESCRIPTION:All of us have experienced loss of some kind\, whether it’s the death of a loved one\, the end of a significant relationship\, losing a job\, health challenges\, or a dream deferred. And yet\, as Bert Hellinger\, the founder of Family Constellations noted about grief; “If you give it time\, the hole becomes a space.”\nIn this interactive Family Constellations workshop\, we’ll explore: how can we honor and acknowledge our loss without it preventing us from moving forward in generative ways? How we might bear the grief of the present and the past\, without sacrificing our future? What gentle adjustments might we make to allow adequate time for the hole to become a space?
URL:https://www.talkdeath.com/event/grief-honoring-our-pain-and-reclaiming-lifeforce/2026-01-18/1/
LOCATION:Cranaleith Spiritual Center\, 13475 Proctor Road\, Philadelphia\, PA\, 19116\, United States
CATEGORIES:Grief Group,Workshop
ATTACH;FMTTYPE=image/png:https://www.talkdeath.com/wp-content/uploads/2026/01/IMG_4826.png
ORGANIZER;CN="Ellen Browning-Lafferty":MAILTO:elle@ellebrowning.com
END:VEVENT
BEGIN:VEVENT
DTSTART;TZID=America/Toronto:20260118T120000
DTEND;TZID=America/Toronto:20260118T160000
DTSTAMP:20260424T021652
CREATED:20260108T145226Z
LAST-MODIFIED:20260108T145226Z
UID:10001590-1768737600-1768752000@www.talkdeath.com
SUMMARY:Grief; Honoring Our Pain and Reclaiming Lifeforce
DESCRIPTION:All of us have experienced loss of some kind\, whether it’s the death of a loved one\, the end of a significant relationship\, losing a job\, health challenges\, or a dream deferred. And yet\, as Bert Hellinger\, the founder of Family Constellations noted about grief; “If you give it time\, the hole becomes a space.”\nIn this interactive Family Constellations workshop\, we’ll explore: how can we honor and acknowledge our loss without it preventing us from moving forward in generative ways? How we might bear the grief of the present and the past\, without sacrificing our future? What gentle adjustments might we make to allow adequate time for the hole to become a space?
URL:https://www.talkdeath.com/event/grief-honoring-our-pain-and-reclaiming-lifeforce/2026-01-18/2/
LOCATION:Cranaleith Spiritual Center\, 13475 Proctor Road\, Philadelphia\, PA\, 19116\, United States
CATEGORIES:Grief Group,Workshop
ATTACH;FMTTYPE=image/png:https://www.talkdeath.com/wp-content/uploads/2026/01/IMG_4826.png
ORGANIZER;CN="Ellen Browning-Lafferty":MAILTO:elle@ellebrowning.com
END:VEVENT
END:VCALENDAR