BEGIN:VCALENDAR
VERSION:2.0
PRODID:-//TalkDeath - ECPv6.15.19//NONSGML v1.0//EN
CALSCALE:GREGORIAN
METHOD:PUBLISH
X-ORIGINAL-URL:https://www.talkdeath.com
X-WR-CALDESC:Events for TalkDeath
REFRESH-INTERVAL;VALUE=DURATION:PT1H
X-Robots-Tag:noindex
X-PUBLISHED-TTL:PT1H
BEGIN:VTIMEZONE
TZID:America/Kentucky/Louisville
BEGIN:DAYLIGHT
TZOFFSETFROM:-0500
TZOFFSETTO:-0400
TZNAME:EDT
DTSTART:20250309T070000
END:DAYLIGHT
BEGIN:STANDARD
TZOFFSETFROM:-0400
TZOFFSETTO:-0500
TZNAME:EST
DTSTART:20251102T060000
END:STANDARD
BEGIN:DAYLIGHT
TZOFFSETFROM:-0500
TZOFFSETTO:-0400
TZNAME:EDT
DTSTART:20260308T070000
END:DAYLIGHT
BEGIN:STANDARD
TZOFFSETFROM:-0400
TZOFFSETTO:-0500
TZNAME:EST
DTSTART:20261101T060000
END:STANDARD
BEGIN:DAYLIGHT
TZOFFSETFROM:-0500
TZOFFSETTO:-0400
TZNAME:EDT
DTSTART:20270314T070000
END:DAYLIGHT
BEGIN:STANDARD
TZOFFSETFROM:-0400
TZOFFSETTO:-0500
TZNAME:EST
DTSTART:20271107T060000
END:STANDARD
END:VTIMEZONE
BEGIN:VEVENT
DTSTART;TZID=America/Kentucky/Louisville:20260316T190000
DTEND;TZID=America/Kentucky/Louisville:20260316T200000
DTSTAMP:20260423T054857
CREATED:20260223T150540Z
LAST-MODIFIED:20260223T150842Z
UID:10001692-1773687600-1773691200@www.talkdeath.com
SUMMARY:Laughing in the Face of Death
DESCRIPTION:Why so serious? From gallows humor to the joy of celebrating a life well-lived\, Becky Robison—author of the new book My Parents Are Dead: What Now? A Panic-Free Guide to the Practicalities of Death—will offer fun\, silly\, and passionate pathways into the inevitability of death and dying to make necessary preparations less intimidating. \nRegister on Morbid Anatomy’s website.
URL:https://www.talkdeath.com/event/laughing-in-the-face-of-death/
LOCATION:Online
CATEGORIES:Education,Virtual,Webinar,Workshop
ATTACH;FMTTYPE=image/png:https://www.talkdeath.com/wp-content/uploads/2026/02/Laughing-in-Face-of-Death-March-2026.png
ORGANIZER;CN="My Parents Are Dead%3A What Now&gt%3B?":MAILTO:hello@deadparentswhatnow.com
END:VEVENT
END:VCALENDAR