BEGIN:VCALENDAR
VERSION:2.0
PRODID:-//TalkDeath - ECPv6.15.19//NONSGML v1.0//EN
CALSCALE:GREGORIAN
METHOD:PUBLISH
X-ORIGINAL-URL:https://www.talkdeath.com
X-WR-CALDESC:Events for TalkDeath
REFRESH-INTERVAL;VALUE=DURATION:PT1H
X-Robots-Tag:noindex
X-PUBLISHED-TTL:PT1H
BEGIN:VTIMEZONE
TZID:America/Toronto
BEGIN:DAYLIGHT
TZOFFSETFROM:-0500
TZOFFSETTO:-0400
TZNAME:EDT
DTSTART:20250309T070000
END:DAYLIGHT
BEGIN:STANDARD
TZOFFSETFROM:-0400
TZOFFSETTO:-0500
TZNAME:EST
DTSTART:20251102T060000
END:STANDARD
BEGIN:DAYLIGHT
TZOFFSETFROM:-0500
TZOFFSETTO:-0400
TZNAME:EDT
DTSTART:20260308T070000
END:DAYLIGHT
BEGIN:STANDARD
TZOFFSETFROM:-0400
TZOFFSETTO:-0500
TZNAME:EST
DTSTART:20261101T060000
END:STANDARD
BEGIN:DAYLIGHT
TZOFFSETFROM:-0500
TZOFFSETTO:-0400
TZNAME:EDT
DTSTART:20270314T070000
END:DAYLIGHT
BEGIN:STANDARD
TZOFFSETFROM:-0400
TZOFFSETTO:-0500
TZNAME:EST
DTSTART:20271107T060000
END:STANDARD
END:VTIMEZONE
BEGIN:VEVENT
DTSTART;TZID=America/Toronto:20260423T080000
DTEND;TZID=America/Toronto:20260423T170000
DTSTAMP:20260423T025741
CREATED:20260408T191842Z
LAST-MODIFIED:20260408T191842Z
UID:10001849-1776931200-1776963600@www.talkdeath.com
SUMMARY:Spring Cleaning: The Stuff Your Kids Don’t Want
DESCRIPTION:It starts with good intentions…\nThe china set.\nThe rocking chair.\nBoxes of photos.\nCollections\, keepsakes\, “important” things. \nEvery item has a story. Every piece means something to you. \nBut one day\, your family may be left sorting through it all wondering what to keep\, what to let go of\, and feeling the weight of those decisions. \nYou don’t have to leave them with that. \nSpring Cleaning: The Stuff Your Kids Don’t Want\nOrganizing with intention\, ease\, and a little humor.\nJoin professional organizer Heather Shingleton of Clutter Company for a conversation about simplifying your space\, letting go of what no longer serves you\, and keeping what truly matters. \nYou’ll leave with ideas to simplify your space\, keeping what truly matters\, and create a plan your family will thank you for. The goal isn’t to get rid of everything – it’s to make sure what you keep is meaningful. \nThe workshop is free to attend as part of our series: Connections and Conversations with Choice Cremation. \nLife is full of questions\, transitions\, and moments we don’t always know how to talk about. Our Conversations & Connections series offers a welcoming\, judgment-free space to explore these topics openly with others. Each event is designed to spark meaningful dialogue\, encourage curiosity\, and provide connection.
URL:https://www.talkdeath.com/event/spring-cleaning-the-stuff-your-kids-dont-want/2026-04-23/1/
LOCATION:Choice\, 907 Rivergate Parkway\, Goodlettsville\, TN\, 37072\, United States
CATEGORIES:Workshop
ATTACH;FMTTYPE=image/png:https://www.talkdeath.com/wp-content/uploads/2026/04/Untitled-design-3-1.png
ORGANIZER;CN="Choice Cremation":MAILTO:tammy@choicecremationtn.com
END:VEVENT
BEGIN:VEVENT
DTSTART;TZID=America/Toronto:20260423T180000
DTEND;TZID=America/Toronto:20260423T190000
DTSTAMP:20260423T025741
CREATED:20260408T191842Z
LAST-MODIFIED:20260408T191842Z
UID:10001850-1776967200-1776970800@www.talkdeath.com
SUMMARY:Spring Cleaning: The Stuff Your Kids Don’t Want
DESCRIPTION:It starts with good intentions…\nThe china set.\nThe rocking chair.\nBoxes of photos.\nCollections\, keepsakes\, “important” things. \nEvery item has a story. Every piece means something to you. \nBut one day\, your family may be left sorting through it all wondering what to keep\, what to let go of\, and feeling the weight of those decisions. \nYou don’t have to leave them with that. \nSpring Cleaning: The Stuff Your Kids Don’t Want\nOrganizing with intention\, ease\, and a little humor.\nJoin professional organizer Heather Shingleton of Clutter Company for a conversation about simplifying your space\, letting go of what no longer serves you\, and keeping what truly matters. \nYou’ll leave with ideas to simplify your space\, keeping what truly matters\, and create a plan your family will thank you for. The goal isn’t to get rid of everything – it’s to make sure what you keep is meaningful. \nThe workshop is free to attend as part of our series: Connections and Conversations with Choice Cremation. \nLife is full of questions\, transitions\, and moments we don’t always know how to talk about. Our Conversations & Connections series offers a welcoming\, judgment-free space to explore these topics openly with others. Each event is designed to spark meaningful dialogue\, encourage curiosity\, and provide connection.
URL:https://www.talkdeath.com/event/spring-cleaning-the-stuff-your-kids-dont-want/2026-04-23/2/
LOCATION:Choice\, 907 Rivergate Parkway\, Goodlettsville\, TN\, 37072\, United States
CATEGORIES:Workshop
ATTACH;FMTTYPE=image/png:https://www.talkdeath.com/wp-content/uploads/2026/04/Untitled-design-3-1.png
ORGANIZER;CN="Choice Cremation":MAILTO:tammy@choicecremationtn.com
END:VEVENT
BEGIN:VEVENT
DTSTART;TZID=America/Toronto:20260425T083000
DTEND;TZID=America/Toronto:20260811T170000
DTSTAMP:20260423T025741
CREATED:20260107T150411Z
LAST-MODIFIED:20260107T150411Z
UID:10001584-1777105800-1786467600@www.talkdeath.com
SUMMARY:CT Death and Dying Symposium
DESCRIPTION:Join the the Connecticut Death Collective\, Mattatuck Museum and Riverside Cemetery for a day of reflection\, remembrance\, and renewal at our first-ever Death & Dying Symposium. Explore themes of legacy\, mourning\, and memory through interactive presentations\, local vendors\, and community discussions. \nExperience fascinating talks and demonstrations from presenters\, enjoy Riverside Reflections in a special slideshow presentation\, and discover unique offerings from local creators and educators. \nDate: April 25\, 2026\nLocation: Riverside Cemetery & Mattatuck Museum\, Waterbury\, CT \nTogether\, we honor the past\, engage the present\, and preserve Riverside’s historic chapel for generations to come.
URL:https://www.talkdeath.com/event/ct-death-and-dying-symposium/
LOCATION:Mattatuck Museum\, 144 West Main Street\, Waterbury\, 06702\, United States
CATEGORIES:Education,Green Burial,Workshop
ATTACH;FMTTYPE=image/jpeg:https://www.talkdeath.com/wp-content/uploads/2026/01/DD-Save-the-Date.jpg
ORGANIZER;CN="CT Death Collective":MAILTO:ctdeathcollective@gmail.com
END:VEVENT
END:VCALENDAR