BEGIN:VCALENDAR
VERSION:2.0
PRODID:-//TalkDeath - ECPv6.15.19//NONSGML v1.0//EN
CALSCALE:GREGORIAN
METHOD:PUBLISH
X-WR-CALNAME:TalkDeath
X-ORIGINAL-URL:https://www.talkdeath.com
X-WR-CALDESC:Events for TalkDeath
REFRESH-INTERVAL;VALUE=DURATION:PT1H
X-Robots-Tag:noindex
X-PUBLISHED-TTL:PT1H
BEGIN:VTIMEZONE
TZID:Europe/London
BEGIN:DAYLIGHT
TZOFFSETFROM:+0000
TZOFFSETTO:+0100
TZNAME:BST
DTSTART:20240331T010000
END:DAYLIGHT
BEGIN:STANDARD
TZOFFSETFROM:+0100
TZOFFSETTO:+0000
TZNAME:GMT
DTSTART:20241027T010000
END:STANDARD
BEGIN:DAYLIGHT
TZOFFSETFROM:+0000
TZOFFSETTO:+0100
TZNAME:BST
DTSTART:20250330T010000
END:DAYLIGHT
BEGIN:STANDARD
TZOFFSETFROM:+0100
TZOFFSETTO:+0000
TZNAME:GMT
DTSTART:20251026T010000
END:STANDARD
BEGIN:DAYLIGHT
TZOFFSETFROM:+0000
TZOFFSETTO:+0100
TZNAME:BST
DTSTART:20260329T010000
END:DAYLIGHT
BEGIN:STANDARD
TZOFFSETFROM:+0100
TZOFFSETTO:+0000
TZNAME:GMT
DTSTART:20261025T010000
END:STANDARD
END:VTIMEZONE
BEGIN:VTIMEZONE
TZID:America/Toronto
BEGIN:DAYLIGHT
TZOFFSETFROM:-0500
TZOFFSETTO:-0400
TZNAME:EDT
DTSTART:20240310T070000
END:DAYLIGHT
BEGIN:STANDARD
TZOFFSETFROM:-0400
TZOFFSETTO:-0500
TZNAME:EST
DTSTART:20241103T060000
END:STANDARD
BEGIN:DAYLIGHT
TZOFFSETFROM:-0500
TZOFFSETTO:-0400
TZNAME:EDT
DTSTART:20250309T070000
END:DAYLIGHT
BEGIN:STANDARD
TZOFFSETFROM:-0400
TZOFFSETTO:-0500
TZNAME:EST
DTSTART:20251102T060000
END:STANDARD
BEGIN:DAYLIGHT
TZOFFSETFROM:-0500
TZOFFSETTO:-0400
TZNAME:EDT
DTSTART:20260308T070000
END:DAYLIGHT
BEGIN:STANDARD
TZOFFSETFROM:-0400
TZOFFSETTO:-0500
TZNAME:EST
DTSTART:20261101T060000
END:STANDARD
END:VTIMEZONE
BEGIN:VTIMEZONE
TZID:America/New_York
BEGIN:DAYLIGHT
TZOFFSETFROM:-0500
TZOFFSETTO:-0400
TZNAME:EDT
DTSTART:20240310T070000
END:DAYLIGHT
BEGIN:STANDARD
TZOFFSETFROM:-0400
TZOFFSETTO:-0500
TZNAME:EST
DTSTART:20241103T060000
END:STANDARD
BEGIN:DAYLIGHT
TZOFFSETFROM:-0500
TZOFFSETTO:-0400
TZNAME:EDT
DTSTART:20250309T070000
END:DAYLIGHT
BEGIN:STANDARD
TZOFFSETFROM:-0400
TZOFFSETTO:-0500
TZNAME:EST
DTSTART:20251102T060000
END:STANDARD
BEGIN:DAYLIGHT
TZOFFSETFROM:-0500
TZOFFSETTO:-0400
TZNAME:EDT
DTSTART:20260308T070000
END:DAYLIGHT
BEGIN:STANDARD
TZOFFSETFROM:-0400
TZOFFSETTO:-0500
TZNAME:EST
DTSTART:20261101T060000
END:STANDARD
END:VTIMEZONE
BEGIN:VTIMEZONE
TZID:America/Denver
BEGIN:DAYLIGHT
TZOFFSETFROM:-0700
TZOFFSETTO:-0600
TZNAME:MDT
DTSTART:20240310T090000
END:DAYLIGHT
BEGIN:STANDARD
TZOFFSETFROM:-0600
TZOFFSETTO:-0700
TZNAME:MST
DTSTART:20241103T080000
END:STANDARD
BEGIN:DAYLIGHT
TZOFFSETFROM:-0700
TZOFFSETTO:-0600
TZNAME:MDT
DTSTART:20250309T090000
END:DAYLIGHT
BEGIN:STANDARD
TZOFFSETFROM:-0600
TZOFFSETTO:-0700
TZNAME:MST
DTSTART:20251102T080000
END:STANDARD
BEGIN:DAYLIGHT
TZOFFSETFROM:-0700
TZOFFSETTO:-0600
TZNAME:MDT
DTSTART:20260308T090000
END:DAYLIGHT
BEGIN:STANDARD
TZOFFSETFROM:-0600
TZOFFSETTO:-0700
TZNAME:MST
DTSTART:20261101T080000
END:STANDARD
END:VTIMEZONE
BEGIN:VTIMEZONE
TZID:America/Vancouver
BEGIN:DAYLIGHT
TZOFFSETFROM:-0800
TZOFFSETTO:-0700
TZNAME:PDT
DTSTART:20240310T100000
END:DAYLIGHT
BEGIN:STANDARD
TZOFFSETFROM:-0700
TZOFFSETTO:-0800
TZNAME:PST
DTSTART:20241103T090000
END:STANDARD
BEGIN:DAYLIGHT
TZOFFSETFROM:-0800
TZOFFSETTO:-0700
TZNAME:PDT
DTSTART:20250309T100000
END:DAYLIGHT
BEGIN:STANDARD
TZOFFSETFROM:-0700
TZOFFSETTO:-0800
TZNAME:PST
DTSTART:20251102T090000
END:STANDARD
BEGIN:DAYLIGHT
TZOFFSETFROM:-0800
TZOFFSETTO:-0700
TZNAME:PDT
DTSTART:20260308T100000
END:DAYLIGHT
BEGIN:STANDARD
TZOFFSETFROM:-0700
TZOFFSETTO:-0800
TZNAME:PST
DTSTART:20261101T090000
END:STANDARD
END:VTIMEZONE
BEGIN:VTIMEZONE
TZID:America/Denver
BEGIN:DAYLIGHT
TZOFFSETFROM:-0700
TZOFFSETTO:-0600
TZNAME:MDT
DTSTART:20240310T090000
END:DAYLIGHT
BEGIN:STANDARD
TZOFFSETFROM:-0600
TZOFFSETTO:-0700
TZNAME:MST
DTSTART:20241103T080000
END:STANDARD
BEGIN:DAYLIGHT
TZOFFSETFROM:-0700
TZOFFSETTO:-0600
TZNAME:MDT
DTSTART:20250309T090000
END:DAYLIGHT
BEGIN:STANDARD
TZOFFSETFROM:-0600
TZOFFSETTO:-0700
TZNAME:MST
DTSTART:20251102T080000
END:STANDARD
BEGIN:DAYLIGHT
TZOFFSETFROM:-0700
TZOFFSETTO:-0600
TZNAME:MDT
DTSTART:20260308T090000
END:DAYLIGHT
BEGIN:STANDARD
TZOFFSETFROM:-0600
TZOFFSETTO:-0700
TZNAME:MST
DTSTART:20261101T080000
END:STANDARD
END:VTIMEZONE
BEGIN:VEVENT
DTSTART;TZID=Europe/London:20250702T180000
DTEND;TZID=Europe/London:20250702T200000
DTSTAMP:20260421T213723
CREATED:20250507T143913Z
LAST-MODIFIED:20250507T143913Z
UID:10000409-1751479200-1751486400@www.talkdeath.com
SUMMARY:Sand Bay Death Cafe
DESCRIPTION:Excited to announce the Sand Bay Death Cafe Summer Series\, the first Wednesday of the month in June\, July and August\, 6-8pm at the Cosy Cafe on Beach Road. Join us for drinks\, cake and an exploration of what it means to live in the light of our mortality. \nYes\, the topic of death can feel heavy\, even a little taboo. But opening up and talking about the things that scare us can often bring us peace and direction in ways we may never have expected. Many find that talking about death eases the fear and mystery of it. \nDeath Cafes happen in towns and cities around the world\, creating space for genuine\, unhurried discussion about our mortality…a topic that touches all our lives\, yet rarely finds its way into everyday conversation. \nThis isn’t a grief support group or educational seminar. Instead\, we offer a comfortable space where people from all walks of life can share their thoughts about death and dying\, ask questions\, gain new perspectives and reflect on what makes life meaningful. \nHow it works: Conversation prompts will be available\, but there will be no formal direction. Discussions take place with strangers in small groups over a drink and cake…it’s very relaxed and you can add to the conversation or just listen. \nBe brave and join us! Come to one\, or all three sessions. The venue is accessible\, all welcome.
URL:https://www.talkdeath.com/event/sand-bay-death-cafe/
LOCATION:Sand Bay Cosy Cafe\, Crookes Lane\, Kewstoke\, North Somerset\, BS22 9XB\, United Kingdom
CATEGORIES:Death Cafe
ATTACH;FMTTYPE=image/png:https://www.talkdeath.com/wp-content/uploads/2025/05/Sand-Bay-Death-Cafe-Summer-Series-2025-Instagram-Post-45_20250505_182535_0000-1.png
END:VEVENT
BEGIN:VEVENT
DTSTART;TZID=America/Toronto:20250705T120000
DTEND;TZID=America/Toronto:20250705T140000
DTSTAMP:20260421T213723
CREATED:20250616T163652Z
LAST-MODIFIED:20250616T163652Z
UID:10001082-1751716800-1751724000@www.talkdeath.com
SUMMARY:Red\, White and Bruised : A Soft Rebellion
DESCRIPTION:This July 4th weekend\, we’re not celebrating — we’re tending to what’s been scorched and what’s still unfolding. Red\, White & Bruised: The Soft Rebellion is a sound-centered gathering born from the grief in our city — in the wake of fires that choked our skies\, and amid ongoing ICE raids that continue to separate families and spread fear. \nThis is not a party. This is a place to rest. A meditative sound bath for the overburdened and the underheld. A quiet container to lay down your rage\, your grief\, your numbness\, your breath. A space where stillness is protest\, where sound is balm\, and where no one has to explain why they’re tired. Whether you’re mourning a loved one\, grieving what’s happening in our neighborhoods\, or simply surviving the weight of this moment — you are welcome here. Come as you are. Pay what you can. \nLeave softer.
URL:https://www.talkdeath.com/event/red-white-and-bruised-a-soft-rebellion/
LOCATION:KY
CATEGORIES:BiPoC,Community Meet Up,Grief Group,Grief Release
END:VEVENT
BEGIN:VEVENT
DTSTART;TZID=America/New_York:20250710T130000
DTEND;TZID=America/New_York:20250710T140000
DTSTAMP:20260421T213723
CREATED:20250709T145844Z
LAST-MODIFIED:20250709T145844Z
UID:10001349-1752152400-1752156000@www.talkdeath.com
SUMMARY:The Good Death Book Club Experience FREE 12-Month Death and Dying Course
DESCRIPTION:According to a recent AARP study\, there are over 52 million caregivers in the United States right now—and 70% of them say they are overwhelmed. Every single day\, I receive messages from current and former caregivers who say:\n“I wish I had this knowledge when I was caring for my loved one.”\nOr:\n“The Doulagivers training is helping me more than I can say.” \nThe truth is:\nWe will all have a caregiving story. \nLet’s make sure yours is one filled with support\, empowerment\, and peace. \nThat’s why I created The GOOD DEATH BOOK CLUB Experience: Death and Dying Course—a free\, live\, 12-month educational journey through my bestselling book The Good Death: A Guide for Supporting Your Loved One Through the End of Life. \nWhat It Is:\nEach month\, we explore one chapter of The Good Death together. \nYou’ll receive:\n-A live End of life teaching course with me\, Suzanne B. O’Brien\, RN\n-A guided workbook and downloadable companion guide\n-A group discussion and experiential exercise\n-A full 12 month Death and Dying Course for free \nWho It’s For: \n-Current and future caregivers ( all of us )\n-Death Doulas\, aspiring Death Doulas\, medical professionals\n-Individuals seeking grief healing and emotional support\n-Anyone who wants spiritual inspiration and empowerment around death\, aging\, and life itself \nWhy It Matters:\nDeath is 100% guaranteed—and yet\, our modern culture has stripped away the education and sacredness that used to surround it. \nThis lack of awareness is contributing to unnecessary fear\, trauma\, and prolonged suffering and grief. \nBut death is not the enemy. \nIt is our greatest teacher about how to truly live. \nWhen we return death to its place as a natural\, sacred transition\, we begin to reclaim peace\, presence\, and purpose in our lives and communities TODAY! \nWhat You Can Do:\nJoin The Experience and Share with Your Friends!
URL:https://www.talkdeath.com/event/the-good-death-book-club-experience-free-12-month-death-and-dying-course-2-2/2025-07-10/
LOCATION:KY
CATEGORIES:Community Meet Up,Education,Grief Release,Virtual
ORGANIZER;CN="Doulagivers Institute":MAILTO:support@doulagivers.com
END:VEVENT
BEGIN:VEVENT
DTSTART;TZID=America/Denver:20250710T173000
DTEND;TZID=America/Denver:20250710T190000
DTSTAMP:20260421T213723
CREATED:20250605T200631Z
LAST-MODIFIED:20250605T200631Z
UID:10000694-1752168600-1752174000@www.talkdeath.com
SUMMARY:"It's Complicated" Support Group
DESCRIPTION:A monthly peer-led Zoom group for people who had a strained relationship with someone who’s died. It can be tough to be in a group with other folks who were close with their parent\, sibling\, grandparent\, partner\, co-parent\, friend\, etc. As much as I like for there to be a range of experiences represented in grief groups\, so that we can hear diverse perspectives\, sometimes it is nice to be with people who “get it.” When addiction\, mental health challenges\, conflict\, estrangement\, abuse\, etc. were a part of the picture\, it can affect the grief journey in unique ways. This is a space for us.
URL:https://www.talkdeath.com/event/its-complicated-support-group-2/2025-07-10/
LOCATION:Virtual Event
CATEGORIES:Grief Group,Peer-Led Grief Support,Virtual
ORGANIZER;CN="Dear Departures":MAILTO:tawnya@deardepartures.com
END:VEVENT
BEGIN:VEVENT
DTSTART;TZID=America/Toronto:20250715T190000
DTEND;TZID=America/Toronto:20250715T203000
DTSTAMP:20260421T213723
CREATED:20250605T162718Z
LAST-MODIFIED:20250605T162718Z
UID:10000690-1752606000-1752611400@www.talkdeath.com
SUMMARY:Dead People's Stuff
DESCRIPTION:The dead can leave behind so much stuff\, from a few sentimental items\, to entire homes stuffed to the brim. What to do with it can be complex and filled with conflicting emotions. This is a space to explore our relationships with the physical objects left behind by the dead\, what to keep\, what to pass on\, what we are having hard feelings about\, and what we celebrate. \nQueer Death Salon is a community space for all 2SLGBTQIA+ people to come together to discuss death\, dying and grief. It is a facilitated drop-in discussion space\, with the purpose of building connection\, skill\, and resources for 2SLGBTQIA+ people navigating end of life in our personal lives and in our communities. \nQueer Death Salon takes place over Zoom\, in English\, with Automatic Closed Captioning
URL:https://www.talkdeath.com/event/dead-peoples-stuff/
LOCATION:Virtual Event
CATEGORIES:Arts and Culture,Grief Group,Grief Release,LGBTQ,Virtual
ORGANIZER;CN="Queer Community Deathcare":MAILTO:queercommunitydeathcare@gmail.com
END:VEVENT
BEGIN:VEVENT
DTSTART;TZID=America/Denver:20250721T173000
DTEND;TZID=America/Denver:20250721T190000
DTSTAMP:20260421T213723
CREATED:20250507T143945Z
LAST-MODIFIED:20250507T143945Z
UID:10000350-1753119000-1753124400@www.talkdeath.com
SUMMARY:Childfree By Choice & Grieving
DESCRIPTION:It’s not a given that everyone who is childfree by choice is 100%\, unabashedly content with the decision. While we may be set in our choice\, there can still be grief there. I know there is for me. It’s a both-and/two truths situation. Many of us make this choice for a lot of unfortunate\, depressing\, and/or systemic reasons\, and I created this space where we can be with our truths\, and hurts\, around it all. \nOur monthly peer-led Zoom group is intended to be a space for people who have chosen not to have children. It is not intended to be a child-loss support group or infertility support group\, although if you have prior experience with infertility and/or pregnancy loss and have since decided to not have children (meaning you are now childfree by choice) feel free to join and see if it’s a good fit.
URL:https://www.talkdeath.com/event/childfree-by-choice-grieving/2025-07-21/
LOCATION:Virtual Event
CATEGORIES:Grief Group,Peer-Led Grief Support,Virtual
ATTACH;FMTTYPE=image/png:https://www.talkdeath.com/wp-content/uploads/2025/05/2.png
ORGANIZER;CN="Dear Departures":MAILTO:tawnya@deardepartures.com
END:VEVENT
BEGIN:VEVENT
DTSTART;TZID=America/Toronto:20250722T200000
DTEND;TZID=America/Toronto:20250722T213000
DTSTAMP:20260421T213723
CREATED:20250722T152720Z
LAST-MODIFIED:20250722T152720Z
UID:10001423-1753214400-1753219800@www.talkdeath.com
SUMMARY:Online Grief Salon - Body Grief
DESCRIPTION:Online Grief Salons are a safe\, welcoming space to explore your grief among peers. Lead by grief doula\, That Good Night\, these grief salons run 90 minutes and are intended to be a space for peer support and understanding. Tickets are PWYC with a suggested donation of $30.\nThis month’s topic is body grief – this is a specific kind of grief that can occur when you experience changes in your body whether it’s due to illness\, injury\, or ageing. This will be an opportunity to get real about the grief we feel in our changing bodies as we continue to learn to adapt to our new levels of ability.
URL:https://www.talkdeath.com/event/online-grief-salon-body-grief/
LOCATION:KY
CATEGORIES:Death Cafe,Grief Group
ATTACH;FMTTYPE=image/png:https://www.talkdeath.com/wp-content/uploads/2025/07/Body-Grief.png
ORGANIZER;CN="That Good Night":MAILTO:thatgoodnightdoula@gmail.com
END:VEVENT
BEGIN:VEVENT
DTSTART;TZID=America/Toronto:20250724T190000
DTEND;TZID=America/Toronto:20250724T220000
DTSTAMP:20260421T213723
CREATED:20250711T163943Z
LAST-MODIFIED:20250716T140535Z
UID:10001414-1753383600-1753394400@www.talkdeath.com
SUMMARY:(a)Wake x Gay Gardens present: A Living Funeral Ceremony & Death Salon
DESCRIPTION:Ritual and community at the edge of what was and what comes next under the Leo New Moon. Join us for a Living Funeral Ceremony followed by a Death Salon. \n​A Living Funeral Ceremony is an immersive meditative experience that encourages participants to face their own mortality. Through engaging in ritual and guidance through a death visualization–contemplating your own memorial as you imagine letting go of your earthly self–participants are invited to “die before you die\, to live while you’re alive.” \n​This ceremonial experience provides a safe and supportive space to confront fears around death and impermanence\, while also fostering a deeper connection to life’s fragility and beauty. Often compared to the experience of ego death\, this ritual leaves many with a renewed sense of purpose and a profound appreciation for the present moment. \n​TIMING \n​Please arrive on time by 7pm\, as the container will close once the ceremony begins to honor the sacred environment we are co-creating. The ritual portion takes up to 90 minutes. After the ceremony is complete\, Kaitlyn will hold space for a Death Salon where participants will be invited to reflect alone or in community\, support our curated food vendors\, and gently reintegrate until 10pm. \n​WHAT TO BRING/WEAR \n​A blanket\, yoga mat\, or something to lay on\nComfortable\, breathable clothing is recommended\nThis is at an outdoor venue\, so please keep that in mind \n​PRICING STRUCTURE \n​(a)Wake is part of a movement toward collective care. Please choose the price that suits your current situation. \n​$22 – Community Supported (for those who need financial access to attend; limited availability)\n​$33 – Base Rate (covers cost of materials + energy exchange)\n​$44 – True Cost (what it actually costs to offer this ceremony)\n​$55+ – Community Sustainer (supports others to attend + helps this work remain sustainable) \n​This ceremony will be facilitated by Kaitlyn Pietras (she/her)\, a queer Jewish grief worker and visual artist based in Los Angeles. She is the creator of (a)Wake\, a ritual container at the intersection of grief\, death\, and art. Her practice is rooted in tending to both personal and collective grief\, connecting with ancestral wisdom\, and creating ritual spaces for the LGBTQIA+ community. Kaitlyn’s work weaves together plant magic\, Jewish mysticism\, and somatic storytelling. \n​She trained directly with Emily Cross of the Steady Waves Center\, who developed this ceremony inspired by living funerals originally held in South Korea. These ceremonies were created to help participants reflect on their lives and reconnect with a sense of meaning and purpose in the face of death.
URL:https://www.talkdeath.com/event/awake-x-gay-gardens-present-a-living-funeral-ceremony-death-salon/
LOCATION:KY
CATEGORIES:Community Meet Up,Death Cafe,Grief Group
ATTACH;FMTTYPE=image/jpeg:https://www.talkdeath.com/wp-content/uploads/2025/07/unnamed.jpg
END:VEVENT
BEGIN:VEVENT
DTSTART;TZID=America/Vancouver:20250730T180000
DTEND;TZID=America/Vancouver:20250730T193000
DTSTAMP:20260421T213723
CREATED:20250605T144707Z
LAST-MODIFIED:20250605T144707Z
UID:10000628-1753898400-1753903800@www.talkdeath.com
SUMMARY:The Grief Well Drop In Virtual Grief Gathering
DESCRIPTION:THE OPPORTUNITY TO EXPLORE AND SHARE GRIEF TOGETHER THROUGH POETRY\, FREE WRITING\, SHARING\, WITNESSING\, AND SILENCE. \nEVERYTHING AS AN INVITATION. \nPARTICIPATE IN WHATEVER WAY FEELS RIGHT FOR YOU. \nAll grief welcome – past\, present\, and future. Death and non-death grief.
URL:https://www.talkdeath.com/event/the-grief-well-drop-in-virtual-grief-gathering/2025-07-30/
LOCATION:Virtual Event
CATEGORIES:Grief Group
ORGANIZER;CN="The Grief Well":MAILTO:tlc@endwell.ca
END:VEVENT
BEGIN:VEVENT
DTSTART;TZID=America/Denver:20250730T180000
DTEND;TZID=America/Denver:20250730T200000
DTSTAMP:20260421T213723
CREATED:20250515T132749Z
LAST-MODIFIED:20250515T132749Z
UID:10000417-1753898400-1753905600@www.talkdeath.com
SUMMARY:Death Cafe
DESCRIPTION:The Lotus Center Death Cafe is open to the public and typically consists of an agenda-free discussion of death . Our objective will be to increase awareness of death with a view to helping people make the most of their (finite) lives. Dinner will be served. \nAll ages welcome. This is a safe\, judgement-free\, no-fixing zone. Every belief is welcome.
URL:https://www.talkdeath.com/event/death-cafe-4/2025-07-30/
LOCATION:The Lotus Center\, 4376 South 700 East #200\, Millcreek\, UT\, 84124\, United States
CATEGORIES:Death Cafe
END:VEVENT
BEGIN:VEVENT
DTSTART;TZID=America/Denver:20250731T180000
DTEND;TZID=America/Denver:20250731T193000
DTSTAMP:20260421T213723
CREATED:20250721T192905Z
LAST-MODIFIED:20250721T192905Z
UID:10001422-1753984800-1753990200@www.talkdeath.com
SUMMARY:Grief & Tell
DESCRIPTION:Remember the days of Show & Tell in elementary school? That feeling of having the undivided attention of your classmates as you share something that mattered to you? \nWe want to bring that feeling back. \nSo often\, grievers feel like they don’t have the space to continue sharing about the person they’ve lost. It seems like the world has moved on\, and it can feel isolating. We want to be in community with you. \nHere’s how it works: \nThis event is virtual\, free\, and open to everyone. That being said\, you don’t have to share if you don’t want to. You are still welcome to be in community with us. \nIf you DO want to share\, you can sign up on the virtual sign in sheet to reserve your spot. \n((BUT PLEASE DON’T FORGET TO REGISTER )) \nWe invite you to bring something that reminds you of someone you’ve lost. It can be whatever you want. \nShow us what you brought! An object\, an item of clothing\, a poem\, a book- anything! As long as it’s something that brings you comfort\, we would be honored to see it. \nTell us about the significance of the item and the person it reminds you of. \nAt the conclusion of our time together\, we will close out with a gratitude ceremony\, a bit of a Prism tradition. \nWe can’t wait to see what you bring!
URL:https://www.talkdeath.com/event/grief-tell/
LOCATION:KY
CATEGORIES:Community Meet Up,Grief Group,Grief Release,Peer-Led Grief Support,Virtual
ATTACH;FMTTYPE=image/png:https://www.talkdeath.com/wp-content/uploads/2025/07/Blue-White-Playful-About-Me-Personal-Instagram-Post-4.png
ORGANIZER;CN="Prism Memorial":MAILTO:deathwithlex@gmail.com
END:VEVENT
END:VCALENDAR