BEGIN:VCALENDAR
VERSION:2.0
PRODID:-//TalkDeath - ECPv6.15.19//NONSGML v1.0//EN
CALSCALE:GREGORIAN
METHOD:PUBLISH
X-WR-CALNAME:TalkDeath
X-ORIGINAL-URL:https://www.talkdeath.com
X-WR-CALDESC:Events for TalkDeath
REFRESH-INTERVAL;VALUE=DURATION:PT1H
X-Robots-Tag:noindex
X-PUBLISHED-TTL:PT1H
BEGIN:VTIMEZONE
TZID:America/Toronto
BEGIN:DAYLIGHT
TZOFFSETFROM:-0500
TZOFFSETTO:-0400
TZNAME:EDT
DTSTART:20250309T070000
END:DAYLIGHT
BEGIN:STANDARD
TZOFFSETFROM:-0400
TZOFFSETTO:-0500
TZNAME:EST
DTSTART:20251102T060000
END:STANDARD
BEGIN:DAYLIGHT
TZOFFSETFROM:-0500
TZOFFSETTO:-0400
TZNAME:EDT
DTSTART:20260308T070000
END:DAYLIGHT
BEGIN:STANDARD
TZOFFSETFROM:-0400
TZOFFSETTO:-0500
TZNAME:EST
DTSTART:20261101T060000
END:STANDARD
BEGIN:DAYLIGHT
TZOFFSETFROM:-0500
TZOFFSETTO:-0400
TZNAME:EDT
DTSTART:20270314T070000
END:DAYLIGHT
BEGIN:STANDARD
TZOFFSETFROM:-0400
TZOFFSETTO:-0500
TZNAME:EST
DTSTART:20271107T060000
END:STANDARD
END:VTIMEZONE
BEGIN:VEVENT
DTSTART;TZID=America/Toronto:20260117T100000
DTEND;TZID=America/Toronto:20260117T130000
DTSTAMP:20260421T220705
CREATED:20260112T222344Z
LAST-MODIFIED:20260112T222344Z
UID:10001661-1768644000-1768654800@www.talkdeath.com
SUMMARY:Albuquerque Dead or Distant Parent(s) Club January Meet-Up
DESCRIPTION:Hey Albuquerquue Dead or Distant Parent(s) Club! Let’s meet up at Grandma’s!\nStop by Grandma’s Coffee Garden on Saturday\, January 17th any time between 10am – 1pm for our first get-together of the year! \nIf you haven’t been yet\, Grandma’s Coffee Garden is AADORABLE and has indoor and outdoor space available\, amazing coffee/tea drinks\, and delicious local pastries. Thanks for hosting us Grandma’s! \nCome meet and be in community with fellow members of the Club! It’ll be fun! Let’s bring and celebrate those we’ve lost into this new year. There will be a few fun surprises too! \nOh\, and I love you always! \nLook for the sign to find us in the Garden. Grandma’s Coffee Garden is located at 124 Girard Blvd SE\, Albuquerque\, NM 87106 with ample street parking.
URL:https://www.talkdeath.com/event/albuquerque-dead-or-distant-parents-club-january-meet-up/
LOCATION:Grandma’s Coffee Garden\, 124 Girard Blvd SE\, Albuquerque\, NM\, 87106\, United States
CATEGORIES:Community Meet Up
ATTACH;FMTTYPE=image/jpeg:https://www.talkdeath.com/wp-content/uploads/2026/01/DEAD.jpg
ORGANIZER;CN="ABQ Dead Parent(s) Club":MAILTO:lizziersmall@gmail.com
END:VEVENT
END:VCALENDAR