BEGIN:VCALENDAR
VERSION:2.0
PRODID:-//TalkDeath - ECPv6.15.19//NONSGML v1.0//EN
CALSCALE:GREGORIAN
METHOD:PUBLISH
X-ORIGINAL-URL:https://www.talkdeath.com
X-WR-CALDESC:Events for TalkDeath
REFRESH-INTERVAL;VALUE=DURATION:PT1H
X-Robots-Tag:noindex
X-PUBLISHED-TTL:PT1H
BEGIN:VTIMEZONE
TZID:America/Toronto
BEGIN:DAYLIGHT
TZOFFSETFROM:-0500
TZOFFSETTO:-0400
TZNAME:EDT
DTSTART:20240310T070000
END:DAYLIGHT
BEGIN:STANDARD
TZOFFSETFROM:-0400
TZOFFSETTO:-0500
TZNAME:EST
DTSTART:20241103T060000
END:STANDARD
BEGIN:DAYLIGHT
TZOFFSETFROM:-0500
TZOFFSETTO:-0400
TZNAME:EDT
DTSTART:20250309T070000
END:DAYLIGHT
BEGIN:STANDARD
TZOFFSETFROM:-0400
TZOFFSETTO:-0500
TZNAME:EST
DTSTART:20251102T060000
END:STANDARD
BEGIN:DAYLIGHT
TZOFFSETFROM:-0500
TZOFFSETTO:-0400
TZNAME:EDT
DTSTART:20260308T070000
END:DAYLIGHT
BEGIN:STANDARD
TZOFFSETFROM:-0400
TZOFFSETTO:-0500
TZNAME:EST
DTSTART:20261101T060000
END:STANDARD
END:VTIMEZONE
BEGIN:VEVENT
DTSTART;TZID=America/Toronto:20250927T130000
DTEND;TZID=America/Toronto:20250927T150000
DTSTAMP:20260421T204421
CREATED:20250808T220928Z
LAST-MODIFIED:20250809T153033Z
UID:10001435-1758978000-1758985200@www.talkdeath.com
SUMMARY:Too Poor to Die: A reading & conversation with author\, Amy Shea
DESCRIPTION:Join author Amy Shea at Memorial Mausoleum at Ararat Armenian Cemetery for the launch of her debut book\, Too Poor to Die: The Hidden Realities of Dying in the Margins. Through intimate essays and fieldwork\, Shea brings to light the stories of those who pass unnoticed\, unhoused\, unclaimed\, and underserved. The afternoon will include a reading\, conversation\, and book signing with the author\, accompanied by a live bagpiper\, a brief memorial honoring those buried in the county cemetery\, and a reception with baked goods alongside coffee and tea. \nBooks sold by Judging by the Cover bookstore. \nIn the spirit of collective care\, we will also be accepting donations of new/packaged socks for Fresno Mission\, a local organization providing services to individuals experiencing homelessness. \nWe also ask folks to please bring flowers for the ceremony portion of the event!
URL:https://www.talkdeath.com/event/too-poor-to-die-a-reading-conversation-with-author-amy-shea/
LOCATION:Ararat Armenian Cemetery\, 1925 West Belmont Avenue - Memorial Mausoleum\, Fresno\, CA\, 93728\, United States
CATEGORIES:Arts and Culture,Community Meet Up
ATTACH;FMTTYPE=image/jpeg:https://www.talkdeath.com/wp-content/uploads/2025/08/Fresno-Ararat-Vsn-3.jpg
END:VEVENT
END:VCALENDAR