BEGIN:VCALENDAR
VERSION:2.0
PRODID:-//TalkDeath - ECPv6.15.19//NONSGML v1.0//EN
CALSCALE:GREGORIAN
METHOD:PUBLISH
X-ORIGINAL-URL:https://www.talkdeath.com
X-WR-CALDESC:Events for TalkDeath
REFRESH-INTERVAL;VALUE=DURATION:PT1H
X-Robots-Tag:noindex
X-PUBLISHED-TTL:PT1H
BEGIN:VTIMEZONE
TZID:America/Toronto
BEGIN:DAYLIGHT
TZOFFSETFROM:-0500
TZOFFSETTO:-0400
TZNAME:EDT
DTSTART:20250309T070000
END:DAYLIGHT
BEGIN:STANDARD
TZOFFSETFROM:-0400
TZOFFSETTO:-0500
TZNAME:EST
DTSTART:20251102T060000
END:STANDARD
BEGIN:DAYLIGHT
TZOFFSETFROM:-0500
TZOFFSETTO:-0400
TZNAME:EDT
DTSTART:20260308T070000
END:DAYLIGHT
BEGIN:STANDARD
TZOFFSETFROM:-0400
TZOFFSETTO:-0500
TZNAME:EST
DTSTART:20261101T060000
END:STANDARD
BEGIN:DAYLIGHT
TZOFFSETFROM:-0500
TZOFFSETTO:-0400
TZNAME:EDT
DTSTART:20270314T070000
END:DAYLIGHT
BEGIN:STANDARD
TZOFFSETFROM:-0400
TZOFFSETTO:-0500
TZNAME:EST
DTSTART:20271107T060000
END:STANDARD
END:VTIMEZONE
BEGIN:VEVENT
DTSTART;TZID=America/Toronto:20260327T190000
DTEND;TZID=America/Toronto:20260327T203000
DTSTAMP:20260421T153502
CREATED:20260305T135454Z
LAST-MODIFIED:20260305T135454Z
UID:10001829-1774638000-1774643400@www.talkdeath.com
SUMMARY:Together is the Medicine
DESCRIPTION:News of the world weighs heavy\, and in recent weeks our community has experienced heartbreaking loss. In this time of sorrow\, we hold our grief with care. \nThrough music\, poetry\, gentle reflection\, and shared presence\, we will create space to witness our grief and find comfort in community.\nCome just as you are. Bring a candle if you wish\, and invite others who might need a circle of love and support. \nOur virtual doors will open at 6:45pm for quiet contemplation before we begin.\nWe remember together.\nWe heal together.\nTogether is the medicine. \nRegister for link: https://us02web.zoom.us/meeting/register/X6QH2LbZQj2znezS0L_26A
URL:https://www.talkdeath.com/event/together-is-the-medicine/
CATEGORIES:Community Meet Up,Grief Release
ATTACH;FMTTYPE=image/jpeg:https://www.talkdeath.com/wp-content/uploads/2026/03/Together-online.jpg
ORGANIZER;CN="Community Deathcare Ottawa":MAILTO:deathcareottawa@gmail.com
END:VEVENT
BEGIN:VEVENT
DTSTART;TZID=America/Toronto:20260312T190000
DTEND;TZID=America/Toronto:20260312T203000
DTSTAMP:20260421T153502
CREATED:20260302T132656Z
LAST-MODIFIED:20260302T132656Z
UID:10001819-1773342000-1773347400@www.talkdeath.com
SUMMARY:Natural Burial: A Capital Idea!
DESCRIPTION:Curious about green burial and what’s happening in the Ottawa region? Join this panel discussion to learn more. \nExplore what natural burial is\, how it works\, and how local initiatives are advancing this environmentally responsible option. Discover how natural burial supports land conservation while offering a meaningful\, sustainable way to honour your loved ones. \nJoin us online on March 12 at 7:00 pm ET for Natural Burial: A Capital Idea. We will feature the latest developments in Ottawa\, along with highlights from initiatives in the Outaouais\, Kingston\, and the Ottawa Valley\, and we’ll be joined by a representative from the Bereavement Authority of Ontario! \nPreregister to receive the zoom link and recording.
URL:https://www.talkdeath.com/event/natural-burial-a-capital-idea-2/
LOCATION:Zoom\, Cornelius\, NC\, 28031
CATEGORIES:Green Burial
ATTACH;FMTTYPE=image/png:https://www.talkdeath.com/wp-content/uploads/2026/03/Natural-Burial-A-Capital-Idea.png
ORGANIZER;CN="Community Deathcare Ottawa":MAILTO:deathcareottawa@gmail.com
END:VEVENT
BEGIN:VEVENT
DTSTART;TZID=America/Toronto:20260129T190000
DTEND;TZID=America/Toronto:20260129T203000
DTSTAMP:20260421T153502
CREATED:20260126T160813Z
LAST-MODIFIED:20260126T160813Z
UID:10001674-1769713200-1769718600@www.talkdeath.com
SUMMARY:What Will Become of Us? Burial\, Cremation\, and Other Forms of Disposition
DESCRIPTION:What will become of us? Join a free online webinar to explore burial\, cremation & natural burial options. Register for link + recording.\nLearn about burial\, cremation\, and other end-of-life options in the National Capital Region. \nConservation Burial Ottawa invites you to a Zoom call on January 29 at 7:00 pm to explore the choices available for the care of physical remains after death. Understanding these options can help us plan a meaningful farewell and make decisions that align with our values. \nYou’ll also learn why Conservation Burial Ottawa advocates for conservation burial! This webinar is fee to attend. \nPlease pre-register to receive the Zoom link and the event recording. Some information will be specific to the Ottawa region\, but all are welcome. https://us02web.zoom.us/meeting/register/APEsBtEARrSNlgIoCTcQ6A \nPhoto credit to Ramsey Creek Preserve in South Carolina.
URL:https://www.talkdeath.com/event/what-will-become-of-us-burial-cremation-and-other-forms-of-disposition/
CATEGORIES:Virtual
ATTACH;FMTTYPE=image/png:https://www.talkdeath.com/wp-content/uploads/2026/01/Whats-Our-Position-on-Disposition-1.png
ORGANIZER;CN="Community Deathcare Ottawa":MAILTO:deathcareottawa@gmail.com
END:VEVENT
END:VCALENDAR