BEGIN:VCALENDAR
VERSION:2.0
PRODID:-//TalkDeath - ECPv6.15.19//NONSGML v1.0//EN
CALSCALE:GREGORIAN
METHOD:PUBLISH
X-WR-CALNAME:TalkDeath
X-ORIGINAL-URL:https://www.talkdeath.com
X-WR-CALDESC:Events for TalkDeath
REFRESH-INTERVAL;VALUE=DURATION:PT1H
X-Robots-Tag:noindex
X-PUBLISHED-TTL:PT1H
BEGIN:VTIMEZONE
TZID:America/Toronto
BEGIN:DAYLIGHT
TZOFFSETFROM:-0500
TZOFFSETTO:-0400
TZNAME:EDT
DTSTART:20250309T070000
END:DAYLIGHT
BEGIN:STANDARD
TZOFFSETFROM:-0400
TZOFFSETTO:-0500
TZNAME:EST
DTSTART:20251102T060000
END:STANDARD
BEGIN:DAYLIGHT
TZOFFSETFROM:-0500
TZOFFSETTO:-0400
TZNAME:EDT
DTSTART:20260308T070000
END:DAYLIGHT
BEGIN:STANDARD
TZOFFSETFROM:-0400
TZOFFSETTO:-0500
TZNAME:EST
DTSTART:20261101T060000
END:STANDARD
BEGIN:DAYLIGHT
TZOFFSETFROM:-0500
TZOFFSETTO:-0400
TZNAME:EDT
DTSTART:20270314T070000
END:DAYLIGHT
BEGIN:STANDARD
TZOFFSETFROM:-0400
TZOFFSETTO:-0500
TZNAME:EST
DTSTART:20271107T060000
END:STANDARD
END:VTIMEZONE
BEGIN:VEVENT
DTSTART;TZID=America/Toronto:20260417T180000
DTEND;TZID=America/Toronto:20260417T220000
DTSTAMP:20260421T170846
CREATED:20260115T152347Z
LAST-MODIFIED:20260115T152347Z
UID:10001664-1776448800-1776463200@www.talkdeath.com
SUMMARY:Dying to Know Trivia Night
DESCRIPTION:Dying to Know Trivia Night is a fun\, approachable night out featuring trivia inspired by pop culture\, music\, films\, history\, and the science of death and dying. Expect thoughtful questions\, lots of laughs\, a silent auction with great items\, and a room full of curious\, fun people. \nThis event supports Last Call: An End-of-Life Festival\, helping keep community end-of-life education free and accessible to all. \nTables are $75 for up to 6 people\, making it an easy and affordable way to gather friends\, colleagues\, or family for a meaningful night out. \nCome for the trivia. Stay for the connection.
URL:https://www.talkdeath.com/event/dying-to-know-trivia-night/
LOCATION:Aging Ahead Senior Center\, 225 Lemay Ferry Rd\, St. Louis\, MO\, 63125\, United States
CATEGORIES:Community Meet Up
ATTACH;FMTTYPE=image/png:https://www.talkdeath.com/wp-content/uploads/2026/01/LC-Trivia-4x4-2.png
ORGANIZER;CN="Last Call + With Love":MAILTO:lauren@withlove.events
END:VEVENT
END:VCALENDAR