BEGIN:VCALENDAR
VERSION:2.0
PRODID:-//TalkDeath - ECPv6.15.19//NONSGML v1.0//EN
CALSCALE:GREGORIAN
METHOD:PUBLISH
X-ORIGINAL-URL:https://www.talkdeath.com
X-WR-CALDESC:Events for TalkDeath
REFRESH-INTERVAL;VALUE=DURATION:PT1H
X-Robots-Tag:noindex
X-PUBLISHED-TTL:PT1H
BEGIN:VTIMEZONE
TZID:America/Kentucky/Louisville
BEGIN:DAYLIGHT
TZOFFSETFROM:-0500
TZOFFSETTO:-0400
TZNAME:EDT
DTSTART:20250309T070000
END:DAYLIGHT
BEGIN:STANDARD
TZOFFSETFROM:-0400
TZOFFSETTO:-0500
TZNAME:EST
DTSTART:20251102T060000
END:STANDARD
BEGIN:DAYLIGHT
TZOFFSETFROM:-0500
TZOFFSETTO:-0400
TZNAME:EDT
DTSTART:20260308T070000
END:DAYLIGHT
BEGIN:STANDARD
TZOFFSETFROM:-0400
TZOFFSETTO:-0500
TZNAME:EST
DTSTART:20261101T060000
END:STANDARD
BEGIN:DAYLIGHT
TZOFFSETFROM:-0500
TZOFFSETTO:-0400
TZNAME:EDT
DTSTART:20270314T070000
END:DAYLIGHT
BEGIN:STANDARD
TZOFFSETFROM:-0400
TZOFFSETTO:-0500
TZNAME:EST
DTSTART:20271107T060000
END:STANDARD
END:VTIMEZONE
BEGIN:VEVENT
DTSTART;TZID=America/Kentucky/Louisville:20260503T200000
DTEND;TZID=America/Kentucky/Louisville:20260504T020000
DTSTAMP:20260421T153434
CREATED:20260420T170022Z
LAST-MODIFIED:20260420T170022Z
UID:10001857-1777838400-1777860000@www.talkdeath.com
SUMMARY:Dead Mother's Day at Gore Club
DESCRIPTION:When you have a dead mom\, Mother’s Day can be a bummer. That’s why this year\, I’m teaming up with Louisville’s own Gore Club to celebrate DEAD MOTHER’S DAY on May 3! We’ll be showing three horror classics featuring dead moms: The Final Girls (2015)\, Hereditary (2018)\, and Psycho (1960). Plus\, Butcher Cabin Books will be there to sell copies of “My Parents Are Dead: What Now? A Panic-Free Guide to the Practicalities of Death” and other spooky tomes. See you at the movies!
URL:https://www.talkdeath.com/event/dead-mothers-day-at-gore-club/
LOCATION:Planet of the Tapes\, 640 Barret Ave.\, Louisville\, KY\, 40204\, United States
CATEGORIES:Arts and Culture,Community Meet Up
ATTACH;FMTTYPE=image/png:https://www.talkdeath.com/wp-content/uploads/2026/04/Gore-Club-050326.png
ORGANIZER;CN="My Parents Are Dead%3A What Now&gt%3B?":MAILTO:hello@deadparentswhatnow.com
END:VEVENT
BEGIN:VEVENT
DTSTART;TZID=America/Kentucky/Louisville:20260618T190000
DTEND;TZID=America/Kentucky/Louisville:20260618T200000
DTSTAMP:20260421T153434
CREATED:20260323T135905Z
LAST-MODIFIED:20260323T135905Z
UID:10001841-1781809200-1781812800@www.talkdeath.com
SUMMARY:Due Date: A Library Death Salon
DESCRIPTION:According to the National Funeral Directors Association\, the median cost of a funeral with burial in the U.S. is well over $8\,000. Yikes! On June 18\, join writer and death doula Becky Robison at Nook & Nowhere to talk tips for keeping death costs down.
URL:https://www.talkdeath.com/event/due-date-a-library-death-salon-2-6/
LOCATION:Nook & Nowhere\, 1149 S. Shelby St.\, Louisville\, KY\, 40203\, United States
CATEGORIES:Arts and Culture,Community Meet Up,Death Cafe
ATTACH;FMTTYPE=image/png:https://www.talkdeath.com/wp-content/uploads/2026/03/June-18-Death-Salon-Website.png
ORGANIZER;CN="My Parents Are Dead%3A What Now&gt%3B?":MAILTO:hello@deadparentswhatnow.com
END:VEVENT
END:VCALENDAR