BEGIN:VCALENDAR
VERSION:2.0
PRODID:-//TalkDeath - ECPv6.15.19//NONSGML v1.0//EN
CALSCALE:GREGORIAN
METHOD:PUBLISH
X-WR-CALNAME:TalkDeath
X-ORIGINAL-URL:https://www.talkdeath.com
X-WR-CALDESC:Events for TalkDeath
REFRESH-INTERVAL;VALUE=DURATION:PT1H
X-Robots-Tag:noindex
X-PUBLISHED-TTL:PT1H
BEGIN:VTIMEZONE
TZID:America/Toronto
BEGIN:DAYLIGHT
TZOFFSETFROM:-0500
TZOFFSETTO:-0400
TZNAME:EDT
DTSTART:20240310T070000
END:DAYLIGHT
BEGIN:STANDARD
TZOFFSETFROM:-0400
TZOFFSETTO:-0500
TZNAME:EST
DTSTART:20241103T060000
END:STANDARD
BEGIN:DAYLIGHT
TZOFFSETFROM:-0500
TZOFFSETTO:-0400
TZNAME:EDT
DTSTART:20250309T070000
END:DAYLIGHT
BEGIN:STANDARD
TZOFFSETFROM:-0400
TZOFFSETTO:-0500
TZNAME:EST
DTSTART:20251102T060000
END:STANDARD
BEGIN:DAYLIGHT
TZOFFSETFROM:-0500
TZOFFSETTO:-0400
TZNAME:EDT
DTSTART:20260308T070000
END:DAYLIGHT
BEGIN:STANDARD
TZOFFSETFROM:-0400
TZOFFSETTO:-0500
TZNAME:EST
DTSTART:20261101T060000
END:STANDARD
BEGIN:DAYLIGHT
TZOFFSETFROM:-0500
TZOFFSETTO:-0400
TZNAME:EDT
DTSTART:20270314T070000
END:DAYLIGHT
BEGIN:STANDARD
TZOFFSETFROM:-0400
TZOFFSETTO:-0500
TZNAME:EST
DTSTART:20271107T060000
END:STANDARD
END:VTIMEZONE
BEGIN:VEVENT
DTSTART;TZID=America/Toronto:20260328T130000
DTEND;TZID=America/Toronto:20260328T160000
DTSTAMP:20260422T233259
CREATED:20260209T161731Z
LAST-MODIFIED:20260209T161731Z
UID:10001679-1774702800-1774713600@www.talkdeath.com
SUMMARY:Free death documentary
DESCRIPTION:Attendees\, vote for the death-focused documentary we should watch! \nAt the event\, I’ll announce the winning documentary\, and we’ll watch it with time for discussion afterwards. I hope you’ll come away from this meeting with answers and questions about your own life journey\, as well as ideas on how you want to face your own end. Check out the trailers and join me! \nPLUS bingo winners can collect their prizes at this event. DM ME AS SOON AS YOU WIN A TIER\, because winners can select their prizes in the order they notify me! (See the prizes in the Photo section of Meetup!)
URL:https://www.talkdeath.com/event/free-death-documentary/
LOCATION:Orlando Public Library\, 101 E Central Blvd\, Orlando\, FL\, 32801\, United States
CATEGORIES:Arts and Culture,Community Meet Up,Education
ATTACH;FMTTYPE=image/png:https://www.talkdeath.com/wp-content/uploads/2026/02/5179.png
ORGANIZER;CN="Orlando Death Collective":MAILTO:ikstarni16@gmail.com
END:VEVENT
BEGIN:VEVENT
DTSTART;TZID=America/Toronto:20251025T130000
DTEND;TZID=America/Toronto:20251025T150000
DTSTAMP:20260422T233259
CREATED:20251006T144943Z
LAST-MODIFIED:20251006T144943Z
UID:10001475-1761397200-1761404400@www.talkdeath.com
SUMMARY:Orlando Death Collective: Death Cafe
DESCRIPTION:Everyone is welcome to come together and discuss their thoughts on death and dying. Most have a lot to say on the topic\, so bring a friend\, come share your experiences\, and learn from others!
URL:https://www.talkdeath.com/event/orlando-death-collective-death-cafe/
LOCATION:Orange County Library South Trail Branch\, 4600 S Orange Blossom Trl\, Orlando\, FL\, United States
CATEGORIES:Death Cafe
ATTACH;FMTTYPE=image/jpeg:https://www.talkdeath.com/wp-content/uploads/2025/10/Indigent-Funerals.jpg
ORGANIZER;CN="Orlando Death Collective":MAILTO:ikstarni16@gmail.com
END:VEVENT
BEGIN:VEVENT
DTSTART;TZID=America/Toronto:20250920T130000
DTEND;TZID=America/Toronto:20250920T150000
DTSTAMP:20260422T233259
CREATED:20250829T171725Z
LAST-MODIFIED:20250829T171725Z
UID:10001451-1758373200-1758380400@www.talkdeath.com
SUMMARY:Orlanodo\, The ODC Presents: Meet a Death Doula
DESCRIPTION:What the heck is a death doula? You’ll have to attend this next event to find out!! (Or you could Google it\, but wouldn’t that ruin the fun?) \nFor this next event\, I’ve invited a few death doulas to meet the ODC and tell us about what they do\, who they serve\, and what makes a death doula unique in the world of deathcare. \nOnce I can confirm which doulas are showing up\, I will post a few days before the event. \nSo\, please RSVP\, bring your questions\, and let’s have another good session!
URL:https://www.talkdeath.com/event/orlanodo-the-odc-presents-meet-a-death-doula/
LOCATION:Orange County Library South Trail Branch\, 4600 S Orange Blossom Trl\, Orlando\, FL\, United States
CATEGORIES:Community Meet Up,Education
ATTACH;FMTTYPE=image/png:https://www.talkdeath.com/wp-content/uploads/2025/08/Death-Collective-925.png
ORGANIZER;CN="Orlando Death Collective":MAILTO:ikstarni16@gmail.com
END:VEVENT
BEGIN:VEVENT
DTSTART;TZID=America/Toronto:20250823T130000
DTEND;TZID=America/Toronto:20250823T140000
DTSTAMP:20260422T233259
CREATED:20250707T160341Z
LAST-MODIFIED:20250707T160341Z
UID:10001098-1755954000-1755957600@www.talkdeath.com
SUMMARY:Orlando Death Cafe
DESCRIPTION:This group welcomes anyone who’s interested in sharing thoughts and experiences on death and dying. We’re just coming together to talk – it’s as simple as that! \nAs part of the nature of Death Cafes\, there shouldn’t be prompts/discussion guides\, but if the group has trouble getting started\, we can cheat with the Death Deck. 😉 \nBy law\, every Death Cafe must have snacks (I’ll bring cookies\, mini cupcakes\, etc.). \nTo celebrate the first event\, we’ll have a raffle! Prizes are mainly pins and stickers. A few epitaph booklets & a tote as well. \nPlease RSVP at Meetup.com/ODeathCollective and review the group rules before attending!
URL:https://www.talkdeath.com/event/orlando-death-cafe/
LOCATION:Orange County Library South Trail Branch\, 4600 S Orange Blossom Trl\, Orlando\, FL\, United States
ORGANIZER;CN="Orlando Death Collective":MAILTO:ikstarni16@gmail.com
END:VEVENT
END:VCALENDAR