BEGIN:VCALENDAR
VERSION:2.0
PRODID:-//TalkDeath - ECPv6.15.19//NONSGML v1.0//EN
CALSCALE:GREGORIAN
METHOD:PUBLISH
X-ORIGINAL-URL:https://www.talkdeath.com
X-WR-CALDESC:Events for TalkDeath
REFRESH-INTERVAL;VALUE=DURATION:PT1H
X-Robots-Tag:noindex
X-PUBLISHED-TTL:PT1H
BEGIN:VTIMEZONE
TZID:America/Vancouver
BEGIN:DAYLIGHT
TZOFFSETFROM:-0800
TZOFFSETTO:-0700
TZNAME:PDT
DTSTART:20240310T100000
END:DAYLIGHT
BEGIN:STANDARD
TZOFFSETFROM:-0700
TZOFFSETTO:-0800
TZNAME:PST
DTSTART:20241103T090000
END:STANDARD
BEGIN:DAYLIGHT
TZOFFSETFROM:-0800
TZOFFSETTO:-0700
TZNAME:PDT
DTSTART:20250309T100000
END:DAYLIGHT
BEGIN:STANDARD
TZOFFSETFROM:-0700
TZOFFSETTO:-0800
TZNAME:PST
DTSTART:20251102T090000
END:STANDARD
BEGIN:DAYLIGHT
TZOFFSETFROM:-0800
TZOFFSETTO:-0700
TZNAME:PDT
DTSTART:20260308T100000
END:DAYLIGHT
BEGIN:STANDARD
TZOFFSETFROM:-0700
TZOFFSETTO:-0800
TZNAME:PST
DTSTART:20261101T090000
END:STANDARD
BEGIN:DAYLIGHT
TZOFFSETFROM:-0800
TZOFFSETTO:-0700
TZNAME:PDT
DTSTART:20270314T100000
END:DAYLIGHT
BEGIN:STANDARD
TZOFFSETFROM:-0700
TZOFFSETTO:-0800
TZNAME:PST
DTSTART:20271107T090000
END:STANDARD
END:VTIMEZONE
BEGIN:VEVENT
DTSTART;TZID=America/Vancouver:20260325T180000
DTEND;TZID=America/Vancouver:20260325T193000
DTSTAMP:20260421T204022
CREATED:20250605T144707Z
LAST-MODIFIED:20250605T144707Z
UID:10000636-1774461600-1774467000@www.talkdeath.com
SUMMARY:The Grief Well Drop In Virtual Grief Gathering
DESCRIPTION:THE OPPORTUNITY TO EXPLORE AND SHARE GRIEF TOGETHER THROUGH POETRY\, FREE WRITING\, SHARING\, WITNESSING\, AND SILENCE. \nEVERYTHING AS AN INVITATION. \nPARTICIPATE IN WHATEVER WAY FEELS RIGHT FOR YOU. \nAll grief welcome – past\, present\, and future. Death and non-death grief.
URL:https://www.talkdeath.com/event/the-grief-well-drop-in-virtual-grief-gathering/2026-03-25/
LOCATION:Virtual Event
CATEGORIES:Grief Group
ORGANIZER;CN="The Grief Well":MAILTO:tlc@endwell.ca
END:VEVENT
BEGIN:VEVENT
DTSTART;TZID=America/Vancouver:20260225T180000
DTEND;TZID=America/Vancouver:20260225T193000
DTSTAMP:20260421T204022
CREATED:20250605T144707Z
LAST-MODIFIED:20250605T144707Z
UID:10000635-1772042400-1772047800@www.talkdeath.com
SUMMARY:The Grief Well Drop In Virtual Grief Gathering
DESCRIPTION:THE OPPORTUNITY TO EXPLORE AND SHARE GRIEF TOGETHER THROUGH POETRY\, FREE WRITING\, SHARING\, WITNESSING\, AND SILENCE. \nEVERYTHING AS AN INVITATION. \nPARTICIPATE IN WHATEVER WAY FEELS RIGHT FOR YOU. \nAll grief welcome – past\, present\, and future. Death and non-death grief.
URL:https://www.talkdeath.com/event/the-grief-well-drop-in-virtual-grief-gathering/2026-02-25/
LOCATION:Virtual Event
CATEGORIES:Grief Group
ORGANIZER;CN="The Grief Well":MAILTO:tlc@endwell.ca
END:VEVENT
BEGIN:VEVENT
DTSTART;TZID=America/Vancouver:20260128T180000
DTEND;TZID=America/Vancouver:20260128T193000
DTSTAMP:20260421T204022
CREATED:20250605T144707Z
LAST-MODIFIED:20250605T144707Z
UID:10000634-1769623200-1769628600@www.talkdeath.com
SUMMARY:The Grief Well Drop In Virtual Grief Gathering
DESCRIPTION:THE OPPORTUNITY TO EXPLORE AND SHARE GRIEF TOGETHER THROUGH POETRY\, FREE WRITING\, SHARING\, WITNESSING\, AND SILENCE. \nEVERYTHING AS AN INVITATION. \nPARTICIPATE IN WHATEVER WAY FEELS RIGHT FOR YOU. \nAll grief welcome – past\, present\, and future. Death and non-death grief.
URL:https://www.talkdeath.com/event/the-grief-well-drop-in-virtual-grief-gathering/2026-01-28/
LOCATION:Virtual Event
CATEGORIES:Grief Group
ORGANIZER;CN="The Grief Well":MAILTO:tlc@endwell.ca
END:VEVENT
BEGIN:VEVENT
DTSTART;TZID=America/Vancouver:20251231T180000
DTEND;TZID=America/Vancouver:20251231T193000
DTSTAMP:20260421T204022
CREATED:20250605T144707Z
LAST-MODIFIED:20250605T144707Z
UID:10000633-1767204000-1767209400@www.talkdeath.com
SUMMARY:The Grief Well Drop In Virtual Grief Gathering
DESCRIPTION:THE OPPORTUNITY TO EXPLORE AND SHARE GRIEF TOGETHER THROUGH POETRY\, FREE WRITING\, SHARING\, WITNESSING\, AND SILENCE. \nEVERYTHING AS AN INVITATION. \nPARTICIPATE IN WHATEVER WAY FEELS RIGHT FOR YOU. \nAll grief welcome – past\, present\, and future. Death and non-death grief.
URL:https://www.talkdeath.com/event/the-grief-well-drop-in-virtual-grief-gathering/2025-12-31/
LOCATION:Virtual Event
CATEGORIES:Grief Group
ORGANIZER;CN="The Grief Well":MAILTO:tlc@endwell.ca
END:VEVENT
BEGIN:VEVENT
DTSTART;TZID=America/Vancouver:20251126T180000
DTEND;TZID=America/Vancouver:20251126T193000
DTSTAMP:20260421T204022
CREATED:20250605T144707Z
LAST-MODIFIED:20250605T144707Z
UID:10000632-1764180000-1764185400@www.talkdeath.com
SUMMARY:The Grief Well Drop In Virtual Grief Gathering
DESCRIPTION:THE OPPORTUNITY TO EXPLORE AND SHARE GRIEF TOGETHER THROUGH POETRY\, FREE WRITING\, SHARING\, WITNESSING\, AND SILENCE. \nEVERYTHING AS AN INVITATION. \nPARTICIPATE IN WHATEVER WAY FEELS RIGHT FOR YOU. \nAll grief welcome – past\, present\, and future. Death and non-death grief.
URL:https://www.talkdeath.com/event/the-grief-well-drop-in-virtual-grief-gathering/2025-11-26/
LOCATION:Virtual Event
CATEGORIES:Grief Group
ORGANIZER;CN="The Grief Well":MAILTO:tlc@endwell.ca
END:VEVENT
BEGIN:VEVENT
DTSTART;TZID=America/Vancouver:20251029T180000
DTEND;TZID=America/Vancouver:20251029T193000
DTSTAMP:20260421T204022
CREATED:20250605T144707Z
LAST-MODIFIED:20250605T144707Z
UID:10000631-1761760800-1761766200@www.talkdeath.com
SUMMARY:The Grief Well Drop In Virtual Grief Gathering
DESCRIPTION:THE OPPORTUNITY TO EXPLORE AND SHARE GRIEF TOGETHER THROUGH POETRY\, FREE WRITING\, SHARING\, WITNESSING\, AND SILENCE. \nEVERYTHING AS AN INVITATION. \nPARTICIPATE IN WHATEVER WAY FEELS RIGHT FOR YOU. \nAll grief welcome – past\, present\, and future. Death and non-death grief.
URL:https://www.talkdeath.com/event/the-grief-well-drop-in-virtual-grief-gathering/2025-10-29/
LOCATION:Virtual Event
CATEGORIES:Grief Group
ORGANIZER;CN="The Grief Well":MAILTO:tlc@endwell.ca
END:VEVENT
BEGIN:VEVENT
DTSTART;TZID=America/Vancouver:20250924T180000
DTEND;TZID=America/Vancouver:20250924T193000
DTSTAMP:20260421T204022
CREATED:20250605T144707Z
LAST-MODIFIED:20250605T144707Z
UID:10000630-1758736800-1758742200@www.talkdeath.com
SUMMARY:The Grief Well Drop In Virtual Grief Gathering
DESCRIPTION:THE OPPORTUNITY TO EXPLORE AND SHARE GRIEF TOGETHER THROUGH POETRY\, FREE WRITING\, SHARING\, WITNESSING\, AND SILENCE. \nEVERYTHING AS AN INVITATION. \nPARTICIPATE IN WHATEVER WAY FEELS RIGHT FOR YOU. \nAll grief welcome – past\, present\, and future. Death and non-death grief.
URL:https://www.talkdeath.com/event/the-grief-well-drop-in-virtual-grief-gathering/2025-09-24/
LOCATION:Virtual Event
CATEGORIES:Grief Group
ORGANIZER;CN="The Grief Well":MAILTO:tlc@endwell.ca
END:VEVENT
BEGIN:VEVENT
DTSTART;TZID=America/Vancouver:20250827T180000
DTEND;TZID=America/Vancouver:20250827T193000
DTSTAMP:20260421T204022
CREATED:20250605T144707Z
LAST-MODIFIED:20250605T144707Z
UID:10000629-1756317600-1756323000@www.talkdeath.com
SUMMARY:The Grief Well Drop In Virtual Grief Gathering
DESCRIPTION:THE OPPORTUNITY TO EXPLORE AND SHARE GRIEF TOGETHER THROUGH POETRY\, FREE WRITING\, SHARING\, WITNESSING\, AND SILENCE. \nEVERYTHING AS AN INVITATION. \nPARTICIPATE IN WHATEVER WAY FEELS RIGHT FOR YOU. \nAll grief welcome – past\, present\, and future. Death and non-death grief.
URL:https://www.talkdeath.com/event/the-grief-well-drop-in-virtual-grief-gathering/2025-08-27/
LOCATION:Virtual Event
CATEGORIES:Grief Group
ORGANIZER;CN="The Grief Well":MAILTO:tlc@endwell.ca
END:VEVENT
BEGIN:VEVENT
DTSTART;TZID=America/Vancouver:20250730T180000
DTEND;TZID=America/Vancouver:20250730T193000
DTSTAMP:20260421T204022
CREATED:20250605T144707Z
LAST-MODIFIED:20250605T144707Z
UID:10000628-1753898400-1753903800@www.talkdeath.com
SUMMARY:The Grief Well Drop In Virtual Grief Gathering
DESCRIPTION:THE OPPORTUNITY TO EXPLORE AND SHARE GRIEF TOGETHER THROUGH POETRY\, FREE WRITING\, SHARING\, WITNESSING\, AND SILENCE. \nEVERYTHING AS AN INVITATION. \nPARTICIPATE IN WHATEVER WAY FEELS RIGHT FOR YOU. \nAll grief welcome – past\, present\, and future. Death and non-death grief.
URL:https://www.talkdeath.com/event/the-grief-well-drop-in-virtual-grief-gathering/2025-07-30/
LOCATION:Virtual Event
CATEGORIES:Grief Group
ORGANIZER;CN="The Grief Well":MAILTO:tlc@endwell.ca
END:VEVENT
BEGIN:VEVENT
DTSTART;TZID=America/Vancouver:20250625T180000
DTEND;TZID=America/Vancouver:20250625T193000
DTSTAMP:20260421T204022
CREATED:20250605T144707Z
LAST-MODIFIED:20250605T144707Z
UID:10000627-1750874400-1750879800@www.talkdeath.com
SUMMARY:The Grief Well Drop In Virtual Grief Gathering
DESCRIPTION:THE OPPORTUNITY TO EXPLORE AND SHARE GRIEF TOGETHER THROUGH POETRY\, FREE WRITING\, SHARING\, WITNESSING\, AND SILENCE. \nEVERYTHING AS AN INVITATION. \nPARTICIPATE IN WHATEVER WAY FEELS RIGHT FOR YOU. \nAll grief welcome – past\, present\, and future. Death and non-death grief.
URL:https://www.talkdeath.com/event/the-grief-well-drop-in-virtual-grief-gathering/2025-06-25/
LOCATION:Virtual Event
CATEGORIES:Grief Group
ORGANIZER;CN="The Grief Well":MAILTO:tlc@endwell.ca
END:VEVENT
END:VCALENDAR