BEGIN:VCALENDAR
VERSION:2.0
PRODID:-//TalkDeath - ECPv6.15.19//NONSGML v1.0//EN
CALSCALE:GREGORIAN
METHOD:PUBLISH
X-WR-CALNAME:TalkDeath
X-ORIGINAL-URL:https://www.talkdeath.com
X-WR-CALDESC:Events for TalkDeath
REFRESH-INTERVAL;VALUE=DURATION:PT1H
X-Robots-Tag:noindex
X-PUBLISHED-TTL:PT1H
BEGIN:VTIMEZONE
TZID:America/Vancouver
BEGIN:DAYLIGHT
TZOFFSETFROM:-0800
TZOFFSETTO:-0700
TZNAME:PDT
DTSTART:20260308T100000
END:DAYLIGHT
BEGIN:STANDARD
TZOFFSETFROM:-0700
TZOFFSETTO:-0800
TZNAME:PST
DTSTART:20261101T090000
END:STANDARD
BEGIN:DAYLIGHT
TZOFFSETFROM:-0800
TZOFFSETTO:-0700
TZNAME:PDT
DTSTART:20270314T100000
END:DAYLIGHT
BEGIN:STANDARD
TZOFFSETFROM:-0700
TZOFFSETTO:-0800
TZNAME:PST
DTSTART:20271107T090000
END:STANDARD
BEGIN:DAYLIGHT
TZOFFSETFROM:-0800
TZOFFSETTO:-0700
TZNAME:PDT
DTSTART:20280312T100000
END:DAYLIGHT
BEGIN:STANDARD
TZOFFSETFROM:-0700
TZOFFSETTO:-0800
TZNAME:PST
DTSTART:20281105T090000
END:STANDARD
BEGIN:DAYLIGHT
TZOFFSETFROM:-0800
TZOFFSETTO:-0700
TZNAME:PDT
DTSTART:20290311T100000
END:DAYLIGHT
BEGIN:STANDARD
TZOFFSETFROM:-0700
TZOFFSETTO:-0800
TZNAME:PST
DTSTART:20291104T090000
END:STANDARD
BEGIN:DAYLIGHT
TZOFFSETFROM:-0800
TZOFFSETTO:-0700
TZNAME:PDT
DTSTART:20300310T100000
END:DAYLIGHT
BEGIN:STANDARD
TZOFFSETFROM:-0700
TZOFFSETTO:-0800
TZNAME:PST
DTSTART:20301103T090000
END:STANDARD
END:VTIMEZONE
BEGIN:VEVENT
DTSTART;TZID=America/Vancouver:20270428T180000
DTEND;TZID=America/Vancouver:20270428T193000
DTSTAMP:20260421T203358
CREATED:20250605T144707Z
LAST-MODIFIED:20250605T144707Z
UID:10000649-1808935200-1808940600@www.talkdeath.com
SUMMARY:The Grief Well Drop In Virtual Grief Gathering
DESCRIPTION:THE OPPORTUNITY TO EXPLORE AND SHARE GRIEF TOGETHER THROUGH POETRY\, FREE WRITING\, SHARING\, WITNESSING\, AND SILENCE. \nEVERYTHING AS AN INVITATION. \nPARTICIPATE IN WHATEVER WAY FEELS RIGHT FOR YOU. \nAll grief welcome – past\, present\, and future. Death and non-death grief.
URL:https://www.talkdeath.com/event/the-grief-well-drop-in-virtual-grief-gathering/2027-04-28/
LOCATION:Virtual Event
CATEGORIES:Grief Group
ORGANIZER;CN="The Grief Well":MAILTO:tlc@endwell.ca
END:VEVENT
BEGIN:VEVENT
DTSTART;TZID=America/Vancouver:20270526T180000
DTEND;TZID=America/Vancouver:20270526T193000
DTSTAMP:20260421T203359
CREATED:20250605T144707Z
LAST-MODIFIED:20250605T144707Z
UID:10000650-1811354400-1811359800@www.talkdeath.com
SUMMARY:The Grief Well Drop In Virtual Grief Gathering
DESCRIPTION:THE OPPORTUNITY TO EXPLORE AND SHARE GRIEF TOGETHER THROUGH POETRY\, FREE WRITING\, SHARING\, WITNESSING\, AND SILENCE. \nEVERYTHING AS AN INVITATION. \nPARTICIPATE IN WHATEVER WAY FEELS RIGHT FOR YOU. \nAll grief welcome – past\, present\, and future. Death and non-death grief.
URL:https://www.talkdeath.com/event/the-grief-well-drop-in-virtual-grief-gathering/2027-05-26/
LOCATION:Virtual Event
CATEGORIES:Grief Group
ORGANIZER;CN="The Grief Well":MAILTO:tlc@endwell.ca
END:VEVENT
BEGIN:VEVENT
DTSTART;TZID=America/Vancouver:20270630T180000
DTEND;TZID=America/Vancouver:20270630T193000
DTSTAMP:20260421T203359
CREATED:20250605T144707Z
LAST-MODIFIED:20250605T144707Z
UID:10000651-1814378400-1814383800@www.talkdeath.com
SUMMARY:The Grief Well Drop In Virtual Grief Gathering
DESCRIPTION:THE OPPORTUNITY TO EXPLORE AND SHARE GRIEF TOGETHER THROUGH POETRY\, FREE WRITING\, SHARING\, WITNESSING\, AND SILENCE. \nEVERYTHING AS AN INVITATION. \nPARTICIPATE IN WHATEVER WAY FEELS RIGHT FOR YOU. \nAll grief welcome – past\, present\, and future. Death and non-death grief.
URL:https://www.talkdeath.com/event/the-grief-well-drop-in-virtual-grief-gathering/2027-06-30/
LOCATION:Virtual Event
CATEGORIES:Grief Group
ORGANIZER;CN="The Grief Well":MAILTO:tlc@endwell.ca
END:VEVENT
BEGIN:VEVENT
DTSTART;TZID=America/Vancouver:20270728T180000
DTEND;TZID=America/Vancouver:20270728T193000
DTSTAMP:20260421T203359
CREATED:20250605T144707Z
LAST-MODIFIED:20250605T144707Z
UID:10000652-1816797600-1816803000@www.talkdeath.com
SUMMARY:The Grief Well Drop In Virtual Grief Gathering
DESCRIPTION:THE OPPORTUNITY TO EXPLORE AND SHARE GRIEF TOGETHER THROUGH POETRY\, FREE WRITING\, SHARING\, WITNESSING\, AND SILENCE. \nEVERYTHING AS AN INVITATION. \nPARTICIPATE IN WHATEVER WAY FEELS RIGHT FOR YOU. \nAll grief welcome – past\, present\, and future. Death and non-death grief.
URL:https://www.talkdeath.com/event/the-grief-well-drop-in-virtual-grief-gathering/2027-07-28/
LOCATION:Virtual Event
CATEGORIES:Grief Group
ORGANIZER;CN="The Grief Well":MAILTO:tlc@endwell.ca
END:VEVENT
BEGIN:VEVENT
DTSTART;TZID=America/Vancouver:20270825T180000
DTEND;TZID=America/Vancouver:20270825T193000
DTSTAMP:20260421T203359
CREATED:20250605T144707Z
LAST-MODIFIED:20250605T144707Z
UID:10000653-1819216800-1819222200@www.talkdeath.com
SUMMARY:The Grief Well Drop In Virtual Grief Gathering
DESCRIPTION:THE OPPORTUNITY TO EXPLORE AND SHARE GRIEF TOGETHER THROUGH POETRY\, FREE WRITING\, SHARING\, WITNESSING\, AND SILENCE. \nEVERYTHING AS AN INVITATION. \nPARTICIPATE IN WHATEVER WAY FEELS RIGHT FOR YOU. \nAll grief welcome – past\, present\, and future. Death and non-death grief.
URL:https://www.talkdeath.com/event/the-grief-well-drop-in-virtual-grief-gathering/2027-08-25/
LOCATION:Virtual Event
CATEGORIES:Grief Group
ORGANIZER;CN="The Grief Well":MAILTO:tlc@endwell.ca
END:VEVENT
BEGIN:VEVENT
DTSTART;TZID=America/Vancouver:20270929T180000
DTEND;TZID=America/Vancouver:20270929T193000
DTSTAMP:20260421T203359
CREATED:20250605T144707Z
LAST-MODIFIED:20250605T144707Z
UID:10000654-1822240800-1822246200@www.talkdeath.com
SUMMARY:The Grief Well Drop In Virtual Grief Gathering
DESCRIPTION:THE OPPORTUNITY TO EXPLORE AND SHARE GRIEF TOGETHER THROUGH POETRY\, FREE WRITING\, SHARING\, WITNESSING\, AND SILENCE. \nEVERYTHING AS AN INVITATION. \nPARTICIPATE IN WHATEVER WAY FEELS RIGHT FOR YOU. \nAll grief welcome – past\, present\, and future. Death and non-death grief.
URL:https://www.talkdeath.com/event/the-grief-well-drop-in-virtual-grief-gathering/2027-09-29/
LOCATION:Virtual Event
CATEGORIES:Grief Group
ORGANIZER;CN="The Grief Well":MAILTO:tlc@endwell.ca
END:VEVENT
BEGIN:VEVENT
DTSTART;TZID=America/Vancouver:20271027T180000
DTEND;TZID=America/Vancouver:20271027T193000
DTSTAMP:20260421T203359
CREATED:20250605T144707Z
LAST-MODIFIED:20250605T144707Z
UID:10000655-1824660000-1824665400@www.talkdeath.com
SUMMARY:The Grief Well Drop In Virtual Grief Gathering
DESCRIPTION:THE OPPORTUNITY TO EXPLORE AND SHARE GRIEF TOGETHER THROUGH POETRY\, FREE WRITING\, SHARING\, WITNESSING\, AND SILENCE. \nEVERYTHING AS AN INVITATION. \nPARTICIPATE IN WHATEVER WAY FEELS RIGHT FOR YOU. \nAll grief welcome – past\, present\, and future. Death and non-death grief.
URL:https://www.talkdeath.com/event/the-grief-well-drop-in-virtual-grief-gathering/2027-10-27/
LOCATION:Virtual Event
CATEGORIES:Grief Group
ORGANIZER;CN="The Grief Well":MAILTO:tlc@endwell.ca
END:VEVENT
BEGIN:VEVENT
DTSTART;TZID=America/Vancouver:20271124T180000
DTEND;TZID=America/Vancouver:20271124T193000
DTSTAMP:20260421T203359
CREATED:20250605T144707Z
LAST-MODIFIED:20250605T144707Z
UID:10000656-1827079200-1827084600@www.talkdeath.com
SUMMARY:The Grief Well Drop In Virtual Grief Gathering
DESCRIPTION:THE OPPORTUNITY TO EXPLORE AND SHARE GRIEF TOGETHER THROUGH POETRY\, FREE WRITING\, SHARING\, WITNESSING\, AND SILENCE. \nEVERYTHING AS AN INVITATION. \nPARTICIPATE IN WHATEVER WAY FEELS RIGHT FOR YOU. \nAll grief welcome – past\, present\, and future. Death and non-death grief.
URL:https://www.talkdeath.com/event/the-grief-well-drop-in-virtual-grief-gathering/2027-11-24/
LOCATION:Virtual Event
CATEGORIES:Grief Group
ORGANIZER;CN="The Grief Well":MAILTO:tlc@endwell.ca
END:VEVENT
BEGIN:VEVENT
DTSTART;TZID=America/Vancouver:20271229T180000
DTEND;TZID=America/Vancouver:20271229T193000
DTSTAMP:20260421T203359
CREATED:20250605T144707Z
LAST-MODIFIED:20250605T144707Z
UID:10000657-1830103200-1830108600@www.talkdeath.com
SUMMARY:The Grief Well Drop In Virtual Grief Gathering
DESCRIPTION:THE OPPORTUNITY TO EXPLORE AND SHARE GRIEF TOGETHER THROUGH POETRY\, FREE WRITING\, SHARING\, WITNESSING\, AND SILENCE. \nEVERYTHING AS AN INVITATION. \nPARTICIPATE IN WHATEVER WAY FEELS RIGHT FOR YOU. \nAll grief welcome – past\, present\, and future. Death and non-death grief.
URL:https://www.talkdeath.com/event/the-grief-well-drop-in-virtual-grief-gathering/2027-12-29/
LOCATION:Virtual Event
CATEGORIES:Grief Group
ORGANIZER;CN="The Grief Well":MAILTO:tlc@endwell.ca
END:VEVENT
BEGIN:VEVENT
DTSTART;TZID=America/Vancouver:20280126T180000
DTEND;TZID=America/Vancouver:20280126T193000
DTSTAMP:20260421T203359
CREATED:20250605T144707Z
LAST-MODIFIED:20250605T144707Z
UID:10000658-1832522400-1832527800@www.talkdeath.com
SUMMARY:The Grief Well Drop In Virtual Grief Gathering
DESCRIPTION:THE OPPORTUNITY TO EXPLORE AND SHARE GRIEF TOGETHER THROUGH POETRY\, FREE WRITING\, SHARING\, WITNESSING\, AND SILENCE. \nEVERYTHING AS AN INVITATION. \nPARTICIPATE IN WHATEVER WAY FEELS RIGHT FOR YOU. \nAll grief welcome – past\, present\, and future. Death and non-death grief.
URL:https://www.talkdeath.com/event/the-grief-well-drop-in-virtual-grief-gathering/2028-01-26/
LOCATION:Virtual Event
CATEGORIES:Grief Group
ORGANIZER;CN="The Grief Well":MAILTO:tlc@endwell.ca
END:VEVENT
BEGIN:VEVENT
DTSTART;TZID=America/Vancouver:20280223T180000
DTEND;TZID=America/Vancouver:20280223T193000
DTSTAMP:20260421T203359
CREATED:20250605T144707Z
LAST-MODIFIED:20250605T144707Z
UID:10000659-1834941600-1834947000@www.talkdeath.com
SUMMARY:The Grief Well Drop In Virtual Grief Gathering
DESCRIPTION:THE OPPORTUNITY TO EXPLORE AND SHARE GRIEF TOGETHER THROUGH POETRY\, FREE WRITING\, SHARING\, WITNESSING\, AND SILENCE. \nEVERYTHING AS AN INVITATION. \nPARTICIPATE IN WHATEVER WAY FEELS RIGHT FOR YOU. \nAll grief welcome – past\, present\, and future. Death and non-death grief.
URL:https://www.talkdeath.com/event/the-grief-well-drop-in-virtual-grief-gathering/2028-02-23/
LOCATION:Virtual Event
CATEGORIES:Grief Group
ORGANIZER;CN="The Grief Well":MAILTO:tlc@endwell.ca
END:VEVENT
BEGIN:VEVENT
DTSTART;TZID=America/Vancouver:20280329T180000
DTEND;TZID=America/Vancouver:20280329T193000
DTSTAMP:20260421T203359
CREATED:20250605T144707Z
LAST-MODIFIED:20250605T144707Z
UID:10000660-1837965600-1837971000@www.talkdeath.com
SUMMARY:The Grief Well Drop In Virtual Grief Gathering
DESCRIPTION:THE OPPORTUNITY TO EXPLORE AND SHARE GRIEF TOGETHER THROUGH POETRY\, FREE WRITING\, SHARING\, WITNESSING\, AND SILENCE. \nEVERYTHING AS AN INVITATION. \nPARTICIPATE IN WHATEVER WAY FEELS RIGHT FOR YOU. \nAll grief welcome – past\, present\, and future. Death and non-death grief.
URL:https://www.talkdeath.com/event/the-grief-well-drop-in-virtual-grief-gathering/2028-03-29/
LOCATION:Virtual Event
CATEGORIES:Grief Group
ORGANIZER;CN="The Grief Well":MAILTO:tlc@endwell.ca
END:VEVENT
BEGIN:VEVENT
DTSTART;TZID=America/Vancouver:20280426T180000
DTEND;TZID=America/Vancouver:20280426T193000
DTSTAMP:20260421T203359
CREATED:20250605T144707Z
LAST-MODIFIED:20250605T144707Z
UID:10000661-1840384800-1840390200@www.talkdeath.com
SUMMARY:The Grief Well Drop In Virtual Grief Gathering
DESCRIPTION:THE OPPORTUNITY TO EXPLORE AND SHARE GRIEF TOGETHER THROUGH POETRY\, FREE WRITING\, SHARING\, WITNESSING\, AND SILENCE. \nEVERYTHING AS AN INVITATION. \nPARTICIPATE IN WHATEVER WAY FEELS RIGHT FOR YOU. \nAll grief welcome – past\, present\, and future. Death and non-death grief.
URL:https://www.talkdeath.com/event/the-grief-well-drop-in-virtual-grief-gathering/2028-04-26/
LOCATION:Virtual Event
CATEGORIES:Grief Group
ORGANIZER;CN="The Grief Well":MAILTO:tlc@endwell.ca
END:VEVENT
BEGIN:VEVENT
DTSTART;TZID=America/Vancouver:20280531T180000
DTEND;TZID=America/Vancouver:20280531T193000
DTSTAMP:20260421T203359
CREATED:20250605T144707Z
LAST-MODIFIED:20250605T144707Z
UID:10000662-1843408800-1843414200@www.talkdeath.com
SUMMARY:The Grief Well Drop In Virtual Grief Gathering
DESCRIPTION:THE OPPORTUNITY TO EXPLORE AND SHARE GRIEF TOGETHER THROUGH POETRY\, FREE WRITING\, SHARING\, WITNESSING\, AND SILENCE. \nEVERYTHING AS AN INVITATION. \nPARTICIPATE IN WHATEVER WAY FEELS RIGHT FOR YOU. \nAll grief welcome – past\, present\, and future. Death and non-death grief.
URL:https://www.talkdeath.com/event/the-grief-well-drop-in-virtual-grief-gathering/2028-05-31/
LOCATION:Virtual Event
CATEGORIES:Grief Group
ORGANIZER;CN="The Grief Well":MAILTO:tlc@endwell.ca
END:VEVENT
BEGIN:VEVENT
DTSTART;TZID=America/Vancouver:20280628T180000
DTEND;TZID=America/Vancouver:20280628T193000
DTSTAMP:20260421T203359
CREATED:20250605T144707Z
LAST-MODIFIED:20250605T144707Z
UID:10000663-1845828000-1845833400@www.talkdeath.com
SUMMARY:The Grief Well Drop In Virtual Grief Gathering
DESCRIPTION:THE OPPORTUNITY TO EXPLORE AND SHARE GRIEF TOGETHER THROUGH POETRY\, FREE WRITING\, SHARING\, WITNESSING\, AND SILENCE. \nEVERYTHING AS AN INVITATION. \nPARTICIPATE IN WHATEVER WAY FEELS RIGHT FOR YOU. \nAll grief welcome – past\, present\, and future. Death and non-death grief.
URL:https://www.talkdeath.com/event/the-grief-well-drop-in-virtual-grief-gathering/2028-06-28/
LOCATION:Virtual Event
CATEGORIES:Grief Group
ORGANIZER;CN="The Grief Well":MAILTO:tlc@endwell.ca
END:VEVENT
BEGIN:VEVENT
DTSTART;TZID=America/Vancouver:20280726T180000
DTEND;TZID=America/Vancouver:20280726T193000
DTSTAMP:20260421T203359
CREATED:20250605T144707Z
LAST-MODIFIED:20250605T144707Z
UID:10000664-1848247200-1848252600@www.talkdeath.com
SUMMARY:The Grief Well Drop In Virtual Grief Gathering
DESCRIPTION:THE OPPORTUNITY TO EXPLORE AND SHARE GRIEF TOGETHER THROUGH POETRY\, FREE WRITING\, SHARING\, WITNESSING\, AND SILENCE. \nEVERYTHING AS AN INVITATION. \nPARTICIPATE IN WHATEVER WAY FEELS RIGHT FOR YOU. \nAll grief welcome – past\, present\, and future. Death and non-death grief.
URL:https://www.talkdeath.com/event/the-grief-well-drop-in-virtual-grief-gathering/2028-07-26/
LOCATION:Virtual Event
CATEGORIES:Grief Group
ORGANIZER;CN="The Grief Well":MAILTO:tlc@endwell.ca
END:VEVENT
BEGIN:VEVENT
DTSTART;TZID=America/Vancouver:20280830T180000
DTEND;TZID=America/Vancouver:20280830T193000
DTSTAMP:20260421T203359
CREATED:20250605T144707Z
LAST-MODIFIED:20250605T144707Z
UID:10000665-1851271200-1851276600@www.talkdeath.com
SUMMARY:The Grief Well Drop In Virtual Grief Gathering
DESCRIPTION:THE OPPORTUNITY TO EXPLORE AND SHARE GRIEF TOGETHER THROUGH POETRY\, FREE WRITING\, SHARING\, WITNESSING\, AND SILENCE. \nEVERYTHING AS AN INVITATION. \nPARTICIPATE IN WHATEVER WAY FEELS RIGHT FOR YOU. \nAll grief welcome – past\, present\, and future. Death and non-death grief.
URL:https://www.talkdeath.com/event/the-grief-well-drop-in-virtual-grief-gathering/2028-08-30/
LOCATION:Virtual Event
CATEGORIES:Grief Group
ORGANIZER;CN="The Grief Well":MAILTO:tlc@endwell.ca
END:VEVENT
BEGIN:VEVENT
DTSTART;TZID=America/Vancouver:20280927T180000
DTEND;TZID=America/Vancouver:20280927T193000
DTSTAMP:20260421T203359
CREATED:20250605T144707Z
LAST-MODIFIED:20250605T144707Z
UID:10000666-1853690400-1853695800@www.talkdeath.com
SUMMARY:The Grief Well Drop In Virtual Grief Gathering
DESCRIPTION:THE OPPORTUNITY TO EXPLORE AND SHARE GRIEF TOGETHER THROUGH POETRY\, FREE WRITING\, SHARING\, WITNESSING\, AND SILENCE. \nEVERYTHING AS AN INVITATION. \nPARTICIPATE IN WHATEVER WAY FEELS RIGHT FOR YOU. \nAll grief welcome – past\, present\, and future. Death and non-death grief.
URL:https://www.talkdeath.com/event/the-grief-well-drop-in-virtual-grief-gathering/2028-09-27/
LOCATION:Virtual Event
CATEGORIES:Grief Group
ORGANIZER;CN="The Grief Well":MAILTO:tlc@endwell.ca
END:VEVENT
BEGIN:VEVENT
DTSTART;TZID=America/Vancouver:20281025T180000
DTEND;TZID=America/Vancouver:20281025T193000
DTSTAMP:20260421T203359
CREATED:20250605T144707Z
LAST-MODIFIED:20250605T144707Z
UID:10000667-1856109600-1856115000@www.talkdeath.com
SUMMARY:The Grief Well Drop In Virtual Grief Gathering
DESCRIPTION:THE OPPORTUNITY TO EXPLORE AND SHARE GRIEF TOGETHER THROUGH POETRY\, FREE WRITING\, SHARING\, WITNESSING\, AND SILENCE. \nEVERYTHING AS AN INVITATION. \nPARTICIPATE IN WHATEVER WAY FEELS RIGHT FOR YOU. \nAll grief welcome – past\, present\, and future. Death and non-death grief.
URL:https://www.talkdeath.com/event/the-grief-well-drop-in-virtual-grief-gathering/2028-10-25/
LOCATION:Virtual Event
CATEGORIES:Grief Group
ORGANIZER;CN="The Grief Well":MAILTO:tlc@endwell.ca
END:VEVENT
BEGIN:VEVENT
DTSTART;TZID=America/Vancouver:20281129T180000
DTEND;TZID=America/Vancouver:20281129T193000
DTSTAMP:20260421T203359
CREATED:20250605T144707Z
LAST-MODIFIED:20250605T144707Z
UID:10000668-1859133600-1859139000@www.talkdeath.com
SUMMARY:The Grief Well Drop In Virtual Grief Gathering
DESCRIPTION:THE OPPORTUNITY TO EXPLORE AND SHARE GRIEF TOGETHER THROUGH POETRY\, FREE WRITING\, SHARING\, WITNESSING\, AND SILENCE. \nEVERYTHING AS AN INVITATION. \nPARTICIPATE IN WHATEVER WAY FEELS RIGHT FOR YOU. \nAll grief welcome – past\, present\, and future. Death and non-death grief.
URL:https://www.talkdeath.com/event/the-grief-well-drop-in-virtual-grief-gathering/2028-11-29/
LOCATION:Virtual Event
CATEGORIES:Grief Group
ORGANIZER;CN="The Grief Well":MAILTO:tlc@endwell.ca
END:VEVENT
BEGIN:VEVENT
DTSTART;TZID=America/Vancouver:20281227T180000
DTEND;TZID=America/Vancouver:20281227T193000
DTSTAMP:20260421T203359
CREATED:20250605T144707Z
LAST-MODIFIED:20250605T144707Z
UID:10000669-1861552800-1861558200@www.talkdeath.com
SUMMARY:The Grief Well Drop In Virtual Grief Gathering
DESCRIPTION:THE OPPORTUNITY TO EXPLORE AND SHARE GRIEF TOGETHER THROUGH POETRY\, FREE WRITING\, SHARING\, WITNESSING\, AND SILENCE. \nEVERYTHING AS AN INVITATION. \nPARTICIPATE IN WHATEVER WAY FEELS RIGHT FOR YOU. \nAll grief welcome – past\, present\, and future. Death and non-death grief.
URL:https://www.talkdeath.com/event/the-grief-well-drop-in-virtual-grief-gathering/2028-12-27/
LOCATION:Virtual Event
CATEGORIES:Grief Group
ORGANIZER;CN="The Grief Well":MAILTO:tlc@endwell.ca
END:VEVENT
BEGIN:VEVENT
DTSTART;TZID=America/Vancouver:20290131T180000
DTEND;TZID=America/Vancouver:20290131T193000
DTSTAMP:20260421T203359
CREATED:20250605T144707Z
LAST-MODIFIED:20250605T144707Z
UID:10000670-1864576800-1864582200@www.talkdeath.com
SUMMARY:The Grief Well Drop In Virtual Grief Gathering
DESCRIPTION:THE OPPORTUNITY TO EXPLORE AND SHARE GRIEF TOGETHER THROUGH POETRY\, FREE WRITING\, SHARING\, WITNESSING\, AND SILENCE. \nEVERYTHING AS AN INVITATION. \nPARTICIPATE IN WHATEVER WAY FEELS RIGHT FOR YOU. \nAll grief welcome – past\, present\, and future. Death and non-death grief.
URL:https://www.talkdeath.com/event/the-grief-well-drop-in-virtual-grief-gathering/2029-01-31/
LOCATION:Virtual Event
CATEGORIES:Grief Group
ORGANIZER;CN="The Grief Well":MAILTO:tlc@endwell.ca
END:VEVENT
BEGIN:VEVENT
DTSTART;TZID=America/Vancouver:20290228T180000
DTEND;TZID=America/Vancouver:20290228T193000
DTSTAMP:20260421T203359
CREATED:20250605T144707Z
LAST-MODIFIED:20250605T144707Z
UID:10000671-1866996000-1867001400@www.talkdeath.com
SUMMARY:The Grief Well Drop In Virtual Grief Gathering
DESCRIPTION:THE OPPORTUNITY TO EXPLORE AND SHARE GRIEF TOGETHER THROUGH POETRY\, FREE WRITING\, SHARING\, WITNESSING\, AND SILENCE. \nEVERYTHING AS AN INVITATION. \nPARTICIPATE IN WHATEVER WAY FEELS RIGHT FOR YOU. \nAll grief welcome – past\, present\, and future. Death and non-death grief.
URL:https://www.talkdeath.com/event/the-grief-well-drop-in-virtual-grief-gathering/2029-02-28/
LOCATION:Virtual Event
CATEGORIES:Grief Group
ORGANIZER;CN="The Grief Well":MAILTO:tlc@endwell.ca
END:VEVENT
BEGIN:VEVENT
DTSTART;TZID=America/Vancouver:20290328T180000
DTEND;TZID=America/Vancouver:20290328T193000
DTSTAMP:20260421T203359
CREATED:20250605T144707Z
LAST-MODIFIED:20250605T144707Z
UID:10000672-1869415200-1869420600@www.talkdeath.com
SUMMARY:The Grief Well Drop In Virtual Grief Gathering
DESCRIPTION:THE OPPORTUNITY TO EXPLORE AND SHARE GRIEF TOGETHER THROUGH POETRY\, FREE WRITING\, SHARING\, WITNESSING\, AND SILENCE. \nEVERYTHING AS AN INVITATION. \nPARTICIPATE IN WHATEVER WAY FEELS RIGHT FOR YOU. \nAll grief welcome – past\, present\, and future. Death and non-death grief.
URL:https://www.talkdeath.com/event/the-grief-well-drop-in-virtual-grief-gathering/2029-03-28/
LOCATION:Virtual Event
CATEGORIES:Grief Group
ORGANIZER;CN="The Grief Well":MAILTO:tlc@endwell.ca
END:VEVENT
BEGIN:VEVENT
DTSTART;TZID=America/Vancouver:20290425T180000
DTEND;TZID=America/Vancouver:20290425T193000
DTSTAMP:20260421T203359
CREATED:20250605T144707Z
LAST-MODIFIED:20250605T144707Z
UID:10000673-1871834400-1871839800@www.talkdeath.com
SUMMARY:The Grief Well Drop In Virtual Grief Gathering
DESCRIPTION:THE OPPORTUNITY TO EXPLORE AND SHARE GRIEF TOGETHER THROUGH POETRY\, FREE WRITING\, SHARING\, WITNESSING\, AND SILENCE. \nEVERYTHING AS AN INVITATION. \nPARTICIPATE IN WHATEVER WAY FEELS RIGHT FOR YOU. \nAll grief welcome – past\, present\, and future. Death and non-death grief.
URL:https://www.talkdeath.com/event/the-grief-well-drop-in-virtual-grief-gathering/2029-04-25/
LOCATION:Virtual Event
CATEGORIES:Grief Group
ORGANIZER;CN="The Grief Well":MAILTO:tlc@endwell.ca
END:VEVENT
BEGIN:VEVENT
DTSTART;TZID=America/Vancouver:20290530T180000
DTEND;TZID=America/Vancouver:20290530T193000
DTSTAMP:20260421T203359
CREATED:20250605T144707Z
LAST-MODIFIED:20250605T144707Z
UID:10000674-1874858400-1874863800@www.talkdeath.com
SUMMARY:The Grief Well Drop In Virtual Grief Gathering
DESCRIPTION:THE OPPORTUNITY TO EXPLORE AND SHARE GRIEF TOGETHER THROUGH POETRY\, FREE WRITING\, SHARING\, WITNESSING\, AND SILENCE. \nEVERYTHING AS AN INVITATION. \nPARTICIPATE IN WHATEVER WAY FEELS RIGHT FOR YOU. \nAll grief welcome – past\, present\, and future. Death and non-death grief.
URL:https://www.talkdeath.com/event/the-grief-well-drop-in-virtual-grief-gathering/2029-05-30/
LOCATION:Virtual Event
CATEGORIES:Grief Group
ORGANIZER;CN="The Grief Well":MAILTO:tlc@endwell.ca
END:VEVENT
BEGIN:VEVENT
DTSTART;TZID=America/Vancouver:20290627T180000
DTEND;TZID=America/Vancouver:20290627T193000
DTSTAMP:20260421T203359
CREATED:20250605T144707Z
LAST-MODIFIED:20250605T144707Z
UID:10000675-1877277600-1877283000@www.talkdeath.com
SUMMARY:The Grief Well Drop In Virtual Grief Gathering
DESCRIPTION:THE OPPORTUNITY TO EXPLORE AND SHARE GRIEF TOGETHER THROUGH POETRY\, FREE WRITING\, SHARING\, WITNESSING\, AND SILENCE. \nEVERYTHING AS AN INVITATION. \nPARTICIPATE IN WHATEVER WAY FEELS RIGHT FOR YOU. \nAll grief welcome – past\, present\, and future. Death and non-death grief.
URL:https://www.talkdeath.com/event/the-grief-well-drop-in-virtual-grief-gathering/2029-06-27/
LOCATION:Virtual Event
CATEGORIES:Grief Group
ORGANIZER;CN="The Grief Well":MAILTO:tlc@endwell.ca
END:VEVENT
BEGIN:VEVENT
DTSTART;TZID=America/Vancouver:20290725T180000
DTEND;TZID=America/Vancouver:20290725T193000
DTSTAMP:20260421T203359
CREATED:20250605T144707Z
LAST-MODIFIED:20250605T144707Z
UID:10000676-1879696800-1879702200@www.talkdeath.com
SUMMARY:The Grief Well Drop In Virtual Grief Gathering
DESCRIPTION:THE OPPORTUNITY TO EXPLORE AND SHARE GRIEF TOGETHER THROUGH POETRY\, FREE WRITING\, SHARING\, WITNESSING\, AND SILENCE. \nEVERYTHING AS AN INVITATION. \nPARTICIPATE IN WHATEVER WAY FEELS RIGHT FOR YOU. \nAll grief welcome – past\, present\, and future. Death and non-death grief.
URL:https://www.talkdeath.com/event/the-grief-well-drop-in-virtual-grief-gathering/2029-07-25/
LOCATION:Virtual Event
CATEGORIES:Grief Group
ORGANIZER;CN="The Grief Well":MAILTO:tlc@endwell.ca
END:VEVENT
BEGIN:VEVENT
DTSTART;TZID=America/Vancouver:20290829T180000
DTEND;TZID=America/Vancouver:20290829T193000
DTSTAMP:20260421T203359
CREATED:20250605T144707Z
LAST-MODIFIED:20250605T144707Z
UID:10000677-1882720800-1882726200@www.talkdeath.com
SUMMARY:The Grief Well Drop In Virtual Grief Gathering
DESCRIPTION:THE OPPORTUNITY TO EXPLORE AND SHARE GRIEF TOGETHER THROUGH POETRY\, FREE WRITING\, SHARING\, WITNESSING\, AND SILENCE. \nEVERYTHING AS AN INVITATION. \nPARTICIPATE IN WHATEVER WAY FEELS RIGHT FOR YOU. \nAll grief welcome – past\, present\, and future. Death and non-death grief.
URL:https://www.talkdeath.com/event/the-grief-well-drop-in-virtual-grief-gathering/2029-08-29/
LOCATION:Virtual Event
CATEGORIES:Grief Group
ORGANIZER;CN="The Grief Well":MAILTO:tlc@endwell.ca
END:VEVENT
BEGIN:VEVENT
DTSTART;TZID=America/Vancouver:20290926T180000
DTEND;TZID=America/Vancouver:20290926T193000
DTSTAMP:20260421T203359
CREATED:20250605T144707Z
LAST-MODIFIED:20250605T144707Z
UID:10000678-1885140000-1885145400@www.talkdeath.com
SUMMARY:The Grief Well Drop In Virtual Grief Gathering
DESCRIPTION:THE OPPORTUNITY TO EXPLORE AND SHARE GRIEF TOGETHER THROUGH POETRY\, FREE WRITING\, SHARING\, WITNESSING\, AND SILENCE. \nEVERYTHING AS AN INVITATION. \nPARTICIPATE IN WHATEVER WAY FEELS RIGHT FOR YOU. \nAll grief welcome – past\, present\, and future. Death and non-death grief.
URL:https://www.talkdeath.com/event/the-grief-well-drop-in-virtual-grief-gathering/2029-09-26/
LOCATION:Virtual Event
CATEGORIES:Grief Group
ORGANIZER;CN="The Grief Well":MAILTO:tlc@endwell.ca
END:VEVENT
END:VCALENDAR