BEGIN:VCALENDAR
VERSION:2.0
PRODID:-//TalkDeath - ECPv6.15.19//NONSGML v1.0//EN
CALSCALE:GREGORIAN
METHOD:PUBLISH
X-ORIGINAL-URL:https://www.talkdeath.com
X-WR-CALDESC:Events for TalkDeath
REFRESH-INTERVAL;VALUE=DURATION:PT1H
X-Robots-Tag:noindex
X-PUBLISHED-TTL:PT1H
BEGIN:VTIMEZONE
TZID:America/Toronto
BEGIN:DAYLIGHT
TZOFFSETFROM:-0500
TZOFFSETTO:-0400
TZNAME:EDT
DTSTART:20250309T070000
END:DAYLIGHT
BEGIN:STANDARD
TZOFFSETFROM:-0400
TZOFFSETTO:-0500
TZNAME:EST
DTSTART:20251102T060000
END:STANDARD
BEGIN:DAYLIGHT
TZOFFSETFROM:-0500
TZOFFSETTO:-0400
TZNAME:EDT
DTSTART:20260308T070000
END:DAYLIGHT
BEGIN:STANDARD
TZOFFSETFROM:-0400
TZOFFSETTO:-0500
TZNAME:EST
DTSTART:20261101T060000
END:STANDARD
BEGIN:DAYLIGHT
TZOFFSETFROM:-0500
TZOFFSETTO:-0400
TZNAME:EDT
DTSTART:20270314T070000
END:DAYLIGHT
BEGIN:STANDARD
TZOFFSETFROM:-0400
TZOFFSETTO:-0500
TZNAME:EST
DTSTART:20271107T060000
END:STANDARD
END:VTIMEZONE
BEGIN:VTIMEZONE
TZID:America/Chicago
BEGIN:DAYLIGHT
TZOFFSETFROM:-0600
TZOFFSETTO:-0500
TZNAME:CDT
DTSTART:20250309T080000
END:DAYLIGHT
BEGIN:STANDARD
TZOFFSETFROM:-0500
TZOFFSETTO:-0600
TZNAME:CST
DTSTART:20251102T070000
END:STANDARD
BEGIN:DAYLIGHT
TZOFFSETFROM:-0600
TZOFFSETTO:-0500
TZNAME:CDT
DTSTART:20260308T080000
END:DAYLIGHT
BEGIN:STANDARD
TZOFFSETFROM:-0500
TZOFFSETTO:-0600
TZNAME:CST
DTSTART:20261101T070000
END:STANDARD
BEGIN:DAYLIGHT
TZOFFSETFROM:-0600
TZOFFSETTO:-0500
TZNAME:CDT
DTSTART:20270314T080000
END:DAYLIGHT
BEGIN:STANDARD
TZOFFSETFROM:-0500
TZOFFSETTO:-0600
TZNAME:CST
DTSTART:20271107T070000
END:STANDARD
END:VTIMEZONE
BEGIN:VEVENT
DTSTART;TZID=America/Toronto:20260409T180000
DTEND;TZID=America/Toronto:20260409T190000
DTSTAMP:20260421T204046
CREATED:20260323T140751Z
LAST-MODIFIED:20260323T140751Z
UID:10001838-1775757600-1775761200@www.talkdeath.com
SUMMARY:The Last Chapter Book Club reads The Collected regrets of Clover
DESCRIPTION:A surprisingly uplifting book club for the morbidly curious\, led by Megan Morano of Until Death Doulas \nLast Chapter Book Club reads\nTHE COLLECTED REGRETS OF CLOVER\nby Mikki Brammer \nThursday Apr 9th\, 2026\n6:00 PM-7:00 PM \nMeeting will be at The Bookshop\n1043 W Eastland Ave\, Nashville\, TN 37206-3533 \nPurchase the book from The Bookshop using the link to sign up. \nBook Description:\n“From the day she watched her kindergarten teacher drop dead during a dramatic telling of Peter Rabbit\, Clover Brooks has felt a stronger connection with the dying than she has with the living. After the beloved grandfather who raised her dies alone while she is traveling\, Clover becomes a death doula in New York City\, dedicating her life to ushering people peacefully through their end-of-life process. \nClover spends so much time with the dying that she has no life of her own\, until the final wishes of a feisty old woman send Clover on a trip across the country to uncover a forgotten love story––and perhaps\, her own happy ending. As she finds herself struggling to navigate the uncharted roads of romance and friendship\, Clover is forced to examine what she really wants\, and whether she’ll have the courage to go after it. \nProbing\, clever\, and hopeful\, The Collected Regrets of Clover is perfect for readers of The Midnight Library and Eleanor Oliphant is Completely Fine as it turns the normally taboo subject of death into a reason to celebrate life.”
URL:https://www.talkdeath.com/event/the-last-chapter-book-club-reads-the-collected-regrets-of-clover/
LOCATION:The Bookshop\, 1043 W Eastland Avenue\, Nashville\, TN\, 37206\, United States
CATEGORIES:Community Meet Up
ATTACH;FMTTYPE=image/png:https://www.talkdeath.com/wp-content/uploads/2026/03/The-Last-Chapter-April.png
ORGANIZER;CN="Until Death Doulas":MAILTO:megan@untildeathdoulas.com
END:VEVENT
BEGIN:VEVENT
DTSTART;TZID=America/Chicago:20260312T180000
DTEND;TZID=America/Chicago:20260312T190000
DTSTAMP:20260421T204046
CREATED:20260219T155306Z
LAST-MODIFIED:20260219T155306Z
UID:10001690-1773338400-1773342000@www.talkdeath.com
SUMMARY:The Last Chapter Book Club reads Nothing to Fear
DESCRIPTION:A surprisingly uplifting book club for the morbidly curious. Led by Megan of Until Death Doulas.\nJoin The Last Chapter Book Club to talk all things hospice. \nWith special guest\, Alive Hospice Nurse Practitioner\, Loretta Cook. \n“A comforting and informative guide that demystifies our end-of-life journey\, from the compassionate expert known as @hospicenursejulie \nWhat if we didn’t consider death the worst possible outcome? What if we discussed it honestly\, embraced hospice care\, and prepared for the end of our lives with hope and acceptance?\nIn this compassionate and knowledgeable guide\, TikTok star Julie McFadden—known online as “Hospice Nurse Julie”—shares the valuable lessons she’s learned in her fifteen years as an RN in the ICU and in hospice. Expertly interweaving emotional insight and practical advice\, Nothing to Fear demystifies end-of-life care for both patients and caregivers\, covering topics including: \nthe biological details of dying \nwhich medical interventions help and which only make things worse \nthe otherworldly beauty of deathbed phenomena \nfinancial and logistical preparations for death \nfacts and myths about hospice care \nthe most important conversations to have before you die \nthe grieving process\, before and after death \nSure to be a go-to resource for years to come\, McFadden’s first book proves a better death goes hand in hand with a better life.” \nThursday\, March 12 \n6:00 pm – 7:00 pm \nBuy Nothing to Fear from The Bookshop to join!
URL:https://www.talkdeath.com/event/the-last-chapter-book-club-reads-nothing-to-fear/
LOCATION:The Bookshop\, 1043 W Eastland Avenue\, Nashville\, TN\, 37206\, United States
ATTACH;FMTTYPE=image/jpeg:https://www.talkdeath.com/wp-content/uploads/2026/02/March-Book-Clubs.jpg
ORGANIZER;CN="Until Death Doulas":MAILTO:megan@untildeathdoulas.com
END:VEVENT
BEGIN:VEVENT
DTSTART;TZID=America/Chicago:20260205T180000
DTEND;TZID=America/Chicago:20260205T190000
DTSTAMP:20260421T204046
CREATED:20260127T165233Z
LAST-MODIFIED:20260127T165419Z
UID:10001677-1770314400-1770318000@www.talkdeath.com
SUMMARY:The Last Chapter Book Club
DESCRIPTION:A surprisingly uplifting book club for the morbidly curious. Led by Megan Morano of Until Death Doulas. \nPurchase the book from The Bookshop Nashville to join!\nThe Bookshop – 1043 West Eastland Ave\, Nashville TN 37206 \nFebruary’s Read – From Here to Eternity by Caitlin Doughty:\nFascinated by our pervasive fear of dead bodies\, mortician Caitlin Doughty embarks on a global expedition to discover how other cultures care for the dead. From Zoroastrian sky burials to wish-granting Bolivian skulls\, she investigates the world’s funerary customs and expands our sense of what it means to treat the dead with dignity. Her account questions the rituals of the American funeral industry—especially chemical embalming—and suggests that the most effective traditions are those that allow mourners to personally attend to the body of the deceased. Exquisitely illustrated by artist Landis Blair\, From Here to Eternity is an adventure into the morbid unknown\, a fascinating tour through the unique ways people everywhere confront mortality.
URL:https://www.talkdeath.com/event/the-last-chapter-book-club/
LOCATION:The Bookshop\, 1043 W Eastland Avenue\, Nashville\, TN\, 37206\, United States
ATTACH;FMTTYPE=image/png:https://www.talkdeath.com/wp-content/uploads/2026/01/The_Last_Chapter_Feb.png
ORGANIZER;CN="Until Death Doulas":MAILTO:megan@untildeathdoulas.com
END:VEVENT
END:VCALENDAR