BEGIN:VCALENDAR
VERSION:2.0
PRODID:-//TalkDeath - ECPv6.15.19//NONSGML v1.0//EN
CALSCALE:GREGORIAN
METHOD:PUBLISH
X-ORIGINAL-URL:https://www.talkdeath.com
X-WR-CALDESC:Events for TalkDeath
REFRESH-INTERVAL;VALUE=DURATION:PT1H
X-Robots-Tag:noindex
X-PUBLISHED-TTL:PT1H
BEGIN:VTIMEZONE
TZID:America/Toronto
BEGIN:DAYLIGHT
TZOFFSETFROM:-0500
TZOFFSETTO:-0400
TZNAME:EDT
DTSTART:20250309T070000
END:DAYLIGHT
BEGIN:STANDARD
TZOFFSETFROM:-0400
TZOFFSETTO:-0500
TZNAME:EST
DTSTART:20251102T060000
END:STANDARD
BEGIN:DAYLIGHT
TZOFFSETFROM:-0500
TZOFFSETTO:-0400
TZNAME:EDT
DTSTART:20260308T070000
END:DAYLIGHT
BEGIN:STANDARD
TZOFFSETFROM:-0400
TZOFFSETTO:-0500
TZNAME:EST
DTSTART:20261101T060000
END:STANDARD
BEGIN:DAYLIGHT
TZOFFSETFROM:-0500
TZOFFSETTO:-0400
TZNAME:EDT
DTSTART:20270314T070000
END:DAYLIGHT
BEGIN:STANDARD
TZOFFSETFROM:-0400
TZOFFSETTO:-0500
TZNAME:EST
DTSTART:20271107T060000
END:STANDARD
END:VTIMEZONE
BEGIN:VEVENT
DTSTART;TZID=America/Toronto:20260426T190000
DTEND;TZID=America/Toronto:20260426T200000
DTSTAMP:20260421T153537
CREATED:20260416T155830Z
LAST-MODIFIED:20260416T155925Z
UID:10001855-1777230000-1777233600@www.talkdeath.com
SUMMARY:Death Stories: A Gathering For Those Who Have Witnessed Death
DESCRIPTION:The Death Stories events are a monthly opportunity to practice sharing a life experience that folks typically don’t get a chance to talk about. It’s not a webinar or a workshop: it’s an hour spent talking about death that is likely to utterly transform your life. \nEach month\, we’ll also be joined by a very special guest whose work touches on death\, storytelling\, and meaning-making. We will work together\, spend some quiet time in personal reflection\, and then move into small connection groups to share our own death stories. Then we’ll come back together to marvel at what happens when we make space for stories that truly matter. \nWe’re so happy to have Darnell Lamont Walker with us in April. Darnell is an Emmy-nominated children’s television writer\, author\, and death doula whose work explores how we make sense of complex emotional experiences through story (both at the start and end of life). \nDeath Stories is not a grief circle\, and it’s not a space for processing fresh loss. \nDeath Stories is not a therapy session\, we have no religious affiliation or overtly spiritual views\, and your co-hosts and special guests are never selling anything. \nWhile grief may naturally be part of what arises when we discuss death\, the focus here is on the experience of witnessing an expected death (either natural or with medical assistance)\, and on finding language for something it’s rarely possible/permitted to speak of elsewhere. \nThough your facilitators take a trauma-informed approach to these sessions\, Death Stories is also not a space for stories of sudden\, violent\, or traumatic death. \nPlease reach out if you would like to discuss a referral for grief therapy\, or if you have questions about whether these sessions are right for you.
URL:https://www.talkdeath.com/event/death-stories-a-gathering-for-those-who-have-witnessed-death/
CATEGORIES:Community Meet Up,Virtual
ATTACH;FMTTYPE=image/jpeg:https://www.talkdeath.com/wp-content/uploads/2026/04/Speaker-Template.jpg
ORGANIZER;CN="We Are All Dying with Jenna Goodhand":MAILTO:wearealldyingpodcast@gmail.com
END:VEVENT
END:VCALENDAR