BEGIN:VCALENDAR
VERSION:2.0
PRODID:-//TalkDeath - ECPv6.15.19//NONSGML v1.0//EN
CALSCALE:GREGORIAN
METHOD:PUBLISH
X-ORIGINAL-URL:https://www.talkdeath.com
X-WR-CALDESC:Events for TalkDeath
REFRESH-INTERVAL;VALUE=DURATION:PT1H
X-Robots-Tag:noindex
X-PUBLISHED-TTL:PT1H
BEGIN:VTIMEZONE
TZID:America/Toronto
BEGIN:DAYLIGHT
TZOFFSETFROM:-0500
TZOFFSETTO:-0400
TZNAME:EDT
DTSTART:20240310T070000
END:DAYLIGHT
BEGIN:STANDARD
TZOFFSETFROM:-0400
TZOFFSETTO:-0500
TZNAME:EST
DTSTART:20241103T060000
END:STANDARD
BEGIN:DAYLIGHT
TZOFFSETFROM:-0500
TZOFFSETTO:-0400
TZNAME:EDT
DTSTART:20250309T070000
END:DAYLIGHT
BEGIN:STANDARD
TZOFFSETFROM:-0400
TZOFFSETTO:-0500
TZNAME:EST
DTSTART:20251102T060000
END:STANDARD
BEGIN:DAYLIGHT
TZOFFSETFROM:-0500
TZOFFSETTO:-0400
TZNAME:EDT
DTSTART:20260308T070000
END:DAYLIGHT
BEGIN:STANDARD
TZOFFSETFROM:-0400
TZOFFSETTO:-0500
TZNAME:EST
DTSTART:20261101T060000
END:STANDARD
END:VTIMEZONE
BEGIN:VEVENT
DTSTART;TZID=America/Toronto:20251112T180000
DTEND;TZID=America/Toronto:20251112T200000
DTSTAMP:20260424T034837
CREATED:20250924T164715Z
LAST-MODIFIED:20250924T164757Z
UID:10001469-1762970400-1762977600@www.talkdeath.com
SUMMARY:Writing Workshop: Reading\, Writing\, & Dancing with Death
DESCRIPTION:The Connecticut Death Collective & Darien Public Library welcome Amy Shea\, essayist and author of Too Poor to Die: The Hidden Realities of Dying in the Margins (Rutgers University Press\, 2025). Inspired by the classic imagery of the dance with death (a memento mori) —artworks that depict skeletons leading people from every station of life into the grave—Amy will guide participants through writing prompts and exercises that open space for reflection and creativity. Attendees will generate their own short pieces of poetry or prose in response to the images\, using writing as a way to explore inequities in death and dying\, and to consider how art can help us give language to the unspoken. \nBooks for sale by Barrett Bookstore! \nPlus\, we’re collecting sock donations for Open Doors\, Norwalk!
URL:https://www.talkdeath.com/event/writing-workshop-reading-writing-dancing-with-death/
LOCATION:Darien Public Library\, 1441 Post Road\, Darien\, CT\, 06820\, United States
CATEGORIES:Arts and Culture,Workshop
ATTACH;FMTTYPE=image/jpeg:https://www.talkdeath.com/wp-content/uploads/2025/09/CT-Death-Collective-Event.jpg
END:VEVENT
END:VCALENDAR