BEGIN:VCALENDAR
VERSION:2.0
PRODID:-//TalkDeath - ECPv6.15.19//NONSGML v1.0//EN
CALSCALE:GREGORIAN
METHOD:PUBLISH
X-WR-CALNAME:TalkDeath
X-ORIGINAL-URL:https://www.talkdeath.com
X-WR-CALDESC:Events for TalkDeath
REFRESH-INTERVAL;VALUE=DURATION:PT1H
X-Robots-Tag:noindex
X-PUBLISHED-TTL:PT1H
BEGIN:VTIMEZONE
TZID:America/Vancouver
BEGIN:DAYLIGHT
TZOFFSETFROM:-0800
TZOFFSETTO:-0700
TZNAME:PDT
DTSTART:20240310T100000
END:DAYLIGHT
BEGIN:STANDARD
TZOFFSETFROM:-0700
TZOFFSETTO:-0800
TZNAME:PST
DTSTART:20241103T090000
END:STANDARD
BEGIN:DAYLIGHT
TZOFFSETFROM:-0800
TZOFFSETTO:-0700
TZNAME:PDT
DTSTART:20250309T100000
END:DAYLIGHT
BEGIN:STANDARD
TZOFFSETFROM:-0700
TZOFFSETTO:-0800
TZNAME:PST
DTSTART:20251102T090000
END:STANDARD
BEGIN:DAYLIGHT
TZOFFSETFROM:-0800
TZOFFSETTO:-0700
TZNAME:PDT
DTSTART:20260308T100000
END:DAYLIGHT
BEGIN:STANDARD
TZOFFSETFROM:-0700
TZOFFSETTO:-0800
TZNAME:PST
DTSTART:20261101T090000
END:STANDARD
END:VTIMEZONE
BEGIN:VEVENT
DTSTART;TZID=America/Vancouver:20251118T180000
DTEND;TZID=America/Vancouver:20251118T200000
DTSTAMP:20260422T233008
CREATED:20251114T194253Z
LAST-MODIFIED:20251114T194253Z
UID:10001500-1763488800-1763496000@www.talkdeath.com
SUMMARY:Death Cafe + Free Writing Evening
DESCRIPTION:Come take part in a thoughtful evening of writing and conversation on topics relating to grief\, death and dying.\nBe a part of fostering community and challenging death stigma in North America! \nRegistration Required! \nDeath Café with a twist! Incorporating the practice of free writing\, this evening will start with 10-15 minutes of individual free writing on topics/ideas related to death\, dying\, and grief. From here\, the conversational part of the evening will begin\, as casual and welcoming group-lead discussion on death and dying frame the rest of the event. \nWhat is a death café? \nDeath cafés are casual conversational evenings for people to come together and discuss the many facets of life and death. It’s a beautiful way to connect with others and have open discussions about death and dying\, topics so often deemed as taboo in North American culture. \nWhat is free writing? \nFree writing is a writing exercise where one writes continuously for a set amount of time\, no editing\, no stopping\, no worries about spelling or grammar—just getting those thoughts down! This is a great opportunity to get some journaling in and will also be used to help us conjure some conversational ideas and thoughts around grief\, death\, and dying.
URL:https://www.talkdeath.com/event/death-cafe-free-writing-evening/
LOCATION:east cafe\, 2401 East Hastings Street\, Vancouver\, BC\, V5K 1Y8\, Canada
ORGANIZER;CN="Ava Quissy":MAILTO:aquissy@gmail.com
END:VEVENT
END:VCALENDAR