BEGIN:VCALENDAR
VERSION:2.0
PRODID:-//TalkDeath - ECPv6.15.19//NONSGML v1.0//EN
CALSCALE:GREGORIAN
METHOD:PUBLISH
X-ORIGINAL-URL:https://www.talkdeath.com
X-WR-CALDESC:Events for TalkDeath
REFRESH-INTERVAL;VALUE=DURATION:PT1H
X-Robots-Tag:noindex
X-PUBLISHED-TTL:PT1H
BEGIN:VTIMEZONE
TZID:America/Toronto
BEGIN:DAYLIGHT
TZOFFSETFROM:-0500
TZOFFSETTO:-0400
TZNAME:EDT
DTSTART:20240310T070000
END:DAYLIGHT
BEGIN:STANDARD
TZOFFSETFROM:-0400
TZOFFSETTO:-0500
TZNAME:EST
DTSTART:20241103T060000
END:STANDARD
BEGIN:DAYLIGHT
TZOFFSETFROM:-0500
TZOFFSETTO:-0400
TZNAME:EDT
DTSTART:20250309T070000
END:DAYLIGHT
BEGIN:STANDARD
TZOFFSETFROM:-0400
TZOFFSETTO:-0500
TZNAME:EST
DTSTART:20251102T060000
END:STANDARD
BEGIN:DAYLIGHT
TZOFFSETFROM:-0500
TZOFFSETTO:-0400
TZNAME:EDT
DTSTART:20260308T070000
END:DAYLIGHT
BEGIN:STANDARD
TZOFFSETFROM:-0400
TZOFFSETTO:-0500
TZNAME:EST
DTSTART:20261101T060000
END:STANDARD
END:VTIMEZONE
BEGIN:VEVENT
DTSTART;VALUE=DATE:20251010
DTEND;VALUE=DATE:20251014
DTSTAMP:20260426T000754
CREATED:20250501T185215Z
LAST-MODIFIED:20250501T191405Z
UID:10000280-1760054400-1760399999@www.talkdeath.com
SUMMARY:National End of Life Doula Alliance Presents: Doulapalooza
DESCRIPTION:We are thrilled to share that Doulapalooza 2025 is set to be our biggest and most impactful event yet – and for the first time\, it will be held in person! This year’s event will be at The Higgins in New Orleans\, LA from October 10-12. \nAs the flagship conference of the National End-of-Life Doula Alliance (NEDA)\, Doulapalooza is a one-of-a-kind gathering where doulas\, healthcare providers\, educators\, and advocates come together to share knowledge\, forge connections\, and inspire new possibilities in the field of deathcare. \nYou do not need to be an end-of-life doula or NEDA member to attend. We welcome anyone working in or interested in the end-of-life field to join us for this inspiring and educational weekend.
URL:https://www.talkdeath.com/event/national-end-of-life-doula-alliance-presents-doulapalooza/
LOCATION:The Higgins-New Orleans\, 1000 Magazine St\, New Orleans\,\, LA\, 70130\, United States
ATTACH;FMTTYPE=image/png:https://www.talkdeath.com/wp-content/uploads/2025/05/Doulapalooza-2025-sponsorship-deck.png
ORGANIZER;CN="National End-of-Life Doula Alliance":MAILTO:eventsandeducation@nedalliance.org
END:VEVENT
END:VCALENDAR