BEGIN:VCALENDAR
VERSION:2.0
PRODID:-//TalkDeath - ECPv6.15.19//NONSGML v1.0//EN
CALSCALE:GREGORIAN
METHOD:PUBLISH
X-ORIGINAL-URL:https://www.talkdeath.com
X-WR-CALDESC:Events for TalkDeath
REFRESH-INTERVAL;VALUE=DURATION:PT1H
X-Robots-Tag:noindex
X-PUBLISHED-TTL:PT1H
BEGIN:VTIMEZONE
TZID:America/Denver
BEGIN:DAYLIGHT
TZOFFSETFROM:-0700
TZOFFSETTO:-0600
TZNAME:MDT
DTSTART:20240310T090000
END:DAYLIGHT
BEGIN:STANDARD
TZOFFSETFROM:-0600
TZOFFSETTO:-0700
TZNAME:MST
DTSTART:20241103T080000
END:STANDARD
BEGIN:DAYLIGHT
TZOFFSETFROM:-0700
TZOFFSETTO:-0600
TZNAME:MDT
DTSTART:20250309T090000
END:DAYLIGHT
BEGIN:STANDARD
TZOFFSETFROM:-0600
TZOFFSETTO:-0700
TZNAME:MST
DTSTART:20251102T080000
END:STANDARD
BEGIN:DAYLIGHT
TZOFFSETFROM:-0700
TZOFFSETTO:-0600
TZNAME:MDT
DTSTART:20260308T090000
END:DAYLIGHT
BEGIN:STANDARD
TZOFFSETFROM:-0600
TZOFFSETTO:-0700
TZNAME:MST
DTSTART:20261101T080000
END:STANDARD
BEGIN:DAYLIGHT
TZOFFSETFROM:-0700
TZOFFSETTO:-0600
TZNAME:MDT
DTSTART:20270314T090000
END:DAYLIGHT
BEGIN:STANDARD
TZOFFSETFROM:-0600
TZOFFSETTO:-0700
TZNAME:MST
DTSTART:20271107T080000
END:STANDARD
END:VTIMEZONE
BEGIN:VEVENT
DTSTART;TZID=America/Denver:20260325T180000
DTEND;TZID=America/Denver:20260325T200000
DTSTAMP:20260421T220817
CREATED:20250515T132749Z
LAST-MODIFIED:20250515T132749Z
UID:10000425-1774461600-1774468800@www.talkdeath.com
SUMMARY:Death Cafe
DESCRIPTION:The Lotus Center Death Cafe is open to the public and typically consists of an agenda-free discussion of death . Our objective will be to increase awareness of death with a view to helping people make the most of their (finite) lives. Dinner will be served. \nAll ages welcome. This is a safe\, judgement-free\, no-fixing zone. Every belief is welcome.
URL:https://www.talkdeath.com/event/death-cafe-4/2026-03-25/
LOCATION:The Lotus Center\, 4376 South 700 East #200\, Millcreek\, UT\, 84124\, United States
CATEGORIES:Death Cafe
END:VEVENT
BEGIN:VEVENT
DTSTART;TZID=America/Denver:20260225T180000
DTEND;TZID=America/Denver:20260225T200000
DTSTAMP:20260421T220817
CREATED:20250515T132749Z
LAST-MODIFIED:20250515T132749Z
UID:10000424-1772042400-1772049600@www.talkdeath.com
SUMMARY:Death Cafe
DESCRIPTION:The Lotus Center Death Cafe is open to the public and typically consists of an agenda-free discussion of death . Our objective will be to increase awareness of death with a view to helping people make the most of their (finite) lives. Dinner will be served. \nAll ages welcome. This is a safe\, judgement-free\, no-fixing zone. Every belief is welcome.
URL:https://www.talkdeath.com/event/death-cafe-4/2026-02-25/
LOCATION:The Lotus Center\, 4376 South 700 East #200\, Millcreek\, UT\, 84124\, United States
CATEGORIES:Death Cafe
END:VEVENT
BEGIN:VEVENT
DTSTART;TZID=America/Denver:20260128T180000
DTEND;TZID=America/Denver:20260128T200000
DTSTAMP:20260421T220817
CREATED:20250515T132749Z
LAST-MODIFIED:20250515T132749Z
UID:10000423-1769623200-1769630400@www.talkdeath.com
SUMMARY:Death Cafe
DESCRIPTION:The Lotus Center Death Cafe is open to the public and typically consists of an agenda-free discussion of death . Our objective will be to increase awareness of death with a view to helping people make the most of their (finite) lives. Dinner will be served. \nAll ages welcome. This is a safe\, judgement-free\, no-fixing zone. Every belief is welcome.
URL:https://www.talkdeath.com/event/death-cafe-4/2026-01-28/
LOCATION:The Lotus Center\, 4376 South 700 East #200\, Millcreek\, UT\, 84124\, United States
CATEGORIES:Death Cafe
END:VEVENT
BEGIN:VEVENT
DTSTART;TZID=America/Denver:20251231T180000
DTEND;TZID=America/Denver:20251231T200000
DTSTAMP:20260421T220817
CREATED:20250515T132749Z
LAST-MODIFIED:20250515T132749Z
UID:10000422-1767204000-1767211200@www.talkdeath.com
SUMMARY:Death Cafe
DESCRIPTION:The Lotus Center Death Cafe is open to the public and typically consists of an agenda-free discussion of death . Our objective will be to increase awareness of death with a view to helping people make the most of their (finite) lives. Dinner will be served. \nAll ages welcome. This is a safe\, judgement-free\, no-fixing zone. Every belief is welcome.
URL:https://www.talkdeath.com/event/death-cafe-4/2025-12-31/
LOCATION:The Lotus Center\, 4376 South 700 East #200\, Millcreek\, UT\, 84124\, United States
CATEGORIES:Death Cafe
END:VEVENT
BEGIN:VEVENT
DTSTART;TZID=America/Denver:20251126T180000
DTEND;TZID=America/Denver:20251126T200000
DTSTAMP:20260421T220817
CREATED:20250515T132749Z
LAST-MODIFIED:20250515T132749Z
UID:10000421-1764180000-1764187200@www.talkdeath.com
SUMMARY:Death Cafe
DESCRIPTION:The Lotus Center Death Cafe is open to the public and typically consists of an agenda-free discussion of death . Our objective will be to increase awareness of death with a view to helping people make the most of their (finite) lives. Dinner will be served. \nAll ages welcome. This is a safe\, judgement-free\, no-fixing zone. Every belief is welcome.
URL:https://www.talkdeath.com/event/death-cafe-4/2025-11-26/
LOCATION:The Lotus Center\, 4376 South 700 East #200\, Millcreek\, UT\, 84124\, United States
CATEGORIES:Death Cafe
END:VEVENT
BEGIN:VEVENT
DTSTART;TZID=America/Denver:20251029T180000
DTEND;TZID=America/Denver:20251029T200000
DTSTAMP:20260421T220817
CREATED:20250515T132749Z
LAST-MODIFIED:20250515T132749Z
UID:10000420-1761760800-1761768000@www.talkdeath.com
SUMMARY:Death Cafe
DESCRIPTION:The Lotus Center Death Cafe is open to the public and typically consists of an agenda-free discussion of death . Our objective will be to increase awareness of death with a view to helping people make the most of their (finite) lives. Dinner will be served. \nAll ages welcome. This is a safe\, judgement-free\, no-fixing zone. Every belief is welcome.
URL:https://www.talkdeath.com/event/death-cafe-4/2025-10-29/
LOCATION:The Lotus Center\, 4376 South 700 East #200\, Millcreek\, UT\, 84124\, United States
CATEGORIES:Death Cafe
END:VEVENT
BEGIN:VEVENT
DTSTART;TZID=America/Denver:20250924T180000
DTEND;TZID=America/Denver:20250924T200000
DTSTAMP:20260421T220817
CREATED:20250515T132749Z
LAST-MODIFIED:20250515T132749Z
UID:10000419-1758736800-1758744000@www.talkdeath.com
SUMMARY:Death Cafe
DESCRIPTION:The Lotus Center Death Cafe is open to the public and typically consists of an agenda-free discussion of death . Our objective will be to increase awareness of death with a view to helping people make the most of their (finite) lives. Dinner will be served. \nAll ages welcome. This is a safe\, judgement-free\, no-fixing zone. Every belief is welcome.
URL:https://www.talkdeath.com/event/death-cafe-4/2025-09-24/
LOCATION:The Lotus Center\, 4376 South 700 East #200\, Millcreek\, UT\, 84124\, United States
CATEGORIES:Death Cafe
END:VEVENT
BEGIN:VEVENT
DTSTART;TZID=America/Denver:20250827T180000
DTEND;TZID=America/Denver:20250827T200000
DTSTAMP:20260421T220817
CREATED:20250515T132749Z
LAST-MODIFIED:20250515T132749Z
UID:10000418-1756317600-1756324800@www.talkdeath.com
SUMMARY:Death Cafe
DESCRIPTION:The Lotus Center Death Cafe is open to the public and typically consists of an agenda-free discussion of death . Our objective will be to increase awareness of death with a view to helping people make the most of their (finite) lives. Dinner will be served. \nAll ages welcome. This is a safe\, judgement-free\, no-fixing zone. Every belief is welcome.
URL:https://www.talkdeath.com/event/death-cafe-4/2025-08-27/
LOCATION:The Lotus Center\, 4376 South 700 East #200\, Millcreek\, UT\, 84124\, United States
CATEGORIES:Death Cafe
END:VEVENT
BEGIN:VEVENT
DTSTART;TZID=America/Denver:20250730T180000
DTEND;TZID=America/Denver:20250730T200000
DTSTAMP:20260421T220817
CREATED:20250515T132749Z
LAST-MODIFIED:20250515T132749Z
UID:10000417-1753898400-1753905600@www.talkdeath.com
SUMMARY:Death Cafe
DESCRIPTION:The Lotus Center Death Cafe is open to the public and typically consists of an agenda-free discussion of death . Our objective will be to increase awareness of death with a view to helping people make the most of their (finite) lives. Dinner will be served. \nAll ages welcome. This is a safe\, judgement-free\, no-fixing zone. Every belief is welcome.
URL:https://www.talkdeath.com/event/death-cafe-4/2025-07-30/
LOCATION:The Lotus Center\, 4376 South 700 East #200\, Millcreek\, UT\, 84124\, United States
CATEGORIES:Death Cafe
END:VEVENT
BEGIN:VEVENT
DTSTART;TZID=America/Denver:20250625T180000
DTEND;TZID=America/Denver:20250625T200000
DTSTAMP:20260421T220817
CREATED:20250515T132749Z
LAST-MODIFIED:20250515T132749Z
UID:10000416-1750874400-1750881600@www.talkdeath.com
SUMMARY:Death Cafe
DESCRIPTION:The Lotus Center Death Cafe is open to the public and typically consists of an agenda-free discussion of death . Our objective will be to increase awareness of death with a view to helping people make the most of their (finite) lives. Dinner will be served. \nAll ages welcome. This is a safe\, judgement-free\, no-fixing zone. Every belief is welcome.
URL:https://www.talkdeath.com/event/death-cafe-4/2025-06-25/
LOCATION:The Lotus Center\, 4376 South 700 East #200\, Millcreek\, UT\, 84124\, United States
CATEGORIES:Death Cafe
END:VEVENT
BEGIN:VEVENT
DTSTART;TZID=America/Denver:20250528T180000
DTEND;TZID=America/Denver:20250528T200000
DTSTAMP:20260421T220817
CREATED:20250515T132749Z
LAST-MODIFIED:20250515T132749Z
UID:10000415-1748455200-1748462400@www.talkdeath.com
SUMMARY:Death Cafe
DESCRIPTION:The Lotus Center Death Cafe is open to the public and typically consists of an agenda-free discussion of death . Our objective will be to increase awareness of death with a view to helping people make the most of their (finite) lives. Dinner will be served. \nAll ages welcome. This is a safe\, judgement-free\, no-fixing zone. Every belief is welcome.
URL:https://www.talkdeath.com/event/death-cafe-4/2025-05-28/
LOCATION:The Lotus Center\, 4376 South 700 East #200\, Millcreek\, UT\, 84124\, United States
CATEGORIES:Death Cafe
END:VEVENT
END:VCALENDAR